Workbook
Name Dag: #REF!
Name Dager: #REF!
Name dato: #REF!
Name Feilmelding: #REF!
Name FilNavn: [1]Oppslagstabeller!$N$5
Name Fjorårstall: #REF!
Name Koder2a: #REF!
Name kvartal: #REF!
Name Måned: #REF!
Name OppslagsKolonneDataVerdi: #REF!
Name OppslagsKolonneSelskapNavn: #REF!
Name Selskap: [1]Oppslagstabeller!$N$4
Name SelskapKolonneIndeks: [1]!Tabell3[#All]
Name SelskapListe: #REF!
Name Selskapsliste: [1]Oppslagstabeller!$A$1:$G$36
Name UtfylteTall: #REF!
Name år: #REF!
Name ÅrFratrekk: #REF!

Sheet Forside

Sheet Innhold
C2: INNHOLDSFORTEGNELSE
A6: FIGURER
B7: Figur 1 | C7: Brutto forfalt premie livprodukter - produkter uten investeringsvalg
B8: Figur 2 | C8: Brutto forfalt premie livprodukter - produkter med investeringsvalg
B9: Figur 3 | C9: Forsikringsforpliktelser livprodukter - produkter uten investeringsvalg
B10: Figur 4 | C10: Forsikringsforpliktelser livprodukter - produkter med investeringsvalg
B11: Figur 5 | C11: Netto tilflytting livprodukter - produkter uten investeringsvalg
B12: Figur 6 | C12: Netto tilflytting livprodukter - produkter med investeringsvalg
A14: TABELLER
B15: MARKEDSDEL
B16: Tabell 1.1 | C16: Hovedtall - produkter uten og med investeringsvalg
B17: Tabell 1.2 | C17: Hovedtall - fordelt på bransjer
B18: Tabell 1.3 | C18: Hovedtall - aktivaposter
B19: Skjema total MA | C19: Totalt - alle produkter
B20: Selskapsnavn | C20: Tall pr. selskap - alle produkter
B22: REGNSKAPSDEL
B23: Tabell 4 | C23: Resultatregnskap - alle produkter
B24: Tabell 5.1 | C24: Resultatanalyse - Individuell kapital og individuell pensjon - alle produkter
B25: Tabell 5.2 | C25: Resultatanalyse - Kollektiv pensjon - alle produkter
B26: Tabell 5.3 | C26: Resultatanalyse - Gruppeliv, ulykke o.a. og total - alle produkter
B27: Tabell 6 | C27: Balanse - alle produkter
B28: Tabell 7a | C28: Spesifikasjon av post 12 - forsikringsforpliktelser - produkter uten investeringsvalg
B29: Tabell 7b | C29: Spesifikasjon post 13 forsikringsforpliktelser - produkter med investeringsvalg
B30: Tabell 8 | C30: Diverse nøkkeltall - produkter uten investeringsvalg
A33: NOTER OG KOMMENTARER

Sheet Figurer
A1: Tilbake
A3: FIGURER
A5: Figur 1 Brutto forfalt premie livprodukter - produkter uten investeringsvalg pr. 31.03. | L5: Brutto forfalt premie livprodukter
L6: Produkter uten investeringsvalg
M7: 2025 | N7: 2026
L8: DNB Liv | M8: ='Tabel 1.1'!B9 -> 1249688 | N8: ='Tabel 1.1'!C9 -> 1251034.2
L9: Euro Accident | M9: ='Tabel 1.1'!B10 -> 30761 | N9: ='Tabel 1.1'!C10 -> 46204
L10: Fremtind | M10: ='Tabel 1.1'!B11 -> 1271137.3 | N10: ='Tabel 1.1'!C11 -> 1220218.7
L11: Frende Livsfors | M11: ='Tabel 1.1'!B12 -> 713825 | N11: ='Tabel 1.1'!C12 -> 787243
L12: Frende Skade | M12: ='Tabel 1.1'!B13 -> 287.337 | N12: ='Tabel 1.1'!C13 -> 25.519
L13: Gjensidige Fors | M13: ='Tabel 1.1'!B14 -> 1611395.2 | N13: ='Tabel 1.1'!C14 -> 1562214.5
L14: Gjensidige Pensj | M14: ='Tabel 1.1'!B15 -> 361354 | N14: ='Tabel 1.1'!C15 -> 385947
L15: If Skadefors | M15: ='Tabel 1.1'!B16 -> 306096.55 | N15: ='Tabel 1.1'!C16 -> 344301.02
L16: KLP | M16: ='Tabel 1.1'!B17 -> 8049379.8 | N16: ='Tabel 1.1'!C17 -> 8744623.9
L17: KLP Skadef | M17: ='Tabel 1.1'!B18 -> 234700.55 | N17: ='Tabel 1.1'!C18 -> 696348.86
L18: Knif Trygghet | M18: ='Tabel 1.1'!B19 -> 0 | N18: ='Tabel 1.1'!C19 -> 53091
L19: Landkreditt Fors. | M19: ='Tabel 1.1'!B20 -> 82536 | N19: ='Tabel 1.1'!C20 -> 71658
... L30: Youplus Livsf | M30: ='Tabel 1.1'!B31 -> 43878 | N30: ='Tabel 1.1'!C31 -> 16577
A31: Figur 2 Brutto forfalt premie livprodukter - produkter med investeringsvalg pr. 31.03.
L32: Brutto forfalt premie livprodukter
L33: Produkter med investeringsvalg
M34: =M7 -> 2025 | N34: =N7 -> 2026
L35: DNB Liv | M35: ='Tabel 1.1'!B35 -> 4416210.9 | N35: ='Tabel 1.1'!C35 -> 4595185.2
L36: Gjensidige Pensj | M36: ='Tabel 1.1'!B36 -> 1741309 | N36: ='Tabel 1.1'!C36 -> 1912502
L37: KLP | M37: ='Tabel 1.1'!B37 -> 20929.275 | N37: ='Tabel 1.1'!C37 -> 30212.771
L38: Nordea Liv | M38: ='Tabel 1.1'!B38 -> 4781667.1 | N38: ='Tabel 1.1'!C38 -> 5869756.9
L39: SpareBank 1 Forsikring | M39: ='Tabel 1.1'!B39 -> 2096095 | N39: ='Tabel 1.1'!C39 -> 2204043.3
L40: Storebrand Liv | M40: ='Tabel 1.1'!B40 -> 4815430.6 | N40: ='Tabel 1.1'!C40 -> 4843337.4
L50: Forsikringsforpliktelser i livsforsikring
L51: Produkter uten investeringsvalg
M52: =M7 -> 2025 | N52: =N7 -> 2026
L53: DNB Liv | M53: ='Tabel 1.1'!G9 -> 1.796844e+08 | N53: ='Tabel 1.1'!H9 -> 1.7851775e+08
L54: Euro Accident | M54: ='Tabel 1.1'!G10 -> 0 | N54: ='Tabel 1.1'!H10 -> 0
L55: Fremtind | M55: ='Tabel 1.1'!G11 -> 6000495.2 | N55: ='Tabel 1.1'!H11 -> 6592758.2
A56: Figur 3 Forsikringsforpliktelser i livsforsikring - produkter uten investeringsvalg pr. 31.03. | L56: Frende Livsfors | M56: ='Tabel 1.1'!G12 -> 2437488 | N56: ='Tabel 1.1'!H12 -> 2794309
L57: Gjensidige Fors | M57: ='Tabel 1.1'!G13 -> 0 | N57: ='Tabel 1.1'!H13 -> 0
L58: Gjensidige Pensj | M58: ='Tabel 1.1'!G15 -> 11279029 | N58: ='Tabel 1.1'!H15 -> 12086275
L59: If Skadefors | M59: ='Tabel 1.1'!G16 -> 0 | N59: ='Tabel 1.1'!H16 -> 0
L60: KLP | M60: ='Tabel 1.1'!G17 -> 7.9481268e+08 | N60: ='Tabel 1.1'!H17 -> 8.7626527e+08
L61: KLP Skadef | M61: ='Tabel 1.1'!G18 -> 173603.85 | N61: ='Tabel 1.1'!H18 -> 284694.43
...

Sheet Tabel 1.1
A1: Markedsdel, endelig år | B1: Tilbake
A2: Tabell 1.1 Hovedtall
A3: Produkter med og uten investeringsvalg
A4: 31.03.
B5: Brutto forfalt premie 1) | G5: Forsikringsforpliktelser 4) | L5: Flytting fra andre | N5: Flytting til andre
D6: %- | E6: Markeds- | I6: %- | J6: Markeds-
A7: Beløp i 1000 kroner | B7: 2025 | C7: 2026 | D7: endring | E7: andel | G7: 2025 | H7: 2026 | I7: endring | J7: andel | L7: 2015 | M7: 2016 | N7: 2015 | O7: 2016 | P7: Q10
A8: Produkter uten investeringsvalg | L8: Produkter uten investeringsvalg | P8: R10
A9: DNB Livsforsikring | B9: ='DNB Livsforsikring'!B7+'DNB Livsforsikring'!B22+'DNB Livsforsikring'!B36+'DNB Livsforsikring'!B47+'DNB Livsforsikring'!B66+'DNB Livsforsikring'!B134 -> 1249688 | C9: ='DNB Livsforsikring'!C7+'DNB Livsforsikring'!C22+'DNB Livsforsikring'!C36+'DNB Livsforsikring'!C47+'DNB Livsforsikring'!C66+'DNB Livsforsikring'!C134 -> 1251034.2 | D9: =IF(B9=0, " ---- ", IF(ABS(ROUND(100/B9*C9-100,1))<999,ROUND(100/B9*C9-100,1),IF(ROUND(100/B9*C9-100,1)>999,999,-999))) -> 0.1 | E9: =100/C$32*C9 -> 5.9160382 | G9: ='DNB Livsforsikring'!B10+'DNB Livsforsikring'!B29+'DNB Livsforsikring'!B37+'DNB Livsforsikring'!B87+'DNB Livsforsikring'!B135 -> 1.796844e+08 | H9: ='DNB Livsforsikring'!C10+'DNB Livsforsikring'!C29+'DNB Livsforsikring'!C37+'DNB Livsforsikring'!C87+'DNB Livsforsikring'!C135 -> 1.7851775e+08 | I9: =IF(G9=0, " ---- ", IF(ABS(ROUND(100/G9*H9-100,1))<999,ROUND(100/G9*H9-100,1),IF(ROUND(100/G9*H9-100,1)>999,999,-999))) -> -0.6 | J9: =100/H$32*H9 -> 12.01872 | K9: R7 | L9: =INDIRECT("'" &#REF! & "'!" & $P$7) -> #REF! | M9: =INDIRECT("'" &#REF! & "'!" & $P$8) -> #REF! | N9: =INDIRECT("'" &#REF! & "'!" &#REF!) -> #REF! | O9: =INDIRECT("'" &#REF! & "'!" & $P$9) -> #REF! | P9: R11
A10: Euro Accident | B10: ='Euro Accident'!B7+'Euro Accident'!B22+'Euro Accident'!B36+'Euro Accident'!B47+'Euro Accident'!B66+'Euro Accident'!B134 -> 30761 | C10: ='Euro Accident'!C7+'Euro Accident'!C22+'Euro Accident'!C36+'Euro Accident'!C47+'Euro Accident'!C66+'Euro Accident'!C134 -> 46204 | D10: =IF(B10=0, " ---- ", IF(ABS(ROUND(100/B10*C10-100,1))<999,ROUND(100/B10*C10-100,1),IF(ROUND(100/B10*C10-100,1)>999,999,-999))) -> 50.2 | E10: =100/C$32*C10 -> 0.21849492
A11: Fremtind | B11: =Fremtind!B7+Fremtind!B22+Fremtind!B36+Fremtind!B47+Fremtind!B66+Fremtind!B134 -> 1271137.3 | C11: =Fremtind!C7+Fremtind!C22+Fremtind!C36+Fremtind!C47+Fremtind!C66+Fremtind!C134 -> 1220218.7 | D11: =IF(B11=0, " ---- ", IF(ABS(ROUND(100/B11*C11-100,1))<999,ROUND(100/B11*C11-100,1),IF(ROUND(100/B11*C11-100,1)>999,999,-999))) -> -4 | E11: =100/C$32*C11 -> 5.7703141 | G11: =Fremtind!B10+Fremtind!B29+Fremtind!B37+Fremtind!B87+Fremtind!B135 -> 6000495.2 | H11: =Fremtind!C10+Fremtind!C29+Fremtind!C37+Fremtind!C87+Fremtind!C135 -> 6592758.2 | I11: =IF(G11=0, " ---- ", IF(ABS(ROUND(100/G11*H11-100,1))<999,ROUND(100/G11*H11-100,1),IF(ROUND(100/G11*H11-100,1)>999,999,-999))) -> 9.9 | J11: =100/H$32*H11 -> 0.44385791 | K11: R8 | L11: =INDIRECT("'" &#REF! & "'!" & $P$7) -> #REF! | M11: =INDIRECT("'" &#REF! & "'!" & $P$8) -> #REF! | N11: =INDIRECT("'" &#REF! & "'!" &#REF!) -> #REF! | O11: =INDIRECT("'" &#REF! & "'!" & $P$9) -> #REF!
A12: Frende Livsforsikring | B12: ='Frende Livsforsikring'!B7+'Frende Livsforsikring'!B22+'Frende Livsforsikring'!B36+'Frende Livsforsikring'!B47+'Frende Livsforsikring'!B66+'Frende Livsforsikring'!B134 -> 713825 | C12: ='Frende Livsforsikring'!C7+'Frende Livsforsikring'!C22+'Frende Livsforsikring'!C36+'Frende Livsforsikring'!C47+'Frende Livsforsikring'!C66+'Frende Livsforsikring'!C134 -> 787243 | D12: =IF(B12=0, " ---- ", IF(ABS(ROUND(100/B12*C12-100,1))<999,ROUND(100/B12*C12-100,1),IF(ROUND(100/B12*C12-100,1)>999,999,-999))) -> 10.3 | E12: =100/C$32*C12 -> 3.7228075 | G12: ='Frende Livsforsikring'!B10+'Frende Livsforsikring'!B29+'Frende Livsforsikring'!B37+'Frende Livsforsikring'!B87+'Frende Livsforsikring'!B135 -> 2437488 | H12: ='Frende Livsforsikring'!C10+'Frende Livsforsikring'!C29+'Frende Livsforsikring'!C37+'Frende Livsforsikring'!C87+'Frende Livsforsikring'!C135 -> 2794309 | I12: =IF(G12=0, " ---- ", IF(ABS(ROUND(100/G12*H12-100,1))<999,ROUND(100/G12*H12-100,1),IF(ROUND(100/G12*H12-100,1)>999,999,-999))) -> 14.6 | J12: =100/H$32*H12 -> 0.18812705
A13: Frende Skadeforsikring | B13: ='Frende Skadeforsikring'!B7+'Frende Skadeforsikring'!B22+'Frende Skadeforsikring'!B36+'Frende Skadeforsikring'!B47+'Frende Skadeforsikring'!B66+'Frende Skadeforsikring'!B134 -> 287.337 | C13: ='Frende Skadeforsikring'!C7+'Frende Skadeforsikring'!C22+'Frende Skadeforsikring'!C36+'Frende Skadeforsikring'!C47+'Frende Skadeforsikring'!C66+'Frende Skadeforsikring'!C134 -> 25.519 | D13: =IF(B13=0, " ---- ", IF(ABS(ROUND(100/B13*C13-100,1))<999,ROUND(100/B13*C13-100,1),IF(ROUND(100/B13*C13-100,1)>999,999,-999))) -> -91.1 | E13: =100/C$32*C13 -> 0.00012067726 | K13: Q9 | L13: =INDIRECT("'" & $A12 & "'!" & $P$7) -> 0 | M13: =INDIRECT("'" & $A12 & "'!" & $P$8) -> 0 | N13: =INDIRECT("'" & $A12 & "'!" &#REF!) -> #REF! | O13: =INDIRECT("'" & $A12 & "'!" & $P$9) -> 0
A14: Gjensidige Forsikring | B14: ='Gjensidige Forsikring'!B7+'Gjensidige Forsikring'!B22+'Gjensidige Forsikring'!B36+'Gjensidige Forsikring'!B47+'Gjensidige Forsikring'!B66+'Gjensidige Forsikring'!B134 -> 1611395.2 | C14: ='Gjensidige Forsikring'!C7+'Gjensidige Forsikring'!C22+'Gjensidige Forsikring'!C36+'Gjensidige Forsikring'!C47+'Gjensidige Forsikring'!C66+'Gjensidige Forsikring'!C134 -> 1562214.5 | D14: =IF(B14=0, " ---- ", IF(ABS(ROUND(100/B14*C14-100,1))<999,ROUND(100/B14*C14-100,1),IF(ROUND(100/B14*C14-100,1)>999,999,-999))) -> -3.1 | E14: =100/C$32*C14 -> 7.3875843 | K14: R9 | L14: =INDIRECT("'" & $A13 & "'!" & $P$7) -> 0 | M14: =INDIRECT("'" & $A13 & "'!" & $P$8) -> 0 | N14: =INDIRECT("'" & $A13 & "'!" &#REF!) -> #REF! | O14: =INDIRECT("'" & $A13 & "'!" & $P$9) -> 0
A15: Gjensidige Pensjon | B15: ='Gjensidige Pensjon'!B7+'Gjensidige Pensjon'!B22+'Gjensidige Pensjon'!B36+'Gjensidige Pensjon'!B47+'Gjensidige Pensjon'!B66+'Gjensidige Pensjon'!B134 -> 361354 | C15: ='Gjensidige Pensjon'!C7+'Gjensidige Pensjon'!C22+'Gjensidige Pensjon'!C36+'Gjensidige Pensjon'!C47+'Gjensidige Pensjon'!C66+'Gjensidige Pensjon'!C134 -> 385947 | D15: =IF(B15=0, " ---- ", IF(ABS(ROUND(100/B15*C15-100,1))<999,ROUND(100/B15*C15-100,1),IF(ROUND(100/B15*C15-100,1)>999,999,-999))) -> 6.8 | E15: =100/C$32*C15 -> 1.8251117 | G15: ='Gjensidige Pensjon'!B10+'Gjensidige Pensjon'!B29+'Gjensidige Pensjon'!B37+'Gjensidige Pensjon'!B87+'Gjensidige Pensjon'!B135 -> 11279029 | H15: ='Gjensidige Pensjon'!C10+'Gjensidige Pensjon'!C29+'Gjensidige Pensjon'!C37+'Gjensidige Pensjon'!C87+'Gjensidige Pensjon'!C135 -> 12086275 | I15: =IF(G15=0, " ---- ", IF(ABS(ROUND(100/G15*H15-100,1))<999,ROUND(100/G15*H15-100,1),IF(ROUND(100/G15*H15-100,1)>999,999,-999))) -> 7.2 | J15: =100/H$32*H15 -> 0.81370931 | K15: Q10 | L15: =INDIRECT("'" & $A14 & "'!" & $P$7) -> 0 | M15: =INDIRECT("'" & $A14 & "'!" & $P$8) -> 0 | N15: =INDIRECT("'" & $A14 & "'!" &#REF!) -> #REF! | O15: =INDIRECT("'" & $A14 & "'!" & $P$9) -> 0
A16: If Skadeforsikring NUF | B16: ='If Skadeforsikring NUF'!B7+'If Skadeforsikring NUF'!B22+'If Skadeforsikring NUF'!B36+'If Skadeforsikring NUF'!B47+'If Skadeforsikring NUF'!B66+'If Skadeforsikring NUF'!B134 -> 306096.55 | C16: ='If Skadeforsikring NUF'!C7+'If Skadeforsikring NUF'!C22+'If Skadeforsikring NUF'!C36+'If Skadeforsikring NUF'!C47+'If Skadeforsikring NUF'!C66+'If Skadeforsikring NUF'!C134 -> 344301.02 | D16: =IF(B16=0, " ---- ", IF(ABS(ROUND(100/B16*C16-100,1))<999,ROUND(100/B16*C16-100,1),IF(ROUND(100/B16*C16-100,1)>999,999,-999))) -> 12.5 | E16: =100/C$32*C16 -> 1.6281713 | L16: =INDIRECT("'" &#REF! & "'!" & $P$7) -> #REF! | M16: =INDIRECT("'" &#REF! & "'!" & $P$8) -> #REF! | N16: =INDIRECT("'" &#REF! & "'!" &#REF!) -> #REF! | O16: =INDIRECT("'" &#REF! & "'!" & $P$9) -> #REF!
A17: KLP | B17: =KLP!B7+KLP!B22+KLP!B36+KLP!B47+KLP!B66+KLP!B134 -> 8049379.8 | C17: =KLP!C7+KLP!C22+KLP!C36+KLP!C47+KLP!C66+KLP!C134 -> 8744623.9 | D17: =IF(B17=0, " ---- ", IF(ABS(ROUND(100/B17*C17-100,1))<999,ROUND(100/B17*C17-100,1),IF(ROUND(100/B17*C17-100,1)>999,999,-999))) -> 8.6 | E17: =100/C$32*C17 -> 41.352609 | G17: =KLP!B10+KLP!B29+KLP!B37+KLP!B87+KLP!B135 -> 7.9481268e+08 | H17: =KLP!C10+KLP!C29+KLP!C37+KLP!C87+KLP!C135 -> 8.7626527e+08 | I17: =IF(G17=0, " ---- ", IF(ABS(ROUND(100/G17*H17-100,1))<999,ROUND(100/G17*H17-100,1),IF(ROUND(100/G17*H17-100,1)>999,999,-999))) -> 10.2 | J17: =100/H$32*H17 -> 58.994621 | L17: =INDIRECT("'" &#REF! & "'!" & $P$7) -> #REF! | M17: =INDIRECT("'" &#REF! & "'!" & $P$8) -> #REF! | N17: =INDIRECT("'" &#REF! & "'!" &#REF!) -> #REF! | O17: =INDIRECT("'" &#REF! & "'!" & $P$9) -> #REF!
A18: KLP Skadeforsikring AS | B18: ='KLP Skadeforsikring AS'!B7+'KLP Skadeforsikring AS'!B22+'KLP Skadeforsikring AS'!B36+'KLP Skadeforsikring AS'!B47+'KLP Skadeforsikring AS'!B66+'KLP Skadeforsikring AS'!B134 -> 234700.55 | C18: ='KLP Skadeforsikring AS'!C7+'KLP Skadeforsikring AS'!C22+'KLP Skadeforsikring AS'!C36+'KLP Skadeforsikring AS'!C47+'KLP Skadeforsikring AS'!C66+'KLP Skadeforsikring AS'!C134 -> 696348.86 | D18: =IF(B18=0, " ---- ", IF(ABS(ROUND(100/B18*C18-100,1))<999,ROUND(100/B18*C18-100,1),IF(ROUND(100/B18*C18-100,1)>999,999,-999))) -> 196.7 | E18: =100/C$32*C18 -> 3.2929766 | G18: ='KLP Skadeforsikring AS'!B10+'KLP Skadeforsikring AS'!B29+'KLP Skadeforsikring AS'!B37+'KLP Skadeforsikring AS'!B87+'KLP Skadeforsikring AS'!B135 -> 173603.85 | H18: ='KLP Skadeforsikring AS'!C10+'KLP Skadeforsikring AS'!C29+'KLP Skadeforsikring AS'!C37+'KLP Skadeforsikring AS'!C87+'KLP Skadeforsikring AS'!C135 -> 284694.43 | I18: =IF(G18=0, " ---- ", IF(ABS(ROUND(100/G18*H18-100,1))<999,ROUND(100/G18*H18-100,1),IF(ROUND(100/G18*H18-100,1)>999,999,-999))) -> 64 | J18: =100/H$32*H18 -> 0.019167072 | L18: =INDIRECT("'" & $A31 & "'!" & $P$7) -> 0 | M18: =INDIRECT("'" & $A31 & "'!" & $P$8) -> 0 | N18: =INDIRECT("'" & $A31 & "'!" &#REF!) -> #REF! | O18: =INDIRECT("'" & $A31 & "'!" & $P$9) -> 0
A19: Knif Trygghet Forsikring | B19: ='Knif Trygghet Forsikring'!B7+'Knif Trygghet Forsikring'!B22+'Knif Trygghet Forsikring'!B36+'Knif Trygghet Forsikring'!B47+'Knif Trygghet Forsikring'!B66+'Knif Trygghet Forsikring'!B134 -> 0 | C19: ='Knif Trygghet Forsikring'!C7+'Knif Trygghet Forsikring'!C22+'Knif Trygghet Forsikring'!C36+'Knif Trygghet Forsikring'!C47+'Knif Trygghet Forsikring'!C66+'Knif Trygghet Forsikring'!C134 -> 53091 | D19: =IF(B19=0, " ---- ", IF(ABS(ROUND(100/B19*C19-100,1))<999,ROUND(100/B19*C19-100,1),IF(ROUND(100/B19*C19-100,1)>999,999,-999))) -> ---- | E19: =100/C$32*C19 -> 0.25106298 | G19: ='Knif Trygghet Forsikring'!B10+'Knif Trygghet Forsikring'!B29+'Knif Trygghet Forsikring'!B37+'Knif Trygghet Forsikring'!B87+'Knif Trygghet Forsikring'!B66+'Knif Trygghet Forsikring'!B135 -> 0 | H19: ='Knif Trygghet Forsikring'!C10+'Knif Trygghet Forsikring'!C29+'Knif Trygghet Forsikring'!C37+'Knif Trygghet Forsikring'!C87+'Knif Trygghet Forsikring'!C66+'Knif Trygghet Forsikring'!C135 -> 3595 | I19: =IF(G19=0, " ---- ", IF(ABS(ROUND(100/G19*H19-100,1))<999,ROUND(100/G19*H19-100,1),IF(ROUND(100/G19*H19-100,1)>999,999,-999))) -> ---- | J19: =100/H$32*H19 -> 0.00024203363
A20: Landkreditt Forsikring | B20: ='Landkreditt Forsikring AS'!B7+'Landkreditt Forsikring AS'!B22+'Landkreditt Forsikring AS'!B36+'Landkreditt Forsikring AS'!B47+'Landkreditt Forsikring AS'!B66+'Landkreditt Forsikring AS'!B134 -> 82536 | C20: ='Landkreditt Forsikring AS'!C7+'Landkreditt Forsikring AS'!C22+'Landkreditt Forsikring AS'!C36+'Landkreditt Forsikring AS'!C47+'Landkreditt Forsikring AS'!C66+'Landkreditt Forsikring AS'!C134 -> 71658 | D20: =IF(B20=0, " ---- ", IF(ABS(ROUND(100/B20*C20-100,1))<999,ROUND(100/B20*C20-100,1),IF(ROUND(100/B20*C20-100,1)>999,999,-999))) -> -13.2 | E20: =100/C$32*C20 -> 0.3388648 | L20: =INDIRECT("'" & $A18 & "'!" & $P$7) -> 0 | M20: =INDIRECT("'" & $A18 & "'!" & $P$8) -> 0 | N20: =INDIRECT("'" & $A18 & "'!" &#REF!) -> #REF! | O20: =INDIRECT("'" & $A18 & "'!" & $P$9) -> 0
A21: Ly Forsikring | B21: ='Ly Forsikring'!B7+'Ly Forsikring'!B22+'Ly Forsikring'!B36+'Ly Forsikring'!B47+'Ly Forsikring'!B66+'Ly Forsikring'!B134 -> 15177 | C21: ='Ly Forsikring'!C7+'Ly Forsikring'!C22+'Ly Forsikring'!C36+'Ly Forsikring'!C47+'Ly Forsikring'!C66+'Ly Forsikring'!C134 -> 16314 | D21: =IF(B21=0, " ---- ", IF(ABS(ROUND(100/B21*C21-100,1))<999,ROUND(100/B21*C21-100,1),IF(ROUND(100/B21*C21-100,1)>999,999,-999))) -> 7.5 | E21: =100/C$32*C21 -> 0.077147567
A22: Nordea Liv | B22: ='Nordea Liv '!B7+'Nordea Liv '!B22+'Nordea Liv '!B36+'Nordea Liv '!B47+'Nordea Liv '!B66+'Nordea Liv '!B134 -> 811738.02 | C22: ='Nordea Liv '!C7+'Nordea Liv '!C22+'Nordea Liv '!C36+'Nordea Liv '!C47+'Nordea Liv '!C66+'Nordea Liv '!C134 -> 855566.54 | D22: =IF(B22=0, " ---- ", IF(ABS(ROUND(100/B22*C22-100,1))<999,ROUND(100/B22*C22-100,1),IF(ROUND(100/B22*C22-100,1)>999,999,-999))) -> 5.4 | E22: =100/C$32*C22 -> 4.0459039 | G22: ='Nordea Liv '!B10+'Nordea Liv '!B29+'Nordea Liv '!B37+'Nordea Liv '!B87+'Nordea Liv '!B135 -> 54964640 | H22: ='Nordea Liv '!C10+'Nordea Liv '!C29+'Nordea Liv '!C37+'Nordea Liv '!C87+'Nordea Liv '!C135 -> 56434150 | I22: =IF(G22=0, " ---- ", IF(ABS(ROUND(100/G22*H22-100,1))<999,ROUND(100/G22*H22-100,1),IF(ROUND(100/G22*H22-100,1)>999,999,-999))) -> 2.7 | J22: =100/H$32*H22 -> 3.7994331 | L22: =INDIRECT("'" & $A20 & "'!" & $P$7) -> #REF! | M22: =INDIRECT("'" & $A20 & "'!" & $P$8) -> #REF! | N22: =INDIRECT("'" & $A20 & "'!" &#REF!) -> #REF! | O22: =INDIRECT("'" & $A20 & "'!" & $P$9) -> #REF!
A23: Oslo Forsikring | B23: ='Oslo Forsikring'!B7+'Oslo Forsikring'!B22+'Oslo Forsikring'!B36+'Oslo Forsikring'!B47+'Oslo Forsikring'!B66+'Oslo Forsikring'!B134 -> 8970 | C23: ='Oslo Forsikring'!C7+'Oslo Forsikring'!C22+'Oslo Forsikring'!C36+'Oslo Forsikring'!C47+'Oslo Forsikring'!C66+'Oslo Forsikring'!C134 -> 9386 | D23: =IF(B23=0, " ---- ", IF(ABS(ROUND(100/B23*C23-100,1))<999,ROUND(100/B23*C23-100,1),IF(ROUND(100/B23*C23-100,1)>999,999,-999))) -> 4.6 | E23: =100/C$32*C23 -> 0.044385624
A24: Oslo Pensjonsforsikring | B24: ='Oslo Pensjonsforsikring'!B7+'Oslo Pensjonsforsikring'!B22+'Oslo Pensjonsforsikring'!B36+'Oslo Pensjonsforsikring'!B47+'Oslo Pensjonsforsikring'!B66+'Oslo Pensjonsforsikring'!B134 -> 908116 | C24: ='Oslo Pensjonsforsikring'!C7+'Oslo Pensjonsforsikring'!C22+'Oslo Pensjonsforsikring'!C36+'Oslo Pensjonsforsikring'!C47+'Oslo Pensjonsforsikring'!C66+'Oslo Pensjonsforsikring'!C134 -> 694944 | D24: =IF(B24=0, " ---- ", IF(ABS(ROUND(100/B24*C24-100,1))<999,ROUND(100/B24*C24-100,1),IF(ROUND(100/B24*C24-100,1)>999,999,-999))) -> -23.5 | E24: =100/C$32*C24 -> 3.2863331 | G24: ='Oslo Pensjonsforsikring'!B10+'Oslo Pensjonsforsikring'!B29+'Oslo Pensjonsforsikring'!B37+'Oslo Pensjonsforsikring'!B87+'Oslo Pensjonsforsikring'!B135 -> 97889000 | H24: ='Oslo Pensjonsforsikring'!C10+'Oslo Pensjonsforsikring'!C29+'Oslo Pensjonsforsikring'!C37+'Oslo Pensjonsforsikring'!C87+'Oslo Pensjonsforsikring'!C135 -> 104208000 | I24: =IF(G24=0, " ---- ", IF(ABS(ROUND(100/G24*H24-100,1))<999,ROUND(100/G24*H24-100,1),IF(ROUND(100/G24*H24-100,1)>999,999,-999))) -> 6.5 | J24: =100/H$32*H24 -> 7.0158109 | L24: =INDIRECT("'" & $A22 & "'!" & $P$7) -> 0 | M24: =INDIRECT("'" & $A22 & "'!" & $P$8) -> 0 | N24: =INDIRECT("'" & $A22 & "'!" &#REF!) -> #REF! | O24: =INDIRECT("'" & $A22 & "'!" & $P$9) -> 0
A25: Protector Forsikring | B25: ='Protector Forsikring'!B7+'Protector Forsikring'!B22+'Protector Forsikring'!B36+'Protector Forsikring'!B47+'Protector Forsikring'!B66+'Protector Forsikring'!B134 -> 318529 | C25: ='Protector Forsikring'!C7+'Protector Forsikring'!C22+'Protector Forsikring'!C36+'Protector Forsikring'!C47+'Protector Forsikring'!C66+'Protector Forsikring'!C134 -> 387470 | D25: =IF(B25=0, " ---- ", IF(ABS(ROUND(100/B25*C25-100,1))<999,ROUND(100/B25*C25-100,1),IF(ROUND(100/B25*C25-100,1)>999,999,-999))) -> 21.6 | E25: =100/C$32*C25 -> 1.8323138 | L25: =INDIRECT("'" & $A24 & "'!" & $P$7) -> 0 | M25: =INDIRECT("'" & $A24 & "'!" & $P$8) -> 0 | N25: =INDIRECT("'" & $A24 & "'!" &#REF!) -> #REF! | O25: =INDIRECT("'" & $A24 & "'!" & $P$9) -> 0
A26: SpareBank 1 Forsikring | B26: ='Sparebank 1 Fors.'!B7+'Sparebank 1 Fors.'!B22+'Sparebank 1 Fors.'!B36+'Sparebank 1 Fors.'!B47+'Sparebank 1 Fors.'!B66+'Sparebank 1 Fors.'!B134 -> 287814.85 | C26: ='Sparebank 1 Fors.'!C7+'Sparebank 1 Fors.'!C22+'Sparebank 1 Fors.'!C36+'Sparebank 1 Fors.'!C47+'Sparebank 1 Fors.'!C66+'Sparebank 1 Fors.'!C134 -> 287093.53 | D26: =IF(B26=0, " ---- ", IF(ABS(ROUND(100/B26*C26-100,1))<999,ROUND(100/B26*C26-100,1),IF(ROUND(100/B26*C26-100,1)>999,999,-999))) -> -0.3 | E26: =100/C$32*C26 -> 1.3576418 | G26: ='Sparebank 1 Fors.'!B10+'Sparebank 1 Fors.'!B29+'Sparebank 1 Fors.'!B37+'Sparebank 1 Fors.'!B87+'Sparebank 1 Fors.'!B135 -> 23632770 | H26: ='Sparebank 1 Fors.'!C10+'Sparebank 1 Fors.'!C29+'Sparebank 1 Fors.'!C37+'Sparebank 1 Fors.'!C87+'Sparebank 1 Fors.'!C135 -> 26630201 | I26: =IF(G26=0, " ---- ", IF(ABS(ROUND(100/G26*H26-100,1))<999,ROUND(100/G26*H26-100,1),IF(ROUND(100/G26*H26-100,1)>999,999,-999))) -> 12.7 | J26: =100/H$32*H26 -> 1.7928802 | L26: =INDIRECT("'" & $A25 & "'!" & $P$7) -> 0 | M26: =INDIRECT("'" & $A25 & "'!" & $P$8) -> 0 | N26: =INDIRECT("'" & $A25 & "'!" &#REF!) -> #REF! | O26: =INDIRECT("'" & $A25 & "'!" & $P$9) -> 0
A27: Storebrand Livsforsikring | B27: ='Storebrand Livsforsikring'!B7+'Storebrand Livsforsikring'!B22+'Storebrand Livsforsikring'!B36+'Storebrand Livsforsikring'!B47+'Storebrand Livsforsikring'!B66+'Storebrand Livsforsikring'!B134 -> 2689958.5 | C27: ='Storebrand Livsforsikring'!C7+'Storebrand Livsforsikring'!C22+'Storebrand Livsforsikring'!C36+'Storebrand Livsforsikring'!C47+'Storebrand Livsforsikring'!C66+'Storebrand Livsforsikring'!C134 -> 2940213.9 | D27: =IF(B27=0, " ---- ", IF(ABS(ROUND(100/B27*C27-100,1))<999,ROUND(100/B27*C27-100,1),IF(ROUND(100/B27*C27-100,1)>999,999,-999))) -> 9.3 | E27: =100/C$32*C27 -> 13.90403 | G27: ='Storebrand Livsforsikring'!B10+'Storebrand Livsforsikring'!B29+'Storebrand Livsforsikring'!B37+'Storebrand Livsforsikring'!B87+'Storebrand Livsforsikring'!B135 -> 2.1511862e+08 | H27: ='Storebrand Livsforsikring'!C10+'Storebrand Livsforsikring'!C29+'Storebrand Livsforsikring'!C37+'Storebrand Livsforsikring'!C87+'Storebrand Livsforsikring'!C135 -> 2.2141966e+08 | I27: =IF(G27=0, " ---- ", IF(ABS(ROUND(100/G27*H27-100,1))<999,ROUND(100/G27*H27-100,1),IF(ROUND(100/G27*H27-100,1)>999,999,-999))) -> 2.9 | J27: =100/H$32*H27 -> 14.907094 | L27: =INDIRECT("'" & $A26 & "'!" & $P$7) -> #REF! | M27: =INDIRECT("'" & $A26 & "'!" & $P$8) -> #REF! | N27: =INDIRECT("'" & $A26 & "'!" &#REF!) -> #REF! | O27: =INDIRECT("'" & $A26 & "'!" & $P$9) -> #REF!
A28: Telenor Forsikring | B28: ='Telenor Forsikring'!B7+'Telenor Forsikring'!B22+'Telenor Forsikring'!B36+'Telenor Forsikring'!B47+'Telenor Forsikring'!B66+'Telenor Forsikring'!B134 -> 2290 | C28: ='Telenor Forsikring'!C7+'Telenor Forsikring'!C22+'Telenor Forsikring'!C36+'Telenor Forsikring'!C47+'Telenor Forsikring'!C66+'Telenor Forsikring'!C134 -> 2001 | D28: =IF(B28=0, " ---- ", IF(ABS(ROUND(100/B28*C28-100,1))<999,ROUND(100/B28*C28-100,1),IF(ROUND(100/B28*C28-100,1)>999,999,-999))) -> -12.6 | E28: =100/C$32*C28 -> 0.0094625648 | L28: =INDIRECT("'" & $A27 & "'!" & $P$7) -> 0 | M28: =INDIRECT("'" & $A27 & "'!" & $P$8) -> 0 | N28: =INDIRECT("'" & $A27 & "'!" &#REF!) -> #REF! | O28: =INDIRECT("'" & $A27 & "'!" & $P$9) -> 0
A29: Tryg Forsikring | B29: ='Tryg Forsikring'!B7+'Tryg Forsikring'!B22+'Tryg Forsikring'!B36+'Tryg Forsikring'!B47+'Tryg Forsikring'!B66+'Tryg Forsikring'!B134 -> 758059 | C29: ='Tryg Forsikring'!C7+'Tryg Forsikring'!C22+'Tryg Forsikring'!C36+'Tryg Forsikring'!C47+'Tryg Forsikring'!C66+'Tryg Forsikring'!C134 -> 772427 | D29: =IF(B29=0, " ---- ", IF(ABS(ROUND(100/B29*C29-100,1))<999,ROUND(100/B29*C29-100,1),IF(ROUND(100/B29*C29-100,1)>999,999,-999))) -> 1.9 | E29: =100/C$32*C29 -> 3.6527439 | L29: =INDIRECT("'" & $A28 & "'!" & $P$7) -> 0 | M29: =INDIRECT("'" & $A28 & "'!" & $P$8) -> 0 | N29: =INDIRECT("'" & $A28 & "'!" &#REF!) -> #REF! | O29: =INDIRECT("'" & $A28 & "'!" & $P$9) -> 0
A30: WaterCircles Forsikring | B30: ='WaterCircles F'!B7+'WaterCircles F'!B22+'WaterCircles F'!B36+'WaterCircles F'!B47+'WaterCircles F'!B66+'WaterCircles F'!B136 -> 1680 | C30: ='WaterCircles F'!C7+'WaterCircles F'!C22+'WaterCircles F'!C36+'WaterCircles F'!C47+'WaterCircles F'!C66+'WaterCircles F'!C136 -> 1584 | D30: =IF(B30=0, " ---- ", IF(ABS(ROUND(100/B30*C30-100,1))<999,ROUND(100/B30*C30-100,1),IF(ROUND(100/B30*C30-100,1)>999,999,-999))) -> -5.7 | E30: =100/C$32*C30 -> 0.007490606 | L30: =INDIRECT("'" & $A29 & "'!" & $P$7) -> 0 | M30: =INDIRECT("'" & $A29 & "'!" & $P$8) -> 0 | N30: =INDIRECT("'" & $A29 & "'!" &#REF!) -> #REF! | O30: =INDIRECT("'" & $A29 & "'!" & $P$9) -> 0
A31: Youplus Livsforsikring | B31: ='Youplus Livsforsikring'!B7+'Youplus Livsforsikring'!B22+'Youplus Livsforsikring'!B36+'Youplus Livsforsikring'!B47+'Youplus Livsforsikring'!B66+'Youplus Livsforsikring'!B134 -> 43878 | C31: ='Youplus Livsforsikring'!C7+'Youplus Livsforsikring'!C22+'Youplus Livsforsikring'!C36+'Youplus Livsforsikring'!C47+'Youplus Livsforsikring'!C66+'Youplus Livsforsikring'!C134 -> 16577 | D31: =IF(B31=0, " ---- ", IF(ABS(ROUND(100/B31*C31-100,1))<999,ROUND(100/B31*C31-100,1),IF(ROUND(100/B31*C31-100,1)>999,999,-999))) -> -62.2 | E31: =100/C$32*C31 -> 0.078391272 | G31: ='Youplus Livsforsikring'!B10+'Youplus Livsforsikring'!B29+'Youplus Livsforsikring'!B37+'Youplus Livsforsikring'!B87+'Youplus Livsforsikring'!B135 -> 69378 | H31: ='Youplus Livsforsikring'!C10+'Youplus Livsforsikring'!C29+'Youplus Livsforsikring'!C37+'Youplus Livsforsikring'!C87+'Youplus Livsforsikring'!C135 -> 94134 | I31: =IF(G31=0, " ---- ", IF(ABS(ROUND(100/G31*H31-100,1))<999,ROUND(100/G31*H31-100,1),IF(ROUND(100/G31*H31-100,1)>999,999,-999))) -> 35.7 | J31: =100/H$32*H31 -> 0.0063375781 | L31: =INDIRECT("'" & $A17 & "'!" & $P$7) -> 0 | M31: =INDIRECT("'" & $A17 & "'!" & $P$8) -> 0 | N31: =INDIRECT("'" & $A17 & "'!" &#REF!) -> #REF! | O31: =INDIRECT("'" & $A17 & "'!" & $P$9) -> 0
A32: Totalt uten investeringsvalg | B32: =SUM(B9:B31) -> 19757371 | C32: =SUM(C9:C31) -> 21146487 | D32: =IF(B32=0, " ---- ", IF(ABS(ROUND(100/B32*C32-100,1))<999,ROUND(100/B32*C32-100,1),IF(ROUND(100/B32*C32-100,1)>999,999,-999))) -> 7 | E32: =SUM(E9:E31) -> 100 | G32: =SUM(G9:G31) -> 1.3860621e+09 | H32: =SUM(H9:H31) -> 1.4853308e+09 | I32: =IF(G32=0, " ---- ", IF(ABS(ROUND(100/G32*H32-100,1))<999,ROUND(100/G32*H32-100,1),IF(ROUND(100/G32*H32-100,1)>999,999,-999))) -> 7.2 | J32: =SUM(J9:J31) -> 100 | L32: =SUM(L9:L30) -> #REF! | M32: =SUM(M9:M30) -> #REF! | N32: =SUM(N9:N30) -> #REF! | O32: =SUM(O9:O30) -> #REF!
L33: Produkter med investeringsvalg
A34: Produkter med investeringsvalg | L34: 2015 | M34: 2016 | N34: 2015 | O34: 2016 | P34: Q17
A35: DNB Livsforsikring | B35: ='DNB Livsforsikring'!F7+'DNB Livsforsikring'!F22+'DNB Livsforsikring'!F66+'DNB Livsforsikring'!F134 -> 4416210.9 | C35: ='DNB Livsforsikring'!G7+'DNB Livsforsikring'!G22+'DNB Livsforsikring'!G66+'DNB Livsforsikring'!G134 -> 4595185.2 | D35: =IF(B35=0, " ---- ", IF(ABS(ROUND(100/B35*C35-100,1))<999,ROUND(100/B35*C35-100,1),IF(ROUND(100/B35*C35-100,1)>999,999,-999))) -> 4.1 | E35: =100/C$41*C35 -> 23.619513 | G35: ='DNB Livsforsikring'!F10+'DNB Livsforsikring'!F29+'DNB Livsforsikring'!F87+'DNB Livsforsikring'!F135 -> 2.035687e+08 | H35: ='DNB Livsforsikring'!G10+'DNB Livsforsikring'!G29+'DNB Livsforsikring'!G87+'DNB Livsforsikring'!G135 -> 2.4595765e+08 | I35: =IF(G35=0, " ---- ", IF(ABS(ROUND(100/G35*H35-100,1))<999,ROUND(100/G35*H35-100,1),IF(ROUND(100/G35*H35-100,1)>999,999,-999))) -> 20.8 | J35: =100/H$41*H35 -> 26.276843 | K35: R14 | L35: =INDIRECT("'" & $A35 & "'!" & $P$34) -> 0 | M35: =INDIRECT("'" & $A35 & "'!" &#REF!) -> #REF! | N35: =INDIRECT("'" & $A35 & "'!" & $P$35) -> 0 | O35: =INDIRECT("'"&$A35&"'!"&#REF!) -> #REF! | P35: Q18
A36: Gjensidige Pensjon | B36: ='Gjensidige Pensjon'!F7+'Gjensidige Pensjon'!F22+'Gjensidige Pensjon'!F66+'Gjensidige Pensjon'!F134 -> 1741309 | C36: ='Gjensidige Pensjon'!G7+'Gjensidige Pensjon'!G22+'Gjensidige Pensjon'!G66+'Gjensidige Pensjon'!G134 -> 1912502 | D36: =IF(B36=0, " ---- ", IF(ABS(ROUND(100/B36*C36-100,1))<999,ROUND(100/B36*C36-100,1),IF(ROUND(100/B36*C36-100,1)>999,999,-999))) -> 9.8 | E36: =100/C$41*C36 -> 9.8303692 | G36: ='Gjensidige Pensjon'!F10+'Gjensidige Pensjon'!F29+'Gjensidige Pensjon'!F87+'Gjensidige Pensjon'!F135 -> 76968991 | H36: ='Gjensidige Pensjon'!G10+'Gjensidige Pensjon'!G29+'Gjensidige Pensjon'!G87+'Gjensidige Pensjon'!G135 -> 91000808 | I36: =IF(G36=0, " ---- ", IF(ABS(ROUND(100/G36*H36-100,1))<999,ROUND(100/G36*H36-100,1),IF(ROUND(100/G36*H36-100,1)>999,999,-999))) -> 18.2 | J36: =100/H$41*H36 -> 9.7220556 | K36: R15 | L36: =INDIRECT("'" & $A36 & "'!" & $P$34) -> 0 | M36: =INDIRECT("'" & $A36 & "'!" &#REF!) -> #REF! | N36: =INDIRECT("'" & $A36 & "'!" & $P$35) -> 0 | O36: =INDIRECT("'"&$A36&"'!"&#REF!) -> #REF!
A37: KLP | B37: =KLP!F7+KLP!F22+KLP!F66+KLP!F134 -> 20929.275 | C37: =KLP!G7+KLP!G22+KLP!G66+KLP!G134 -> 30212.771 | D37: =IF(B37=0, " ---- ", IF(ABS(ROUND(100/B37*C37-100,1))<999,ROUND(100/B37*C37-100,1),IF(ROUND(100/B37*C37-100,1)>999,999,-999))) -> 44.4 | E37: =100/C$41*C37 -> 0.15529536 | G37: =KLP!F10+KLP!F29+KLP!F87+KLP!F135 -> 2888738.1 | H37: =KLP!G10+KLP!G29+KLP!G87+KLP!G135 -> 2410575.5 | I37: =IF(G37=0, " ---- ", IF(ABS(ROUND(100/G37*H37-100,1))<999,ROUND(100/G37*H37-100,1),IF(ROUND(100/G37*H37-100,1)>999,999,-999))) -> -16.6 | J37: =100/H$41*H37 -> 0.25753342 | K37: Q16 | L37: =INDIRECT("'" & $A37 & "'!" & $P$34) -> 0 | M37: =INDIRECT("'" & $A37 & "'!" &#REF!) -> #REF! | N37: =INDIRECT("'" & $A37 & "'!" & $P$35) -> 0 | O37: =INDIRECT("'"&$A37&"'!"&#REF!) -> #REF!
A38: Nordea Liv | B38: ='Nordea Liv '!F7+'Nordea Liv '!F22+'Nordea Liv '!F66+'Nordea Liv '!F134 -> 4781667.1 | C38: ='Nordea Liv '!G7+'Nordea Liv '!G22+'Nordea Liv '!G66+'Nordea Liv '!G134 -> 5869756.9 | D38: =IF(B38=0, " ---- ", IF(ABS(ROUND(100/B38*C38-100,1))<999,ROUND(100/B38*C38-100,1),IF(ROUND(100/B38*C38-100,1)>999,999,-999))) -> 22.8 | E38: =100/C$41*C38 -> 30.170885 | G38: ='Nordea Liv '!F10+'Nordea Liv '!F29+'Nordea Liv '!F87+'Nordea Liv '!F135 -> 177451030 | H38: ='Nordea Liv '!G10+'Nordea Liv '!G29+'Nordea Liv '!G87+'Nordea Liv '!G135 -> 217451090 | I38: =IF(G38=0, " ---- ", IF(ABS(ROUND(100/G38*H38-100,1))<999,ROUND(100/G38*H38-100,1),IF(ROUND(100/G38*H38-100,1)>999,999,-999))) -> 22.5 | J38: =100/H$41*H38 -> 23.23135 | L38: =INDIRECT("'" & $A38 & "'!" & $P$34) -> 0 | M38: =INDIRECT("'" & $A38 & "'!" &#REF!) -> #REF! | N38: =INDIRECT("'" & $A38 & "'!" & $P$35) -> 0 | O38: =INDIRECT("'"&$A38&"'!"&#REF!) -> #REF!
A39: SpareBank 1 Forsikring | B39: ='Sparebank 1 Fors.'!F7+'Sparebank 1 Fors.'!F22+'Sparebank 1 Fors.'!F66+'Sparebank 1 Fors.'!F134 -> 2096095 | C39: ='Sparebank 1 Fors.'!G7+'Sparebank 1 Fors.'!G22+'Sparebank 1 Fors.'!G66+'Sparebank 1 Fors.'!G134 -> 2204043.3 | D39: =IF(B39=0, " ---- ", IF(ABS(ROUND(100/B39*C39-100,1))<999,ROUND(100/B39*C39-100,1),IF(ROUND(100/B39*C39-100,1)>999,999,-999))) -> 5.1 | E39: =100/C$41*C39 -> 11.328908 | G39: ='Sparebank 1 Fors.'!F10+'Sparebank 1 Fors.'!F29+'Sparebank 1 Fors.'!F87+'Sparebank 1 Fors.'!F135 -> 85714630 | H39: ='Sparebank 1 Fors.'!G10+'Sparebank 1 Fors.'!G29+'Sparebank 1 Fors.'!G87+'Sparebank 1 Fors.'!G135 -> 96535673 | I39: =IF(G39=0, " ---- ", IF(ABS(ROUND(100/G39*H39-100,1))<999,ROUND(100/G39*H39-100,1),IF(ROUND(100/G39*H39-100,1)>999,999,-999))) -> 12.6 | J39: =100/H$41*H39 -> 10.313372 | L39: =INDIRECT("'" & $A39 & "'!" & $P$34) -> #REF! | M39: =INDIRECT("'" & $A39 & "'!" &#REF!) -> #REF! | N39: =INDIRECT("'" & $A39 & "'!" & $P$35) -> #REF! | O39: =INDIRECT("'"&$A39&"'!"&#REF!) -> #REF!
A40: Storebrand Livsforsikring | B40: ='Storebrand Livsforsikring'!F7+'Storebrand Livsforsikring'!F22+'Storebrand Livsforsikring'!F66+'Storebrand Livsforsikring'!F134 -> 4815430.6 | C40: ='Storebrand Livsforsikring'!G7+'Storebrand Livsforsikring'!G22+'Storebrand Livsforsikring'!G66+'Storebrand Livsforsikring'!G134 -> 4843337.4 | D40: =IF(B40=0, " ---- ", IF(ABS(ROUND(100/B40*C40-100,1))<999,ROUND(100/B40*C40-100,1),IF(ROUND(100/B40*C40-100,1)>999,999,-999))) -> 0.6 | E40: =100/C$41*C40 -> 24.89503 | G40: ='Storebrand Livsforsikring'!F10+'Storebrand Livsforsikring'!F29+'Storebrand Livsforsikring'!F87+'Storebrand Livsforsikring'!F135 -> 2.4475301e+08 | H40: ='Storebrand Livsforsikring'!G10+'Storebrand Livsforsikring'!G29+'Storebrand Livsforsikring'!G87+'Storebrand Livsforsikring'!G135 -> 2.8266855e+08 | I40: =IF(G40=0, " ---- ", IF(ABS(ROUND(100/G40*H40-100,1))<999,ROUND(100/G40*H40-100,1),IF(ROUND(100/G40*H40-100,1)>999,999,-999))) -> 15.5 | J40: =100/H$41*H40 -> 30.198846 | L40: =INDIRECT("'" & $A40 & "'!" & $P$34) -> 0 | M40: =INDIRECT("'" & $A40 & "'!" &#REF!) -> #REF! | N40: =INDIRECT("'" & $A40 & "'!" & $P$35) -> 0 | O40: =INDIRECT("'"&$A40&"'!"&#REF!) -> #REF!
...

Sheet Tabell 1.2
A1: Markedsdel, endelig år | B1: Tilbake
A2: Tabell 1.2 Hovedtall
A3: Fordelt på bransjer
A4: 31.03.
B5: Produkter uten investeringsvalg | F5: Produkter med investeringsvalg | J5: Totalt alle produkter
D6: % | H6: % | L6: %
A7: Beløp i 1000 kr. | B7: 2025 | C7: 2026 | D7: endring | F7: 2025 | G7: 2026 | H7: endring | J7: 2025 | K7: 2026 | L7: endring
A8: Brutto forfalt premie 1)
A9: Individuell kapitalforsikring | B9: ='Skjema total MA'!B7 -> 2007693.9 | C9: ='Skjema total MA'!C7 -> 2099019.5 | D9: =IF(B9=0, " ---- ", IF(ABS(ROUND(100/B9*C9-100,1))<999,ROUND(100/B9*C9-100,1),IF(ROUND(100/B9*C9-100,1)>999,999,-999))) -> 4.5 | F9: ='Skjema total MA'!E7 -> 2988485.4 | G9: ='Skjema total MA'!F7 -> 3757879.7 | H9: =IF(F9=0, " ---- ", IF(ABS(ROUND(100/F9*G9-100,1))<999,ROUND(100/F9*G9-100,1),IF(ROUND(100/F9*G9-100,1)>999,999,-999))) -> 25.7 | J9: =SUM(B9+F9) -> 4996179.2 | K9: =SUM(C9+G9) -> 5856899.2 | L9: =IF(J9=0, " ---- ", IF(ABS(ROUND(100/J9*K9-100,1))<999,ROUND(100/J9*K9-100,1),IF(ROUND(100/J9*K9-100,1)>999,999,-999))) -> 17.2
A10: Individuell pensjonsforsikring | B10: ='Skjema total MA'!B22 -> 992677.9 | C10: ='Skjema total MA'!C22 -> 1078054.3 | D10: =IF(B10=0, " ---- ", IF(ABS(ROUND(100/B10*C10-100,1))<999,ROUND(100/B10*C10-100,1),IF(ROUND(100/B10*C10-100,1)>999,999,-999))) -> 8.6 | F10: ='Skjema total MA'!E22 -> 287527.38 | G10: ='Skjema total MA'!F22 -> 446345.47 | H10: =IF(F10=0, " ---- ", IF(ABS(ROUND(100/F10*G10-100,1))<999,ROUND(100/F10*G10-100,1),IF(ROUND(100/F10*G10-100,1)>999,999,-999))) -> 55.2 | J10: =SUM(B10+F10) -> 1280205.3 | K10: =SUM(C10+G10) -> 1524399.8 | L10: =IF(J10=0, " ---- ", IF(ABS(ROUND(100/J10*K10-100,1))<999,ROUND(100/J10*K10-100,1),IF(ROUND(100/J10*K10-100,1)>999,999,-999))) -> 19.1
A11: Gruppeliv | B11: ='Skjema total MA'!B47 -> 4431215.9 | C11: ='Skjema total MA'!C47 -> 5034421.2 | D11: =IF(B11=0, " ---- ", IF(ABS(ROUND(100/B11*C11-100,1))<999,ROUND(100/B11*C11-100,1),IF(ROUND(100/B11*C11-100,1)>999,999,-999))) -> 13.6 | J11: =SUM(B11+F11) -> 4431215.9 | K11: =SUM(C11+G11) -> 5034421.2 | L11: =IF(J11=0, " ---- ", IF(ABS(ROUND(100/J11*K11-100,1))<999,ROUND(100/J11*K11-100,1),IF(ROUND(100/J11*K11-100,1)>999,999,-999))) -> 13.6
A12: Privat kollektiv pensjon | B12: ='Skjema total MA'!B66 -> 2945251.8 | C12: ='Skjema total MA'!C66 -> 3039821.6 | D12: =IF(B12=0, " ---- ", IF(ABS(ROUND(100/B12*C12-100,1))<999,ROUND(100/B12*C12-100,1),IF(ROUND(100/B12*C12-100,1)>999,999,-999))) -> 3.2 | F12: ='Skjema total MA'!E66 -> 14574700 | G12: ='Skjema total MA'!F66 -> 15220600 | H12: =IF(F12=0, " ---- ", IF(ABS(ROUND(100/F12*G12-100,1))<999,ROUND(100/F12*G12-100,1),IF(ROUND(100/F12*G12-100,1)>999,999,-999))) -> 4.4 | J12: =SUM(B12+F12) -> 17519952 | K12: =SUM(C12+G12) -> 18260421 | L12: =IF(J12=0, " ---- ", IF(ABS(ROUND(100/J12*K12-100,1))<999,ROUND(100/J12*K12-100,1),IF(ROUND(100/J12*K12-100,1)>999,999,-999))) -> 4.2
A13: - herav innskuddsbasert * | B13: ='Skjema total MA'!B68 -> 8248.0025 | C13: ='Skjema total MA'!C68 -> 4535.4735 | D13: =IF(B13=0, " ---- ", IF(ABS(ROUND(100/B13*C13-100,1))<999,ROUND(100/B13*C13-100,1),IF(ROUND(100/B13*C13-100,1)>999,999,-999))) -> -45 | F13: ='Skjema total MA'!E68 -> 14040757 | G13: ='Skjema total MA'!F68 -> 14665715 | H13: =IF(F13=0, " ---- ", IF(ABS(ROUND(100/F13*G13-100,1))<999,ROUND(100/F13*G13-100,1),IF(ROUND(100/F13*G13-100,1)>999,999,-999))) -> 4.5 | J13: =SUM(B13+F13) -> 14049005 | K13: =SUM(C13+G13) -> 14670251 | L13: =IF(J13=0, " ---- ", IF(ABS(ROUND(100/J13*K13-100,1))<999,ROUND(100/J13*K13-100,1),IF(ROUND(100/J13*K13-100,1)>999,999,-999))) -> 4.4
A14: - herav etter tjenestepensjonsloven | B14: ='Skjema total MA'!B75+'Skjema total MA'!B76 -> 1106397 | C14: ='Skjema total MA'!C75+'Skjema total MA'!C76 -> 1329040.1 | D14: =IF(B14=0, " ---- ", IF(ABS(ROUND(100/B14*C14-100,1))<999,ROUND(100/B14*C14-100,1),IF(ROUND(100/B14*C14-100,1)>999,999,-999))) -> 20.1 | F14: ='Skjema total MA'!E75+'Skjema total MA'!E76 -> 533942.62 | G14: ='Skjema total MA'!F75+'Skjema total MA'!F76 -> 554884.32 | H14: =IF(F14=0, " ---- ", IF(ABS(ROUND(100/F14*G14-100,1))<999,ROUND(100/F14*G14-100,1),IF(ROUND(100/F14*G14-100,1)>999,999,-999))) -> 3.9 | J14: =SUM(B14+F14) -> 1640339.6 | K14: =SUM(C14+G14) -> 1883924.4 | L14: =IF(J14=0, " ---- ", IF(ABS(ROUND(100/J14*K14-100,1))<999,ROUND(100/J14*K14-100,1),IF(ROUND(100/J14*K14-100,1)>999,999,-999))) -> 14.8
A15: Kommunal kollektiv pensjon 15) | B15: ='Skjema total MA'!B134 -> 9379924.7 | C15: ='Skjema total MA'!C134 -> 9894732.6 | D15: =IF(B15=0, " ---- ", IF(ABS(ROUND(100/B15*C15-100,1))<999,ROUND(100/B15*C15-100,1),IF(ROUND(100/B15*C15-100,1)>999,999,-999))) -> 5.5 | F15: ='Skjema total MA'!E134 -> 20929.275 | G15: ='Skjema total MA'!F134 -> 30212.771 | H15: =IF(F15=0, " ---- ", IF(ABS(ROUND(100/F15*G15-100,1))<999,ROUND(100/F15*G15-100,1),IF(ROUND(100/F15*G15-100,1)>999,999,-999))) -> 44.4 | J15: =SUM(B15+F15) -> 9400853.9 | K15: =SUM(C15+G15) -> 9924945.4 | L15: =IF(J15=0, " ---- ", IF(ABS(ROUND(100/J15*K15-100,1))<999,ROUND(100/J15*K15-100,1),IF(ROUND(100/J15*K15-100,1)>999,999,-999))) -> 5.6
A16: Foreningskollektiv | B16: ='Skjema total MA'!B36 -> 607 | C16: ='Skjema total MA'!C36 -> 437.426 | D16: =IF(B16=0, " ---- ", IF(ABS(ROUND(100/B16*C16-100,1))<999,ROUND(100/B16*C16-100,1),IF(ROUND(100/B16*C16-100,1)>999,999,-999))) -> -27.9 | J16: =SUM(B16+F16) -> 607 | K16: =SUM(C16+G16) -> 437.426 | L16: =IF(J16=0, " ---- ", IF(ABS(ROUND(100/J16*K16-100,1))<999,ROUND(100/J16*K16-100,1),IF(ROUND(100/J16*K16-100,1)>999,999,-999))) -> -27.9
A17: Totalt brutto forfalt premie | B17: ='Tabel 1.1'!B32 -> 19757371 | C17: ='Tabel 1.1'!C32 -> 21146487 | D17: =IF(B17=0, " ---- ", IF(ABS(ROUND(100/B17*C17-100,1))<999,ROUND(100/B17*C17-100,1),IF(ROUND(100/B17*C17-100,1)>999,999,-999))) -> 7 | F17: ='Tabel 1.1'!B41 -> 17871642 | G17: ='Tabel 1.1'!C41 -> 19455037 | H17: =IF(F17=0, " ---- ", IF(ABS(ROUND(100/F17*G17-100,1))<999,ROUND(100/F17*G17-100,1),IF(ROUND(100/F17*G17-100,1)>999,999,-999))) -> 8.9 | J17: =SUM(B17+F17) -> 37629013 | K17: =SUM(C17+G17) -> 40601524 | L17: =IF(J17=0, " ---- ", IF(ABS(ROUND(100/J17*K17-100,1))<999,ROUND(100/J17*K17-100,1),IF(ROUND(100/J17*K17-100,1)>999,999,-999))) -> 7.9
A19: Forsikringsforpliktelser 4)
A20: Individuell kapitalforsikring | B20: ='Skjema total MA'!B10 -> 12653191 | C20: ='Skjema total MA'!C10 -> 12775940 | D20: =IF(B20=0, " ---- ", IF(ABS(ROUND(100/B20*C20-100,1))<999,ROUND(100/B20*C20-100,1),IF(ROUND(100/B20*C20-100,1)>999,999,-999))) -> 1 | F20: ='Skjema total MA'!E10 -> 94510190 | G20: ='Skjema total MA'!F10 -> 1.0767607e+08 | H20: =IF(F20=0, " ---- ", IF(ABS(ROUND(100/F20*G20-100,1))<999,ROUND(100/F20*G20-100,1),IF(ROUND(100/F20*G20-100,1)>999,999,-999))) -> 13.9 | J20: =SUM(B20+F20) -> 1.0716338e+08 | K20: =SUM(C20+G20) -> 1.2045201e+08 | L20: =IF(J20=0, " ---- ", IF(ABS(ROUND(100/J20*K20-100,1))<999,ROUND(100/J20*K20-100,1),IF(ROUND(100/J20*K20-100,1)>999,999,-999))) -> 12.4
A21: Individuell pensjonsforsikring | B21: ='Skjema total MA'!B29 -> 44006076 | C21: ='Skjema total MA'!C29 -> 44504846 | D21: =IF(B21=0, " ---- ", IF(ABS(ROUND(100/B21*C21-100,1))<999,ROUND(100/B21*C21-100,1),IF(ROUND(100/B21*C21-100,1)>999,999,-999))) -> 1.1 | F21: ='Skjema total MA'!E29 -> 28605602 | G21: ='Skjema total MA'!F29 -> 31182335 | H21: =IF(F21=0, " ---- ", IF(ABS(ROUND(100/F21*G21-100,1))<999,ROUND(100/F21*G21-100,1),IF(ROUND(100/F21*G21-100,1)>999,999,-999))) -> 9 | J21: =SUM(B21+F21) -> 72611678 | K21: =SUM(C21+G21) -> 75687181 | L21: =IF(J21=0, " ---- ", IF(ABS(ROUND(100/J21*K21-100,1))<999,ROUND(100/J21*K21-100,1),IF(ROUND(100/J21*K21-100,1)>999,999,-999))) -> 4.2
A22: Privat kollektiv pensjon | B22: ='Skjema total MA'!B87 -> 4.0658731e+08 | C22: ='Skjema total MA'!C87 -> 4.1459995e+08 | D22: =IF(B22=0, " ---- ", IF(ABS(ROUND(100/B22*C22-100,1))<999,ROUND(100/B22*C22-100,1),IF(ROUND(100/B22*C22-100,1)>999,999,-999))) -> 2 | F22: ='Skjema total MA'!E87 -> 6.6534057e+08 | G22: ='Skjema total MA'!F87 -> 7.9475537e+08 | H22: =IF(F22=0, " ---- ", IF(ABS(ROUND(100/F22*G22-100,1))<999,ROUND(100/F22*G22-100,1),IF(ROUND(100/F22*G22-100,1)>999,999,-999))) -> 19.5 | J22: =SUM(B22+F22) -> 1.0719279e+09 | K22: =SUM(C22+G22) -> 1.2093553e+09 | L22: =IF(J22=0, " ---- ", IF(ABS(ROUND(100/J22*K22-100,1))<999,ROUND(100/J22*K22-100,1),IF(ROUND(100/J22*K22-100,1)>999,999,-999))) -> 12.8
A23: - herav innskuddsbasert * | B23: ='Skjema total MA'!B89 -> 2369244.5 | C23: ='Skjema total MA'!C89 -> 4235867.1 | D23: =IF(B23=0, " ---- ", IF(ABS(ROUND(100/B23*C23-100,1))<999,ROUND(100/B23*C23-100,1),IF(ROUND(100/B23*C23-100,1)>999,999,-999))) -> 78.8 | F23: ='Skjema total MA'!E89 -> 6.5510817e+08 | G23: ='Skjema total MA'!F89 -> 7.8190027e+08 | H23: =IF(F23=0, " ---- ", IF(ABS(ROUND(100/F23*G23-100,1))<999,ROUND(100/F23*G23-100,1),IF(ROUND(100/F23*G23-100,1)>999,999,-999))) -> 19.4 | J23: =SUM(B23+F23) -> 6.5747741e+08 | K23: =SUM(C23+G23) -> 7.8613614e+08 | L23: =IF(J23=0, " ---- ", IF(ABS(ROUND(100/J23*K23-100,1))<999,ROUND(100/J23*K23-100,1),IF(ROUND(100/J23*K23-100,1)>999,999,-999))) -> 19.6
A24: - herav etter tjenestepensjonsloven | B24: ='Skjema total MA'!B96+'Skjema total MA'!B97 -> 19970826 | C24: ='Skjema total MA'!C96+'Skjema total MA'!C97 -> 23624914 | D24: =IF(B24=0, " ---- ", IF(ABS(ROUND(100/B24*C24-100,1))<999,ROUND(100/B24*C24-100,1),IF(ROUND(100/B24*C24-100,1)>999,999,-999))) -> 18.3 | F24: ='Skjema total MA'!E96+'Skjema total MA'!E97 -> 10232397 | G24: ='Skjema total MA'!F96+'Skjema total MA'!F97 -> 12855095 | H24: =IF(F24=0, " ---- ", IF(ABS(ROUND(100/F24*G24-100,1))<999,ROUND(100/F24*G24-100,1),IF(ROUND(100/F24*G24-100,1)>999,999,-999))) -> 25.6 | J24: =SUM(B24+F24) -> 30203223 | K24: =SUM(C24+G24) -> 36480010 | L24: =IF(J24=0, " ---- ", IF(ABS(ROUND(100/J24*K24-100,1))<999,ROUND(100/J24*K24-100,1),IF(ROUND(100/J24*K24-100,1)>999,999,-999))) -> 20.8
A25: Kommunal kollektiv pensjon 15) | B25: ='Skjema total MA'!B135 -> 9.2036958e+08 | C25: ='Skjema total MA'!C135 -> 1.0111679e+09 | D25: =IF(B25=0, " ---- ", IF(ABS(ROUND(100/B25*C25-100,1))<999,ROUND(100/B25*C25-100,1),IF(ROUND(100/B25*C25-100,1)>999,999,-999))) -> 9.9 | F25: ='Skjema total MA'!E135 -> 2888738.1 | G25: ='Skjema total MA'!F135 -> 2410575.5 | H25: =IF(F25=0, " ---- ", IF(ABS(ROUND(100/F25*G25-100,1))<999,ROUND(100/F25*G25-100,1),IF(ROUND(100/F25*G25-100,1)>999,999,-999))) -> -16.6 | J25: =SUM(B25+F25) -> 9.2325831e+08 | K25: =SUM(C25+G25) -> 1.0135785e+09 | L25: =IF(J25=0, " ---- ", IF(ABS(ROUND(100/J25*K25-100,1))<999,ROUND(100/J25*K25-100,1),IF(ROUND(100/J25*K25-100,1)>999,999,-999))) -> 9.8
A26: Foreningskollektiv | B26: ='Skjema total MA'!B37 -> 2445944.3 | C26: ='Skjema total MA'!C37 -> 2282179.8 | D26: =IF(B26=0, " ---- ", IF(ABS(ROUND(100/B26*C26-100,1))<999,ROUND(100/B26*C26-100,1),IF(ROUND(100/B26*C26-100,1)>999,999,-999))) -> -6.7 | J26: =SUM(B26+F26) -> 2445944.3 | K26: =SUM(C26+G26) -> 2282179.8 | L26: =IF(J26=0, " ---- ", IF(ABS(ROUND(100/J26*K26-100,1))<999,ROUND(100/J26*K26-100,1),IF(ROUND(100/J26*K26-100,1)>999,999,-999))) -> -6.7
A27: Totalt forsikringsforpliktelser | B27: ='Tabel 1.1'!G32 -> 1.3860621e+09 | C27: ='Tabel 1.1'!H32 -> 1.4853308e+09 | D27: =IF(B27=0, " ---- ", IF(ABS(ROUND(100/B27*C27-100,1))<999,ROUND(100/B27*C27-100,1),IF(ROUND(100/B27*C27-100,1)>999,999,-999))) -> 7.2 | F27: ='Tabel 1.1'!G41 -> 7.913451e+08 | G27: ='Tabel 1.1'!H41 -> 9.3602435e+08 | H27: =IF(F27=0, " ---- ", IF(ABS(ROUND(100/F27*G27-100,1))<999,ROUND(100/F27*G27-100,1),IF(ROUND(100/F27*G27-100,1)>999,999,-999))) -> 18.3 | J27: =SUM(B27+F27) -> 2.1774072e+09 | K27: =SUM(C27+G27) -> 2.4213551e+09 | L27: =IF(J27=0, " ---- ", IF(ABS(ROUND(100/J27*K27-100,1))<999,ROUND(100/J27*K27-100,1),IF(ROUND(100/J27*K27-100,1)>999,999,-999))) -> 11.2
J28: =SUM(B28+F28) -> 0 | K28: =SUM(C28+G28) -> 0
A29: Overførte reserver fra andre 5)
A30: Individuell kapitalforsikring | F30: ='Skjema total MA'!E11 -> 162532.77 | G30: ='Skjema total MA'!F11 -> 106958.19 | H30: =IF(F30=0, " ---- ", IF(ABS(ROUND(100/F30*G30-100,1))<999,ROUND(100/F30*G30-100,1),IF(ROUND(100/F30*G30-100,1)>999,999,-999))) -> -34.2 | J30: =SUM(B30+F30) -> 162532.77 | K30: =SUM(C30+G30) -> 106958.19 | L30: =IF(J30=0, " ---- ", IF(ABS(ROUND(100/J30*K30-100,1))<999,ROUND(100/J30*K30-100,1),IF(ROUND(100/J30*K30-100,1)>999,999,-999))) -> -34.2
A31: Individuell pensjonsforsikring | B31: ='Skjema total MA'!B34 -> 5797.2493 | C31: ='Skjema total MA'!C34 -> 4326.776 | D31: =IF(B31=0, " ---- ", IF(ABS(ROUND(100/B31*C31-100,1))<999,ROUND(100/B31*C31-100,1),IF(ROUND(100/B31*C31-100,1)>999,999,-999))) -> -25.4 | F31: ='Skjema total MA'!E34 -> -104367.89 | G31: ='Skjema total MA'!F34 -> 78329.192 | H31: =IF(F31=0, " ---- ", IF(ABS(ROUND(100/F31*G31-100,1))<999,ROUND(100/F31*G31-100,1),IF(ROUND(100/F31*G31-100,1)>999,999,-999))) -> -175.1 | J31: =SUM(B31+F31) -> -98570.643 | K31: =SUM(C31+G31) -> 82655.968 | L31: =IF(J31=0, " ---- ", IF(ABS(ROUND(100/J31*K31-100,1))<999,ROUND(100/J31*K31-100,1),IF(ROUND(100/J31*K31-100,1)>999,999,-999))) -> -183.9
A32: Privat kollektiv pensjon | B32: ='Skjema total MA'!B111 -> 1135493.6 | C32: ='Skjema total MA'!C111 -> 299574.76 | D32: =IF(B32=0, " ---- ", IF(ABS(ROUND(100/B32*C32-100,1))<999,ROUND(100/B32*C32-100,1),IF(ROUND(100/B32*C32-100,1)>999,999,-999))) -> -73.6 | F32: ='Skjema total MA'!E111 -> 19977944 | G32: ='Skjema total MA'!F111 -> 24119224 | H32: =IF(F32=0, " ---- ", IF(ABS(ROUND(100/F32*G32-100,1))<999,ROUND(100/F32*G32-100,1),IF(ROUND(100/F32*G32-100,1)>999,999,-999))) -> 20.7 | J32: =SUM(B32+F32) -> 21113438 | K32: =SUM(C32+G32) -> 24418799 | L32: =IF(J32=0, " ---- ", IF(ABS(ROUND(100/J32*K32-100,1))<999,ROUND(100/J32*K32-100,1),IF(ROUND(100/J32*K32-100,1)>999,999,-999))) -> 15.7
A33: Kommunal kollektiv pensjon 15) | B33: ='Skjema total MA'!B136 -> 3241225.7 | C33: ='Skjema total MA'!C136 -> 3412565.5 | D33: =IF(B33=0, " ---- ", IF(ABS(ROUND(100/B33*C33-100,1))<999,ROUND(100/B33*C33-100,1),IF(ROUND(100/B33*C33-100,1)>999,999,-999))) -> 5.3 | F33: ='Skjema total MA'!E136 -> 0 | G33: ='Skjema total MA'!F136 -> -516456.23 | H33: =IF(F33=0, " ---- ", IF(ABS(ROUND(100/F33*G33-100,1))<999,ROUND(100/F33*G33-100,1),IF(ROUND(100/F33*G33-100,1)>999,999,-999))) -> ---- | J33: =SUM(B33+F33) -> 3241225.7 | K33: =SUM(C33+G33) -> 2896109.3 | L33: =IF(J33=0, " ---- ", IF(ABS(ROUND(100/J33*K33-100,1))<999,ROUND(100/J33*K33-100,1),IF(ROUND(100/J33*K33-100,1)>999,999,-999))) -> -10.6
A34: Foreningskollektiv
A35: Totalt overførte reserver fra andre | B35: =SUM(B30:B34) -> 4382516.6 | C35: =SUM(C30:C34) -> 3716467 | D35: =IF(B35=0, " ---- ", IF(ABS(ROUND(100/B35*C35-100,1))<999,ROUND(100/B35*C35-100,1),IF(ROUND(100/B35*C35-100,1)>999,999,-999))) -> -15.2 | F35: =SUM(F30:F34) -> 20036109 | G35: =SUM(G30:G34) -> 23788055 | H35: =IF(F35=0, " ---- ", IF(ABS(ROUND(100/F35*G35-100,1))<999,ROUND(100/F35*G35-100,1),IF(ROUND(100/F35*G35-100,1)>999,999,-999))) -> 18.7 | J35: =SUM(B35+F35) -> 24418626 | K35: =SUM(C35+G35) -> 27504522 | L35: =IF(J35=0, " ---- ", IF(ABS(ROUND(100/J35*K35-100,1))<999,ROUND(100/J35*K35-100,1),IF(ROUND(100/J35*K35-100,1)>999,999,-999))) -> 12.6
A37: Flytting fra andre 9)
A38: Gruppeliv | B38: ='Skjema total MA'!B53 -> 182062.96 | C38: ='Skjema total MA'!C53 -> 118391.6 | D38: =IF(B38=0, " ---- ", IF(ABS(ROUND(100/B38*C38-100,1))<999,ROUND(100/B38*C38-100,1),IF(ROUND(100/B38*C38-100,1)>999,999,-999))) -> -35 | J38: =SUM(B38+F38) -> 182062.96 | K38: =SUM(C38+G38) -> 118391.6 | L38: =IF(J38=0, " ---- ", IF(ABS(ROUND(100/J38*K38-100,1))<999,ROUND(100/J38*K38-100,1),IF(ROUND(100/J38*K38-100,1)>999,999,-999))) -> -35
A40: Overførte reserver til andre 6)
A41: Individuell kapitalforsikring | B41: ='Skjema total MA'!B12 -> 0 | C41: ='Skjema total MA'!C12 -> 0 | D41: =IF(B41=0, " ---- ", IF(ABS(ROUND(100/B41*C41-100,1))<999,ROUND(100/B41*C41-100,1),IF(ROUND(100/B41*C41-100,1)>999,999,-999))) -> ---- | F41: ='Skjema total MA'!E12 -> 217906.63 | G41: ='Skjema total MA'!F12 -> 125383.08 | H41: =IF(F41=0, " ---- ", IF(ABS(ROUND(100/F41*G41-100,1))<999,ROUND(100/F41*G41-100,1),IF(ROUND(100/F41*G41-100,1)>999,999,-999))) -> -42.5 | J41: =SUM(B41+F41) -> 217906.63 | K41: =SUM(C41+G41) -> 125383.08 | L41: =IF(J41=0, " ---- ", IF(ABS(ROUND(100/J41*K41-100,1))<999,ROUND(100/J41*K41-100,1),IF(ROUND(100/J41*K41-100,1)>999,999,-999))) -> -42.5
A42: Individuell pensjonsforsikring | B42: ='Skjema total MA'!B35 -> -149053.82 | C42: ='Skjema total MA'!C35 -> 7864.5628 | D42: =IF(B42=0, " ---- ", IF(ABS(ROUND(100/B42*C42-100,1))<999,ROUND(100/B42*C42-100,1),IF(ROUND(100/B42*C42-100,1)>999,999,-999))) -> -105.3 | F42: ='Skjema total MA'!E35 -> 68852.986 | G42: ='Skjema total MA'!F35 -> 109697.74 | H42: =IF(F42=0, " ---- ", IF(ABS(ROUND(100/F42*G42-100,1))<999,ROUND(100/F42*G42-100,1),IF(ROUND(100/F42*G42-100,1)>999,999,-999))) -> 59.3 | J42: =SUM(B42+F42) -> -80200.834 | K42: =SUM(C42+G42) -> 117562.31 | L42: =IF(J42=0, " ---- ", IF(ABS(ROUND(100/J42*K42-100,1))<999,ROUND(100/J42*K42-100,1),IF(ROUND(100/J42*K42-100,1)>999,999,-999))) -> -246.6
A43: Privat kollektiv pensjon | B43: ='Skjema total MA'!B119 -> 215315.52 | C43: ='Skjema total MA'!C119 -> 343318.17 | D43: =IF(B43=0, " ---- ", IF(ABS(ROUND(100/B43*C43-100,1))<999,ROUND(100/B43*C43-100,1),IF(ROUND(100/B43*C43-100,1)>999,999,-999))) -> 59.4 | F43: ='Skjema total MA'!E119 -> 21023795 | G43: ='Skjema total MA'!F119 -> 24959800 | H43: =IF(F43=0, " ---- ", IF(ABS(ROUND(100/F43*G43-100,1))<999,ROUND(100/F43*G43-100,1),IF(ROUND(100/F43*G43-100,1)>999,999,-999))) -> 18.7 | J43: =SUM(B43+F43) -> 21239110 | K43: =SUM(C43+G43) -> 25303118 | L43: =IF(J43=0, " ---- ", IF(ABS(ROUND(100/J43*K43-100,1))<999,ROUND(100/J43*K43-100,1),IF(ROUND(100/J43*K43-100,1)>999,999,-999))) -> 19.1
...

Sheet Tabell 1.3
A1: Markedsdel, endelig år | B1: Tilbake
A2: Tabell 1.3 Hovedtall
B4: Aktivaposter (aggregert) | F4: Aktivaposter (aggregert)
A5: 31.03. | B5: i mill. kr | F5: prosentvis andel
D6: %- | H6: %-
B7: 2025 | C7: 2026 | D7: endring | F7: 2025 | G7: 2026 | H7: endring
A8: Selskapsporteføljen | B8: =SUM(B9:B14) -> 192369.67 | C8: =SUM(C9:C14) -> 161574.36 | D8: =IF(B8=0, " ---- ", IF(ABS(ROUND(100/B8*C8-100,1))<999,ROUND(100/B8*C8-100,1),IF(ROUND(100/B8*C8-100,1)>999,999,-999))) -> -16 | F8: =SUM(F9:F14) -> 100 | G8: =SUM(G9:G14) -> 100 | H8: =IF(F8=0, " ---- ", IF(ABS(ROUND(100/F8*G8-100,1))<999,ROUND(100/F8*G8-100,1),IF(ROUND(100/F8*G8-100,1)>999,999,-999))) -> 0
A9: Aksjer | B9: ='Tabell 6'!AI21 -> 5212.1701 | C9: ='Tabell 6'!AJ21 -> 5647.795 | D9: =IF(B9=0, " ---- ", IF(ABS(ROUND(100/B9*C9-100,1))<999,ROUND(100/B9*C9-100,1),IF(ROUND(100/B9*C9-100,1)>999,999,-999))) -> 8.4 | F9: ='Tabell 6'!AI21/'Tabell 6'!AI29*100 -> 2.7094552 | G9: ='Tabell 6'!AJ21/'Tabell 6'!AJ29*100 -> 3.4954772 | H9: =IF(F9=0, " ---- ", IF(ABS(ROUND(100/F9*G9-100,1))<999,ROUND(100/F9*G9-100,1),IF(ROUND(100/F9*G9-100,1)>999,999,-999))) -> 29
A10: Rentebærende verdipapirer | B10: ='Tabell 6'!AI17+'Tabell 6'!AI22 -> 70428.054 | C10: ='Tabell 6'!AJ17+'Tabell 6'!AJ22 -> 65597.518 | D10: =IF(B10=0, " ---- ", IF(ABS(ROUND(100/B10*C10-100,1))<999,ROUND(100/B10*C10-100,1),IF(ROUND(100/B10*C10-100,1)>999,999,-999))) -> -6.9 | F10: =('Tabell 6'!AI17+'Tabell 6'!AI22)/'Tabell 6'!AI29*100 -> 36.610788 | G10: =('Tabell 6'!AJ17+'Tabell 6'!AJ22)/'Tabell 6'!AJ29*100 -> 40.598965 | H10: =IF(F10=0, " ---- ", IF(ABS(ROUND(100/F10*G10-100,1))<999,ROUND(100/F10*G10-100,1),IF(ROUND(100/F10*G10-100,1)>999,999,-999))) -> 10.9
A11: Eiendom | B11: ='Tabell 6'!AI14 -> 1347.1865 | C11: ='Tabell 6'!AJ14 -> 1488.3456 | D11: =IF(B11=0, " ---- ", IF(ABS(ROUND(100/B11*C11-100,1))<999,ROUND(100/B11*C11-100,1),IF(ROUND(100/B11*C11-100,1)>999,999,-999))) -> 10.5 | F11: ='Tabell 6'!AI14/'Tabell 6'!AI29*100 -> 0.70031128 | G11: ='Tabell 6'!AJ14/'Tabell 6'!AJ29*100 -> 0.9211521 | H11: =IF(F11=0, " ---- ", IF(ABS(ROUND(100/F11*G11-100,1))<999,ROUND(100/F11*G11-100,1),IF(ROUND(100/F11*G11-100,1)>999,999,-999))) -> 31.5
A12: Datterforetak m.m. | B12: ='Tabell 6'!AI15 -> 27552.719 | C12: ='Tabell 6'!AJ15 -> 27971.274 | D12: =IF(B12=0, " ---- ", IF(ABS(ROUND(100/B12*C12-100,1))<999,ROUND(100/B12*C12-100,1),IF(ROUND(100/B12*C12-100,1)>999,999,-999))) -> 1.5 | F12: ='Tabell 6'!AI15/'Tabell 6'!AI29*100 -> 14.322798 | G12: ='Tabell 6'!AJ15/'Tabell 6'!AJ29*100 -> 17.311703 | H12: =IF(F12=0, " ---- ", IF(ABS(ROUND(100/F12*G12-100,1))<999,ROUND(100/F12*G12-100,1),IF(ROUND(100/F12*G12-100,1)>999,999,-999))) -> 20.9
A13: Utlån | B13: ='Tabell 6'!AI19+'Tabell 6'!AI23 -> 37728.421 | C13: ='Tabell 6'!AJ19+'Tabell 6'!AJ23 -> 35739.674 | D13: =IF(B13=0, " ---- ", IF(ABS(ROUND(100/B13*C13-100,1))<999,ROUND(100/B13*C13-100,1),IF(ROUND(100/B13*C13-100,1)>999,999,-999))) -> -5.3 | F13: =('Tabell 6'!AI19+'Tabell 6'!AI23)/'Tabell 6'!AI29*100 -> 19.612458 | G13: =('Tabell 6'!AJ19+'Tabell 6'!AJ23)/'Tabell 6'!AJ29*100 -> 22.119644 | H13: =IF(F13=0, " ---- ", IF(ABS(ROUND(100/F13*G13-100,1))<999,ROUND(100/F13*G13-100,1),IF(ROUND(100/F13*G13-100,1)>999,999,-999))) -> 12.8
A14: Annet | B14: ='Tabell 6'!AI24+'Tabell 6'!AI25+'Tabell 6'!AI26+'Tabell 6'!AI28 -> 50101.122 | C14: ='Tabell 6'!AJ24+'Tabell 6'!AJ25+'Tabell 6'!AJ26+'Tabell 6'!AJ28 -> 25129.755 | D14: =IF(B14=0, " ---- ", IF(ABS(ROUND(100/B14*C14-100,1))<999,ROUND(100/B14*C14-100,1),IF(ROUND(100/B14*C14-100,1)>999,999,-999))) -> -49.8 | F14: =('Tabell 6'!AI24+'Tabell 6'!AI25+'Tabell 6'!AI26+'Tabell 6'!AI28)/'Tabell 6'!AI29*100 -> 26.044189 | G14: =('Tabell 6'!AJ24+'Tabell 6'!AJ25+'Tabell 6'!AJ26+'Tabell 6'!AJ28)/'Tabell 6'!AJ29*100 -> 15.553058 | H14: =IF(F14=0, " ---- ", IF(ABS(ROUND(100/F14*G14-100,1))<999,ROUND(100/F14*G14-100,1),IF(ROUND(100/F14*G14-100,1)>999,999,-999))) -> -40.3
A16: Kollektivporteføljen | B16: =SUM(B17:B22) -> 1460225.6 | C16: =SUM(C17:C22) -> 1561318.7 | D16: =IF(B16=0, " ---- ", IF(ABS(ROUND(100/B16*C16-100,1))<999,ROUND(100/B16*C16-100,1),IF(ROUND(100/B16*C16-100,1)>999,999,-999))) -> 6.9 | F16: =SUM(F17:F22) -> 100 | G16: =SUM(G17:G22) -> 100 | H16: =IF(F16=0, " ---- ", IF(ABS(ROUND(100/F16*G16-100,1))<999,ROUND(100/F16*G16-100,1),IF(ROUND(100/F16*G16-100,1)>999,999,-999))) -> 0
A17: Aksjer | B17: ='Tabell 6'!AI40 -> 367048.23 | C17: ='Tabell 6'!AJ40 -> 429547.98 | D17: =IF(B17=0, " ---- ", IF(ABS(ROUND(100/B17*C17-100,1))<999,ROUND(100/B17*C17-100,1),IF(ROUND(100/B17*C17-100,1)>999,999,-999))) -> 17 | F17: ='Tabell 6'!AI40/('Tabell 6'!AI45+'Tabell 6'!AI46)*100 -> 25.136406 | G17: ='Tabell 6'!AJ40/('Tabell 6'!AJ45+'Tabell 6'!AJ46)*100 -> 27.51187 | H17: =IF(F17=0, " ---- ", IF(ABS(ROUND(100/F17*G17-100,1))<999,ROUND(100/F17*G17-100,1),IF(ROUND(100/F17*G17-100,1)>999,999,-999))) -> 9.5
A18: Rentebærende verdipapirer | B18: ='Tabell 6'!AI36+'Tabell 6'!AI41 -> 364395.75 | C18: ='Tabell 6'!AJ36+'Tabell 6'!AJ41 -> 385372.61 | D18: =IF(B18=0, " ---- ", IF(ABS(ROUND(100/B18*C18-100,1))<999,ROUND(100/B18*C18-100,1),IF(ROUND(100/B18*C18-100,1)>999,999,-999))) -> 5.8 | F18: =('Tabell 6'!AI36+'Tabell 6'!AI41)/('Tabell 6'!AI45+'Tabell 6'!AI46)*100 -> 24.954757 | G18: =('Tabell 6'!AJ36+'Tabell 6'!AJ41)/('Tabell 6'!AJ45+'Tabell 6'!AJ46)*100 -> 24.682508 | H18: =IF(F18=0, " ---- ", IF(ABS(ROUND(100/F18*G18-100,1))<999,ROUND(100/F18*G18-100,1),IF(ROUND(100/F18*G18-100,1)>999,999,-999))) -> -1.1
A19: Eiendom | B19: ='Tabell 6'!AI33 -> 14.226 | C19: ='Tabell 6'!AJ33 -> 14.226 | D19: =IF(B19=0, " ---- ", IF(ABS(ROUND(100/B19*C19-100,1))<999,ROUND(100/B19*C19-100,1),IF(ROUND(100/B19*C19-100,1)>999,999,-999))) -> 0 | F19: ='Tabell 6'!AI33/('Tabell 6'!AI45+'Tabell 6'!AI46)*100 -> 0.00097423304 | G19: ='Tabell 6'!AJ33/('Tabell 6'!AJ45+'Tabell 6'!AJ46)*100 -> 0.00091115285 | H19: =IF(F19=0, " ---- ", IF(ABS(ROUND(100/F19*G19-100,1))<999,ROUND(100/F19*G19-100,1),IF(ROUND(100/F19*G19-100,1)>999,999,-999))) -> -6.5
A20: Datterforetak m.m. | B20: ='Tabell 6'!AI34 -> 171108.62 | C20: ='Tabell 6'!AJ34 -> 187253.68 | D20: =IF(B20=0, " ---- ", IF(ABS(ROUND(100/B20*C20-100,1))<999,ROUND(100/B20*C20-100,1),IF(ROUND(100/B20*C20-100,1)>999,999,-999))) -> 9.4 | F20: ='Tabell 6'!AI34/('Tabell 6'!AI45+'Tabell 6'!AI46)*100 -> 11.717958 | G20: ='Tabell 6'!AJ34/('Tabell 6'!AJ45+'Tabell 6'!AJ46)*100 -> 11.993303 | H20: =IF(F20=0, " ---- ", IF(ABS(ROUND(100/F20*G20-100,1))<999,ROUND(100/F20*G20-100,1),IF(ROUND(100/F20*G20-100,1)>999,999,-999))) -> 2.3
A21: Utlån | B21: ='Tabell 6'!AI38+'Tabell 6'!AI42 -> 539015.94 | C21: ='Tabell 6'!AJ38+'Tabell 6'!AJ42 -> 542425.21 | D21: =IF(B21=0, " ---- ", IF(ABS(ROUND(100/B21*C21-100,1))<999,ROUND(100/B21*C21-100,1),IF(ROUND(100/B21*C21-100,1)>999,999,-999))) -> 0.6 | F21: =('Tabell 6'!AI38+'Tabell 6'!AI42)/('Tabell 6'!AI45+'Tabell 6'!AI46)*100 -> 36.913197 | G21: =('Tabell 6'!AJ38+'Tabell 6'!AJ42)/('Tabell 6'!AJ45+'Tabell 6'!AJ46)*100 -> 34.741479 | H21: =IF(F21=0, " ---- ", IF(ABS(ROUND(100/F21*G21-100,1))<999,ROUND(100/F21*G21-100,1),IF(ROUND(100/F21*G21-100,1)>999,999,-999))) -> -5.9
A22: Annet | B22: ='Tabell 6'!AI43+'Tabell 6'!AI44+'Tabell 6'!AI46 -> 18642.804 | C22: ='Tabell 6'!AJ43+'Tabell 6'!AJ44+'Tabell 6'!AJ46 -> 16705.012 | D22: =IF(B22=0, " ---- ", IF(ABS(ROUND(100/B22*C22-100,1))<999,ROUND(100/B22*C22-100,1),IF(ROUND(100/B22*C22-100,1)>999,999,-999))) -> -10.4 | F22: =('Tabell 6'!AI43+'Tabell 6'!AI44+'Tabell 6'!AI46)/('Tabell 6'!AI45+'Tabell 6'!AI46)*100 -> 1.2767072 | G22: =('Tabell 6'!AJ43+'Tabell 6'!AJ44+'Tabell 6'!AJ46)/('Tabell 6'!AJ45+'Tabell 6'!AJ46)*100 -> 1.0699297 | H22: =IF(F22=0, " ---- ", IF(ABS(ROUND(100/F22*G22-100,1))<999,ROUND(100/F22*G22-100,1),IF(ROUND(100/F22*G22-100,1)>999,999,-999))) -> -16.2
