Workbook
Name Dag: #REF!
Name Dager: #REF!
Name dato: #REF!
Name Feilmelding: #REF!
Name FilNavn: [1]Oppslagstabeller!$N$5
Name Fjorårstall: #REF!
Name Koder2a: #REF!
Name kvartal: #REF!
Name Måned: #REF!
Name OppslagsKolonneDataVerdi: #REF!
Name OppslagsKolonneSelskapNavn: #REF!
Name Selskap: [1]Oppslagstabeller!$N$4
Name SelskapKolonneIndeks: [1]!Tabell3[#All]
Name SelskapListe: #REF!
Name Selskapsliste: [1]Oppslagstabeller!$A$1:$G$36
Name UtfylteTall: #REF!
Name år: #REF!
Name ÅrFratrekk: #REF!

Sheet Forside

Sheet Innhold
C2: INNHOLDSFORTEGNELSE
A6: FIGURER
B7: Figur 1 | C7: Brutto forfalt premie livprodukter - produkter uten investeringsvalg
B8: Figur 2 | C8: Brutto forfalt premie livprodukter - produkter med investeringsvalg
B9: Figur 3 | C9: Forsikringsforpliktelser livprodukter - produkter uten investeringsvalg
B10: Figur 4 | C10: Forsikringsforpliktelser livprodukter - produkter med investeringsvalg
B11: Figur 5 | C11: Netto tilflytting livprodukter - produkter uten investeringsvalg
B12: Figur 6 | C12: Netto tilflytting livprodukter - produkter med investeringsvalg
A14: TABELLER
B15: MARKEDSDEL
B16: Tabell 1.1 | C16: Hovedtall - produkter uten og med investeringsvalg
B17: Tabell 1.2 | C17: Hovedtall - fordelt på bransjer
B18: Tabell 1.3 | C18: Hovedtall - aktivaposter
B19: Skjema total MA | C19: Totalt - alle produkter
B20: Selskapsnavn | C20: Tall pr. selskap - alle produkter
B22: REGNSKAPSDEL
B23: Tabell 4 | C23: Resultatregnskap - alle produkter
B24: Tabell 5.1 | C24: Resultatanalyse - Individuell kapital og individuell pensjon - alle produkter
B25: Tabell 5.2 | C25: Resultatanalyse - Kollektiv pensjon - alle produkter
B26: Tabell 5.3 | C26: Resultatanalyse - Gruppeliv, ulykke o.a. og total - alle produkter
B27: Tabell 6 | C27: Balanse - alle produkter
B28: Tabell 7a | C28: Spesifikasjon av post 12 - forsikringsforpliktelser - produkter uten investeringsvalg
B29: Tabell 7b | C29: Spesifikasjon post 13 forsikringsforpliktelser - produkter med investeringsvalg
B30: Tabell 8 | C30: Diverse nøkkeltall - produkter uten investeringsvalg
A33: NOTER OG KOMMENTARER

Sheet Figurer
A1: Tilbake
A3: FIGURER
A5: Figur 1 Brutto forfalt premie livprodukter - produkter uten investeringsvalg pr. 31.03. | L5: Brutto forfalt premie livprodukter
L6: Produkter uten investeringsvalg
M7: 2025 | N7: 2026
L8: DNB Liv | M8: ='Tabel 1.1'!B9 -> 1249688 | N8: ='Tabel 1.1'!C9 -> 1251034.2
L9: Euro Accident | M9: ='Tabel 1.1'!B10 -> 30761 | N9: ='Tabel 1.1'!C10 -> 46204
L10: Fremtind | M10: ='Tabel 1.1'!B11 -> 1271137.3 | N10: ='Tabel 1.1'!C11 -> 1220218.7
L11: Frende Livsfors | M11: ='Tabel 1.1'!B12 -> 713825 | N11: ='Tabel 1.1'!C12 -> 787243
L12: Frende Skade | M12: ='Tabel 1.1'!B13 -> 287.337 | N12: ='Tabel 1.1'!C13 -> 25.519
L13: Gjensidige Fors | M13: ='Tabel 1.1'!B14 -> 1611395.2 | N13: ='Tabel 1.1'!C14 -> 1562214.5
L14: Gjensidige Pensj | M14: ='Tabel 1.1'!B15 -> 361354 | N14: ='Tabel 1.1'!C15 -> 385947
L15: If Skadefors | M15: ='Tabel 1.1'!B16 -> 306096.55 | N15: ='Tabel 1.1'!C16 -> 344301.02
L16: KLP | M16: ='Tabel 1.1'!B17 -> 8049379.8 | N16: ='Tabel 1.1'!C17 -> 8744623.9
L17: KLP Skadef | M17: ='Tabel 1.1'!B18 -> 234700.55 | N17: ='Tabel 1.1'!C18 -> 696348.86
L18: Knif Trygghet | M18: ='Tabel 1.1'!B19 -> 0 | N18: ='Tabel 1.1'!C19 -> 53091
L19: Landkreditt Fors. | M19: ='Tabel 1.1'!B20 -> 82536 | N19: ='Tabel 1.1'!C20 -> 71658
... L30: Youplus Livsf | M30: ='Tabel 1.1'!B31 -> 43878 | N30: ='Tabel 1.1'!C31 -> 16577
A31: Figur 2 Brutto forfalt premie livprodukter - produkter med investeringsvalg pr. 31.03.
L32: Brutto forfalt premie livprodukter
L33: Produkter med investeringsvalg
M34: =M7 -> 2025 | N34: =N7 -> 2026
L35: DNB Liv | M35: ='Tabel 1.1'!B35 -> 4416210.9 | N35: ='Tabel 1.1'!C35 -> 4595185.2
L36: Gjensidige Pensj | M36: ='Tabel 1.1'!B36 -> 1741309 | N36: ='Tabel 1.1'!C36 -> 1912502
L37: KLP | M37: ='Tabel 1.1'!B37 -> 20929.275 | N37: ='Tabel 1.1'!C37 -> 30212.771
L38: Nordea Liv | M38: ='Tabel 1.1'!B38 -> 4781667.1 | N38: ='Tabel 1.1'!C38 -> 5869756.9
L39: SpareBank 1 Forsikring | M39: ='Tabel 1.1'!B39 -> 2096095 | N39: ='Tabel 1.1'!C39 -> 2204043.3
L40: Storebrand Liv | M40: ='Tabel 1.1'!B40 -> 4815430.6 | N40: ='Tabel 1.1'!C40 -> 4843337.4
L50: Forsikringsforpliktelser i livsforsikring
L51: Produkter uten investeringsvalg
M52: =M7 -> 2025 | N52: =N7 -> 2026
L53: DNB Liv | M53: ='Tabel 1.1'!G9 -> 1.796844e+08 | N53: ='Tabel 1.1'!H9 -> 1.7851775e+08
L54: Euro Accident | M54: ='Tabel 1.1'!G10 -> 0 | N54: ='Tabel 1.1'!H10 -> 0
L55: Fremtind | M55: ='Tabel 1.1'!G11 -> 6000495.2 | N55: ='Tabel 1.1'!H11 -> 6592758.2
A56: Figur 3 Forsikringsforpliktelser i livsforsikring - produkter uten investeringsvalg pr. 31.03. | L56: Frende Livsfors | M56: ='Tabel 1.1'!G12 -> 2437488 | N56: ='Tabel 1.1'!H12 -> 2794309
L57: Gjensidige Fors | M57: ='Tabel 1.1'!G13 -> 0 | N57: ='Tabel 1.1'!H13 -> 0
L58: Gjensidige Pensj | M58: ='Tabel 1.1'!G15 -> 11279029 | N58: ='Tabel 1.1'!H15 -> 12086275
L59: If Skadefors | M59: ='Tabel 1.1'!G16 -> 0 | N59: ='Tabel 1.1'!H16 -> 0
L60: KLP | M60: ='Tabel 1.1'!G17 -> 7.9481268e+08 | N60: ='Tabel 1.1'!H17 -> 8.7626527e+08
L61: KLP Skadef | M61: ='Tabel 1.1'!G18 -> 173603.85 | N61: ='Tabel 1.1'!H18 -> 284694.43
L62: Knif Trygghet Fors. | M62: ='Tabel 1.1'!G19 -> 0 | N62: ='Tabel 1.1'!H19 -> 3595
L63: Landkreditt Fors | M63: ='Tabel 1.1'!G20 -> 0 | N63: ='Tabel 1.1'!H20 -> 0
L64: Ly Forsikring | M64: ='Tabel 1.1'!G21 -> 0 | N64: ='Tabel 1.1'!H21 -> 0
L65: Nordea Liv | M65: ='Tabel 1.1'!G22 -> 54964640 | N65: ='Tabel 1.1'!H22 -> 56434150
L66: Oslo Forsikring | M66: ='Tabel 1.1'!G23 -> 0 | N66: ='Tabel 1.1'!H23 -> 0
L67: OPF | M67: ='Tabel 1.1'!G24 -> 97889000 | N67: ='Tabel 1.1'!H24 -> 104208000
L68: SpareBank 1 Forsikring | M68: ='Tabel 1.1'!G26 -> 23632770 | N68: ='Tabel 1.1'!H26 -> 26630201
L69: Storebrand Liv | M69: ='Tabel 1.1'!G27 -> 2.1511862e+08 | N69: ='Tabel 1.1'!H27 -> 2.2141966e+08
L70: Telenor Forsikring | M70: ='Tabel 1.1'!G28 -> 0 | N70: ='Tabel 1.1'!H28 -> 0
L71: Tryg Forsikring | M71: ='Tabel 1.1'!G29 -> 0 | N71: ='Tabel 1.1'!H29 -> 0
L72: WaterCicles Fors. | M72: ='Tabel 1.1'!G30 -> 0 | N72: ='Tabel 1.1'!H30 -> 0
L73: Youplus Livsf | M73: ='Tabel 1.1'!G31 -> 69378 | N73: ='Tabel 1.1'!H31 -> 94134
A80: Figur 4 Forsikringsforpliktelser i livsforsikring - produkter med investeringsvalg pr. 31.03.
L82: Forsikringsforpliktelser i livsforsikring
L83: Produkter med investeringsvalg
M84: =M7 -> 2025 | N84: =N7 -> 2026
L85: DNB Liv | M85: ='Tabel 1.1'!G35 -> 2.035687e+08 | N85: ='Tabel 1.1'!H35 -> 2.4595765e+08
L86: Gjensidige Pensj | M86: ='Tabel 1.1'!G36 -> 76968991 | N86: ='Tabel 1.1'!H36 -> 91000808
L87: KLP | M87: ='Tabel 1.1'!G37 -> 2888738.1 | N87: ='Tabel 1.1'!H37 -> 2410575.5
L88: Nordea Liv | M88: ='Tabel 1.1'!G38 -> 177451030 | N88: ='Tabel 1.1'!H38 -> 217451090
L89: SpareBank 1 Forsikring | M89: ='Tabel 1.1'!G39 -> 85714630 | N89: ='Tabel 1.1'!H39 -> 96535673
L90: Storebrand Liv | M90: ='Tabel 1.1'!G40 -> 2.4475301e+08 | N90: ='Tabel 1.1'!H40 -> 2.8266855e+08
L97: Netto tilflytting
L98: Produkter uten investeringsvalg
M99: =M7 -> 2025 | N99: =N7 -> 2026
L100: DNB Liv | M100: ='DNB Livsforsikring'!B11-'DNB Livsforsikring'!B12+'DNB Livsforsikring'!B34-'DNB Livsforsikring'!B35+'DNB Livsforsikring'!B38-'DNB Livsforsikring'!B39+'DNB Livsforsikring'!B111-'DNB Livsforsikring'!B119+'DNB Livsforsikring'!B136-'DNB Livsforsikring'!B137 -> 147076 | N100: ='DNB Livsforsikring'!C11-'DNB Livsforsikring'!C12+'DNB Livsforsikring'!C34-'DNB Livsforsikring'!C35+'DNB Livsforsikring'!C38-'DNB Livsforsikring'!C39+'DNB Livsforsikring'!C111-'DNB Livsforsikring'!C119+'DNB Livsforsikring'!C136-'DNB Livsforsikring'!C137 -> 131287.93
L101: Gjensidige Pensj | M101: ='Gjensidige Pensjon'!B11-'Gjensidige Pensjon'!B12+'Gjensidige Pensjon'!B34-'Gjensidige Pensjon'!B35+'Gjensidige Pensjon'!B38-'Gjensidige Pensjon'!B39+'Gjensidige Pensjon'!B111-'Gjensidige Pensjon'!B119+'Gjensidige Pensjon'!B136-'Gjensidige Pensjon'!B137 -> 101054 | N101: ='Gjensidige Pensjon'!C11-'Gjensidige Pensjon'!C12+'Gjensidige Pensjon'!C34-'Gjensidige Pensjon'!C35+'Gjensidige Pensjon'!C38-'Gjensidige Pensjon'!C39+'Gjensidige Pensjon'!C111-'Gjensidige Pensjon'!C119+'Gjensidige Pensjon'!C136-'Gjensidige Pensjon'!C137 -> -1479
L102: KLP | M102: =KLP!B11-KLP!B12+KLP!B34-KLP!B35+KLP!B38-KLP!B39+KLP!B111-KLP!B119+KLP!B136-KLP!B137 -> -4249512.1 | N102: =KLP!C11-KLP!C12+KLP!C34-KLP!C35+KLP!C38-KLP!C39+KLP!C111-KLP!C119+KLP!C136-KLP!C137 -> 2396174.2
L103: Nordea Liv | M103: ='Nordea Liv '!B11-'Nordea Liv '!B12+'Nordea Liv '!B34-'Nordea Liv '!B35+'Nordea Liv '!B38-'Nordea Liv '!B39+'Nordea Liv '!B111-'Nordea Liv '!B119+'Nordea Liv '!B136-'Nordea Liv '!B137 -> -1617 | N103: ='Nordea Liv '!C11-'Nordea Liv '!C12+'Nordea Liv '!C34-'Nordea Liv '!C35+'Nordea Liv '!C38-'Nordea Liv '!C39+'Nordea Liv '!C111-'Nordea Liv '!C119+'Nordea Liv '!C136-'Nordea Liv '!C137 -> -4218.166
L104: SpareBank 1 Forsikring | M104: ='Sparebank 1 Fors.'!B11-'Sparebank 1 Fors.'!B12+'Sparebank 1 Fors.'!B34-'Sparebank 1 Fors.'!B35+'Sparebank 1 Fors.'!B38-'Sparebank 1 Fors.'!B39+'Sparebank 1 Fors.'!B111-'Sparebank 1 Fors.'!B119+'Sparebank 1 Fors.'!B136-'Sparebank 1 Fors.'!B137 -> 883335.19 | N104: ='Sparebank 1 Fors.'!C11-'Sparebank 1 Fors.'!C12+'Sparebank 1 Fors.'!C34-'Sparebank 1 Fors.'!C35+'Sparebank 1 Fors.'!C38-'Sparebank 1 Fors.'!C39+'Sparebank 1 Fors.'!C111-'Sparebank 1 Fors.'!C119+'Sparebank 1 Fors.'!C136-'Sparebank 1 Fors.'!C137 -> -110937.06
L105: Storebrand Liv | M105: ='Storebrand Livsforsikring'!B11-'Storebrand Livsforsikring'!B12+'Storebrand Livsforsikring'!B34-'Storebrand Livsforsikring'!B35+'Storebrand Livsforsikring'!B38-'Storebrand Livsforsikring'!B39+'Storebrand Livsforsikring'!B111-'Storebrand Livsforsikring'!B119+'Storebrand Livsforsikring'!B136-'Storebrand Livsforsikring'!B137 -> 3145828.2 | N105: ='Storebrand Livsforsikring'!C11-'Storebrand Livsforsikring'!C12+'Storebrand Livsforsikring'!C34-'Storebrand Livsforsikring'!C35+'Storebrand Livsforsikring'!C38-'Storebrand Livsforsikring'!C39+'Storebrand Livsforsikring'!C111-'Storebrand Livsforsikring'!C119+'Storebrand Livsforsikring'!C136-'Storebrand Livsforsikring'!C137 -> 61330.093
A106: Figur 5 Netto tilflytting livprodukter - produkter uten investeringsvalg pr. 31.03.
L119: Netto tilflytting
L120: Produkter med investeringsvalg
M121: =M7 -> 2025 | N121: =N7 -> 2026
L122: DNB Liv | M122: ='DNB Livsforsikring'!F11-'DNB Livsforsikring'!F12+'DNB Livsforsikring'!F34-'DNB Livsforsikring'!F35+'DNB Livsforsikring'!F38-'DNB Livsforsikring'!F39+'DNB Livsforsikring'!F111-'DNB Livsforsikring'!F119+'DNB Livsforsikring'!F136-'DNB Livsforsikring'!F137 -> 191688.12 | N122: ='DNB Livsforsikring'!G11-'DNB Livsforsikring'!G12+'DNB Livsforsikring'!G34-'DNB Livsforsikring'!G35+'DNB Livsforsikring'!G38-'DNB Livsforsikring'!G39+'DNB Livsforsikring'!G111-'DNB Livsforsikring'!G119+'DNB Livsforsikring'!G136-'DNB Livsforsikring'!G137 -> -1493198.6
L123: Gjensidige Pensj | M123: ='Gjensidige Pensjon'!F11-'Gjensidige Pensjon'!F12+'Gjensidige Pensjon'!F34-'Gjensidige Pensjon'!F35+'Gjensidige Pensjon'!F38-'Gjensidige Pensjon'!F39+'Gjensidige Pensjon'!F111-'Gjensidige Pensjon'!F119+'Gjensidige Pensjon'!F136-'Gjensidige Pensjon'!F137 -> 1211447 | N123: ='Gjensidige Pensjon'!G11-'Gjensidige Pensjon'!G12+'Gjensidige Pensjon'!G34-'Gjensidige Pensjon'!G35+'Gjensidige Pensjon'!G38-'Gjensidige Pensjon'!G39+'Gjensidige Pensjon'!G111-'Gjensidige Pensjon'!G119+'Gjensidige Pensjon'!G136-'Gjensidige Pensjon'!G137 -> 76146
L124: KLP | M124: =KLP!F11-KLP!F12+KLP!F34-KLP!F35+KLP!F38-KLP!F39+KLP!F111-KLP!F119+KLP!F136-KLP!F137 -> 0 | N124: =KLP!G11-KLP!G12+KLP!G34-KLP!G35+KLP!G38-KLP!G39+KLP!G111-KLP!G119+KLP!G136-KLP!G137 -> -516456.23
L125: Nordea Liv | M125: ='Nordea Liv '!F11-'Nordea Liv '!F12+'Nordea Liv '!F34-'Nordea Liv '!F35+'Nordea Liv '!F38-'Nordea Liv '!F39+'Nordea Liv '!F111-'Nordea Liv '!F119+'Nordea Liv '!F136-'Nordea Liv '!F137 -> -750691.37 | N125: ='Nordea Liv '!G11-'Nordea Liv '!G12+'Nordea Liv '!G34-'Nordea Liv '!G35+'Nordea Liv '!G38-'Nordea Liv '!G39+'Nordea Liv '!G111-'Nordea Liv '!G119+'Nordea Liv '!G136-'Nordea Liv '!G137 -> 4408319.7
L126: SpareBank 1 Forsikring | M126: ='Sparebank 1 Fors.'!F11-'Sparebank 1 Fors.'!F12+'Sparebank 1 Fors.'!F34-'Sparebank 1 Fors.'!F35+'Sparebank 1 Fors.'!F38-'Sparebank 1 Fors.'!F39+'Sparebank 1 Fors.'!F111-'Sparebank 1 Fors.'!F119+'Sparebank 1 Fors.'!F136-'Sparebank 1 Fors.'!F137 -> -242578.45 | N126: ='Sparebank 1 Fors.'!G11-'Sparebank 1 Fors.'!G12+'Sparebank 1 Fors.'!G34-'Sparebank 1 Fors.'!G35+'Sparebank 1 Fors.'!G38-'Sparebank 1 Fors.'!G39+'Sparebank 1 Fors.'!G111-'Sparebank 1 Fors.'!G119+'Sparebank 1 Fors.'!G136-'Sparebank 1 Fors.'!G137 -> -1212130.2
L127: Storebrand Liv | M127: ='Storebrand Livsforsikring'!F11-'Storebrand Livsforsikring'!F12+'Storebrand Livsforsikring'!F34-'Storebrand Livsforsikring'!F35+'Storebrand Livsforsikring'!F38-'Storebrand Livsforsikring'!F39+'Storebrand Livsforsikring'!F111-'Storebrand Livsforsikring'!F119+'Storebrand Livsforsikring'!F136-'Storebrand Livsforsikring'!F137 -> -1684310.4 | N127: ='Storebrand Livsforsikring'!G11-'Storebrand Livsforsikring'!G12+'Storebrand Livsforsikring'!G34-'Storebrand Livsforsikring'!G35+'Storebrand Livsforsikring'!G38-'Storebrand Livsforsikring'!G39+'Storebrand Livsforsikring'!G111-'Storebrand Livsforsikring'!G119+'Storebrand Livsforsikring'!G136-'Storebrand Livsforsikring'!G137 -> -2669506.1
A130: Figur 6 Netto tilflytting livprodukter - produkter med investeringsvalg pr. 31.03.

Sheet Tabel 1.1
A1: Markedsdel, endelig år | B1: Tilbake
A2: Tabell 1.1 Hovedtall
A3: Produkter med og uten investeringsvalg
A4: 31.03.
B5: Brutto forfalt premie 1) | G5: Forsikringsforpliktelser 4) | L5: Flytting fra andre | N5: Flytting til andre
D6: %- | E6: Markeds- | I6: %- | J6: Markeds-
A7: Beløp i 1000 kroner | B7: 2025 | C7: 2026 | D7: endring | E7: andel | G7: 2025 | H7: 2026 | I7: endring | J7: andel | L7: 2015 | M7: 2016 | N7: 2015 | O7: 2016 | P7: Q10
A8: Produkter uten investeringsvalg | L8: Produkter uten investeringsvalg | P8: R10
A9: DNB Livsforsikring | B9: ='DNB Livsforsikring'!B7+'DNB Livsforsikring'!B22+'DNB Livsforsikring'!B36+'DNB Livsforsikring'!B47+'DNB Livsforsikring'!B66+'DNB Livsforsikring'!B134 -> 1249688 | C9: ='DNB Livsforsikring'!C7+'DNB Livsforsikring'!C22+'DNB Livsforsikring'!C36+'DNB Livsforsikring'!C47+'DNB Livsforsikring'!C66+'DNB Livsforsikring'!C134 -> 1251034.2 | D9: =IF(B9=0, " ---- ", IF(ABS(ROUND(100/B9*C9-100,1))<999,ROUND(100/B9*C9-100,1),IF(ROUND(100/B9*C9-100,1)>999,999,-999))) -> 0.1 | E9: =100/C$32*C9 -> 5.9160382 | G9: ='DNB Livsforsikring'!B10+'DNB Livsforsikring'!B29+'DNB Livsforsikring'!B37+'DNB Livsforsikring'!B87+'DNB Livsforsikring'!B135 -> 1.796844e+08 | H9: ='DNB Livsforsikring'!C10+'DNB Livsforsikring'!C29+'DNB Livsforsikring'!C37+'DNB Livsforsikring'!C87+'DNB Livsforsikring'!C135 -> 1.7851775e+08 | I9: =IF(G9=0, " ---- ", IF(ABS(ROUND(100/G9*H9-100,1))<999,ROUND(100/G9*H9-100,1),IF(ROUND(100/G9*H9-100,1)>999,999,-999))) -> -0.6 | J9: =100/H$32*H9 -> 12.01872 | K9: R7 | L9: =INDIRECT("'" &#REF! & "'!" & $P$7) -> #REF! | M9: =INDIRECT("'" &#REF! & "'!" & $P$8) -> #REF! | N9: =INDIRECT("'" &#REF! & "'!" &#REF!) -> #REF! | O9: =INDIRECT("'" &#REF! & "'!" & $P$9) -> #REF! | P9: R11
A10: Euro Accident | B10: ='Euro Accident'!B7+'Euro Accident'!B22+'Euro Accident'!B36+'Euro Accident'!B47+'Euro Accident'!B66+'Euro Accident'!B134 -> 30761 | C10: ='Euro Accident'!C7+'Euro Accident'!C22+'Euro Accident'!C36+'Euro Accident'!C47+'Euro Accident'!C66+'Euro Accident'!C134 -> 46204 | D10: =IF(B10=0, " ---- ", IF(ABS(ROUND(100/B10*C10-100,1))<999,ROUND(100/B10*C10-100,1),IF(ROUND(100/B10*C10-100,1)>999,999,-999))) -> 50.2 | E10: =100/C$32*C10 -> 0.21849492
A11: Fremtind | B11: =Fremtind!B7+Fremtind!B22+Fremtind!B36+Fremtind!B47+Fremtind!B66+Fremtind!B134 -> 1271137.3 | C11: =Fremtind!C7+Fremtind!C22+Fremtind!C36+Fremtind!C47+Fremtind!C66+Fremtind!C134 -> 1220218.7 | D11: =IF(B11=0, " ---- ", IF(ABS(ROUND(100/B11*C11-100,1))<999,ROUND(100/B11*C11-100,1),IF(ROUND(100/B11*C11-100,1)>999,999,-999))) -> -4 | E11: =100/C$32*C11 -> 5.7703141 | G11: =Fremtind!B10+Fremtind!B29+Fremtind!B37+Fremtind!B87+Fremtind!B135 -> 6000495.2 | H11: =Fremtind!C10+Fremtind!C29+Fremtind!C37+Fremtind!C87+Fremtind!C135 -> 6592758.2 | I11: =IF(G11=0, " ---- ", IF(ABS(ROUND(100/G11*H11-100,1))<999,ROUND(100/G11*H11-100,1),IF(ROUND(100/G11*H11-100,1)>999,999,-999))) -> 9.9 | J11: =100/H$32*H11 -> 0.44385791 | K11: R8 | L11: =INDIRECT("'" &#REF! & "'!" & $P$7) -> #REF! | M11: =INDIRECT("'" &#REF! & "'!" & $P$8) -> #REF! | N11: =INDIRECT("'" &#REF! & "'!" &#REF!) -> #REF! | O11: =INDIRECT("'" &#REF! & "'!" & $P$9) -> #REF!
A12: Frende Livsforsikring | B12: ='Frende Livsforsikring'!B7+'Frende Livsforsikring'!B22+'Frende Livsforsikring'!B36+'Frende Livsforsikring'!B47+'Frende Livsforsikring'!B66+'Frende Livsforsikring'!B134 -> 713825 | C12: ='Frende Livsforsikring'!C7+'Frende Livsforsikring'!C22+'Frende Livsforsikring'!C36+'Frende Livsforsikring'!C47+'Frende Livsforsikring'!C66+'Frende Livsforsikring'!C134 -> 787243 | D12: =IF(B12=0, " ---- ", IF(ABS(ROUND(100/B12*C12-100,1))<999,ROUND(100/B12*C12-100,1),IF(ROUND(100/B12*C12-100,1)>999,999,-999))) -> 10.3 | E12: =100/C$32*C12 -> 3.7228075 | G12: ='Frende Livsforsikring'!B10+'Frende Livsforsikring'!B29+'Frende Livsforsikring'!B37+'Frende Livsforsikring'!B87+'Frende Livsforsikring'!B135 -> 2437488 | H12: ='Frende Livsforsikring'!C10+'Frende Livsforsikring'!C29+'Frende Livsforsikring'!C37+'Frende Livsforsikring'!C87+'Frende Livsforsikring'!C135 -> 2794309 | I12: =IF(G12=0, " ---- ", IF(ABS(ROUND(100/G12*H12-100,1))<999,ROUND(100/G12*H12-100,1),IF(ROUND(100/G12*H12-100,1)>999,999,-999))) -> 14.6 | J12: =100/H$32*H12 -> 0.18812705
A13: Frende Skadeforsikring | B13: ='Frende Skadeforsikring'!B7+'Frende Skadeforsikring'!B22+'Frende Skadeforsikring'!B36+'Frende Skadeforsikring'!B47+'Frende Skadeforsikring'!B66+'Frende Skadeforsikring'!B134 -> 287.337 | C13: ='Frende Skadeforsikring'!C7+'Frende Skadeforsikring'!C22+'Frende Skadeforsikring'!C36+'Frende Skadeforsikring'!C47+'Frende Skadeforsikring'!C66+'Frende Skadeforsikring'!C134 -> 25.519 | D13: =IF(B13=0, " ---- ", IF(ABS(ROUND(100/B13*C13-100,1))<999,ROUND(100/B13*C13-100,1),IF(ROUND(100/B13*C13-100,1)>999,999,-999))) -> -91.1 | E13: =100/C$32*C13 -> 0.00012067726 | K13: Q9 | L13: =INDIRECT("'" & $A12 & "'!" & $P$7) -> 0 | M13: =INDIRECT("'" & $A12 & "'!" & $P$8) -> 0 | N13: =INDIRECT("'" & $A12 & "'!" &#REF!) -> #REF! | O13: =INDIRECT("'" & $A12 & "'!" & $P$9) -> 0
A14: Gjensidige Forsikring | B14: ='Gjensidige Forsikring'!B7+'Gjensidige Forsikring'!B22+'Gjensidige Forsikring'!B36+'Gjensidige Forsikring'!B47+'Gjensidige Forsikring'!B66+'Gjensidige Forsikring'!B134 -> 1611395.2 | C14: ='Gjensidige Forsikring'!C7+'Gjensidige Forsikring'!C22+'Gjensidige Forsikring'!C36+'Gjensidige Forsikring'!C47+'Gjensidige Forsikring'!C66+'Gjensidige Forsikring'!C134 -> 1562214.5 | D14: =IF(B14=0, " ---- ", IF(ABS(ROUND(100/B14*C14-100,1))<999,ROUND(100/B14*C14-100,1),IF(ROUND(100/B14*C14-100,1)>999,999,-999))) -> -3.1 | E14: =100/C$32*C14 -> 7.3875843 | K14: R9 | L14: =INDIRECT("'" & $A13 & "'!" & $P$7) -> 0 | M14: =INDIRECT("'" & $A13 & "'!" & $P$8) -> 0 | N14: =INDIRECT("'" & $A13 & "'!" &#REF!) -> #REF! | O14: =INDIRECT("'" & $A13 & "'!" & $P$9) -> 0
A15: Gjensidige Pensjon | B15: ='Gjensidige Pensjon'!B7+'Gjensidige Pensjon'!B22+'Gjensidige Pensjon'!B36+'Gjensidige Pensjon'!B47+'Gjensidige Pensjon'!B66+'Gjensidige Pensjon'!B134 -> 361354 | C15: ='Gjensidige Pensjon'!C7+'Gjensidige Pensjon'!C22+'Gjensidige Pensjon'!C36+'Gjensidige Pensjon'!C47+'Gjensidige Pensjon'!C66+'Gjensidige Pensjon'!C134 -> 385947 | D15: =IF(B15=0, " ---- ", IF(ABS(ROUND(100/B15*C15-100,1))<999,ROUND(100/B15*C15-100,1),IF(ROUND(100/B15*C15-100,1)>999,999,-999))) -> 6.8 | E15: =100/C$32*C15 -> 1.8251117 | G15: ='Gjensidige Pensjon'!B10+'Gjensidige Pensjon'!B29+'Gjensidige Pensjon'!B37+'Gjensidige Pensjon'!B87+'Gjensidige Pensjon'!B135 -> 11279029 | H15: ='Gjensidige Pensjon'!C10+'Gjensidige Pensjon'!C29+'Gjensidige Pensjon'!C37+'Gjensidige Pensjon'!C87+'Gjensidige Pensjon'!C135 -> 12086275 | I15: =IF(G15=0, " ---- ", IF(ABS(ROUND(100/G15*H15-100,1))<999,ROUND(100/G15*H15-100,1),IF(ROUND(100/G15*H15-100,1)>999,999,-999))) -> 7.2 | J15: =100/H$32*H15 -> 0.81370931 | K15: Q10 | L15: =INDIRECT("'" & $A14 & "'!" & $P$7) -> 0 | M15: =INDIRECT("'" & $A14 & "'!" & $P$8) -> 0 | N15: =INDIRECT("'" & $A14 & "'!" &#REF!) -> #REF! | O15: =INDIRECT("'" & $A14 & "'!" & $P$9) -> 0
A16: If Skadeforsikring NUF | B16: ='If Skadeforsikring NUF'!B7+'If Skadeforsikring NUF'!B22+'If Skadeforsikring NUF'!B36+'If Skadeforsikring NUF'!B47+'If Skadeforsikring NUF'!B66+'If Skadeforsikring NUF'!B134 -> 306096.55 | C16: ='If Skadeforsikring NUF'!C7+'If Skadeforsikring NUF'!C22+'If Skadeforsikring NUF'!C36+'If Skadeforsikring NUF'!C47+'If Skadeforsikring NUF'!C66+'If Skadeforsikring NUF'!C134 -> 344301.02 | D16: =IF(B16=0, " ---- ", IF(ABS(ROUND(100/B16*C16-100,1))<999,ROUND(100/B16*C16-100,1),IF(ROUND(100/B16*C16-100,1)>999,999,-999))) -> 12.5 | E16: =100/C$32*C16 -> 1.6281713 | L16: =INDIRECT("'" &#REF! & "'!" & $P$7) -> #REF! | M16: =INDIRECT("'" &#REF! & "'!" & $P$8) -> #REF! | N16: =INDIRECT("'" &#REF! & "'!" &#REF!) -> #REF! | O16: =INDIRECT("'" &#REF! & "'!" & $P$9) -> #REF!
A17: KLP | B17: =KLP!B7+KLP!B22+KLP!B36+KLP!B47+KLP!B66+KLP!B134 -> 8049379.8 | C17: =KLP!C7+KLP!C22+KLP!C36+KLP!C47+KLP!C66+KLP!C134 -> 8744623.9 | D17: =IF(B17=0, " ---- ", IF(ABS(ROUND(100/B17*C17-100,1))<999,ROUND(100/B17*C17-100,1),IF(ROUND(100/B17*C17-100,1)>999,999,-999))) -> 8.6 | E17: =100/C$32*C17 -> 41.352609 | G17: =KLP!B10+KLP!B29+KLP!B37+KLP!B87+KLP!B135 -> 7.9481268e+08 | H17: =KLP!C10+KLP!C29+KLP!C37+KLP!C87+KLP!C135 -> 8.7626527e+08 | I17: =IF(G17=0, " ---- ", IF(ABS(ROUND(100/G17*H17-100,1))<999,ROUND(100/G17*H17-100,1),IF(ROUND(100/G17*H17-100,1)>999,999,-999))) -> 10.2 | J17: =100/H$32*H17 -> 58.994621 | L17: =INDIRECT("'" &#REF! & "'!" & $P$7) -> #REF! | M17: =INDIRECT("'" &#REF! & "'!" & $P$8) -> #REF! | N17: =INDIRECT("'" &#REF! & "'!" &#REF!) -> #REF! | O17: =INDIRECT("'" &#REF! & "'!" & $P$9) -> #REF!
A18: KLP Skadeforsikring AS | B18: ='KLP Skadeforsikring AS'!B7+'KLP Skadeforsikring AS'!B22+'KLP Skadeforsikring AS'!B36+'KLP Skadeforsikring AS'!B47+'KLP Skadeforsikring AS'!B66+'KLP Skadeforsikring AS'!B134 -> 234700.55 | C18: ='KLP Skadeforsikring AS'!C7+'KLP Skadeforsikring AS'!C22+'KLP Skadeforsikring AS'!C36+'KLP Skadeforsikring AS'!C47+'KLP Skadeforsikring AS'!C66+'KLP Skadeforsikring AS'!C134 -> 696348.86 | D18: =IF(B18=0, " ---- ", IF(ABS(ROUND(100/B18*C18-100,1))<999,ROUND(100/B18*C18-100,1),IF(ROUND(100/B18*C18-100,1)>999,999,-999))) -> 196.7 | E18: =100/C$32*C18 -> 3.2929766 | G18: ='KLP Skadeforsikring AS'!B10+'KLP Skadeforsikring AS'!B29+'KLP Skadeforsikring AS'!B37+'KLP Skadeforsikring AS'!B87+'KLP Skadeforsikring AS'!B135 -> 173603.85 | H18: ='KLP Skadeforsikring AS'!C10+'KLP Skadeforsikring AS'!C29+'KLP Skadeforsikring AS'!C37+'KLP Skadeforsikring AS'!C87+'KLP Skadeforsikring AS'!C135 -> 284694.43 | I18: =IF(G18=0, " ---- ", IF(ABS(ROUND(100/G18*H18-100,1))<999,ROUND(100/G18*H18-100,1),IF(ROUND(100/G18*H18-100,1)>999,999,-999))) -> 64 | J18: =100/H$32*H18 -> 0.019167072 | L18: =INDIRECT("'" & $A31 & "'!" & $P$7) -> 0 | M18: =INDIRECT("'" & $A31 & "'!" & $P$8) -> 0 | N18: =INDIRECT("'" & $A31 & "'!" &#REF!) -> #REF! | O18: =INDIRECT("'" & $A31 & "'!" & $P$9) -> 0
A19: Knif Trygghet Forsikring | B19: ='Knif Trygghet Forsikring'!B7+'Knif Trygghet Forsikring'!B22+'Knif Trygghet Forsikring'!B36+'Knif Trygghet Forsikring'!B47+'Knif Trygghet Forsikring'!B66+'Knif Trygghet Forsikring'!B134 -> 0 | C19: ='Knif Trygghet Forsikring'!C7+'Knif Trygghet Forsikring'!C22+'Knif Trygghet Forsikring'!C36+'Knif Trygghet Forsikring'!C47+'Knif Trygghet Forsikring'!C66+'Knif Trygghet Forsikring'!C134 -> 53091 | D19: =IF(B19=0, " ---- ", IF(ABS(ROUND(100/B19*C19-100,1))<999,ROUND(100/B19*C19-100,1),IF(ROUND(100/B19*C19-100,1)>999,999,-999))) -> ---- | E19: =100/C$32*C19 -> 0.25106298 | G19: ='Knif Trygghet Forsikring'!B10+'Knif Trygghet Forsikring'!B29+'Knif Trygghet Forsikring'!B37+'Knif Trygghet Forsikring'!B87+'Knif Trygghet Forsikring'!B66+'Knif Trygghet Forsikring'!B135 -> 0 | H19: ='Knif Trygghet Forsikring'!C10+'Knif Trygghet Forsikring'!C29+'Knif Trygghet Forsikring'!C37+'Knif Trygghet Forsikring'!C87+'Knif Trygghet Forsikring'!C66+'Knif Trygghet Forsikring'!C135 -> 3595 | I19: =IF(G19=0, " ---- ", IF(ABS(ROUND(100/G19*H19-100,1))<999,ROUND(100/G19*H19-100,1),IF(ROUND(100/G19*H19-100,1)>999,999,-999))) -> ---- | J19: =100/H$32*H19 -> 0.00024203363
A20: Landkreditt Forsikring | B20: ='Landkreditt Forsikring AS'!B7+'Landkreditt Forsikring AS'!B22+'Landkreditt Forsikring AS'!B36+'Landkreditt Forsikring AS'!B47+'Landkreditt Forsikring AS'!B66+'Landkreditt Forsikring AS'!B134 -> 82536 | C20: ='Landkreditt Forsikring AS'!C7+'Landkreditt Forsikring AS'!C22+'Landkreditt Forsikring AS'!C36+'Landkreditt Forsikring AS'!C47+'Landkreditt Forsikring AS'!C66+'Landkreditt Forsikring AS'!C134 -> 71658 | D20: =IF(B20=0, " ---- ", IF(ABS(ROUND(100/B20*C20-100,1))<999,ROUND(100/B20*C20-100,1),IF(ROUND(100/B20*C20-100,1)>999,999,-999))) -> -13.2 | E20: =100/C$32*C20 -> 0.3388648 | L20: =INDIRECT("'" & $A18 & "'!" & $P$7) -> 0 | M20: =INDIRECT("'" & $A18 & "'!" & $P$8) -> 0 | N20: =INDIRECT("'" & $A18 & "'!" &#REF!) -> #REF! | O20: =INDIRECT("'" & $A18 & "'!" & $P$9) -> 0
A21: Ly Forsikring | B21: ='Ly Forsikring'!B7+'Ly Forsikring'!B22+'Ly Forsikring'!B36+'Ly Forsikring'!B47+'Ly Forsikring'!B66+'Ly Forsikring'!B134 -> 15177 | C21: ='Ly Forsikring'!C7+'Ly Forsikring'!C22+'Ly Forsikring'!C36+'Ly Forsikring'!C47+'Ly Forsikring'!C66+'Ly Forsikring'!C134 -> 16314 | D21: =IF(B21=0, " ---- ", IF(ABS(ROUND(100/B21*C21-100,1))<999,ROUND(100/B21*C21-100,1),IF(ROUND(100/B21*C21-100,1)>999,999,-999))) -> 7.5 | E21: =100/C$32*C21 -> 0.077147567
A22: Nordea Liv | B22: ='Nordea Liv '!B7+'Nordea Liv '!B22+'Nordea Liv '!B36+'Nordea Liv '!B47+'Nordea Liv '!B66+'Nordea Liv '!B134 -> 811738.02 | C22: ='Nordea Liv '!C7+'Nordea Liv '!C22+'Nordea Liv '!C36+'Nordea Liv '!C47+'Nordea Liv '!C66+'Nordea Liv '!C134 -> 855566.54 | D22: =IF(B22=0, " ---- ", IF(ABS(ROUND(100/B22*C22-100,1))<999,ROUND(100/B22*C22-100,1),IF(ROUND(100/B22*C22-100,1)>999,999,-999))) -> 5.4 | E22: =100/C$32*C22 -> 4.0459039 | G22: ='Nordea Liv '!B10+'Nordea Liv '!B29+'Nordea Liv '!B37+'Nordea Liv '!B87+'Nordea Liv '!B135 -> 54964640 | H22: ='Nordea Liv '!C10+'Nordea Liv '!C29+'Nordea Liv '!C37+'Nordea Liv '!C87+'Nordea Liv '!C135 -> 56434150 | I22: =IF(G22=0, " ---- ", IF(ABS(ROUND(100/G22*H22-100,1))<999,ROUND(100/G22*H22-100,1),IF(ROUND(100/G22*H22-100,1)>999,999,-999))) -> 2.7 | J22: =100/H$32*H22 -> 3.7994331 | L22: =INDIRECT("'" & $A20 & "'!" & $P$7) -> #REF! | M22: =INDIRECT("'" & $A20 & "'!" & $P$8) -> #REF! | N22: =INDIRECT("'" & $A20 & "'!" &#REF!) -> #REF! | O22: =INDIRECT("'" & $A20 & "'!" & $P$9) -> #REF!
A23: Oslo Forsikring | B23: ='Oslo Forsikring'!B7+'Oslo Forsikring'!B22+'Oslo Forsikring'!B36+'Oslo Forsikring'!B47+'Oslo Forsikring'!B66+'Oslo Forsikring'!B134 -> 8970 | C23: ='Oslo Forsikring'!C7+'Oslo Forsikring'!C22+'Oslo Forsikring'!C36+'Oslo Forsikring'!C47+'Oslo Forsikring'!C66+'Oslo Forsikring'!C134 -> 9386 | D23: =IF(B23=0, " ---- ", IF(ABS(ROUND(100/B23*C23-100,1))<999,ROUND(100/B23*C23-100,1),IF(ROUND(100/B23*C23-100,1)>999,999,-999))) -> 4.6 | E23: =100/C$32*C23 -> 0.044385624
A24: Oslo Pensjonsforsikring | B24: ='Oslo Pensjonsforsikring'!B7+'Oslo Pensjonsforsikring'!B22+'Oslo Pensjonsforsikring'!B36+'Oslo Pensjonsforsikring'!B47+'Oslo Pensjonsforsikring'!B66+'Oslo Pensjonsforsikring'!B134 -> 908116 | C24: ='Oslo Pensjonsforsikring'!C7+'Oslo Pensjonsforsikring'!C22+'Oslo Pensjonsforsikring'!C36+'Oslo Pensjonsforsikring'!C47+'Oslo Pensjonsforsikring'!C66+'Oslo Pensjonsforsikring'!C134 -> 694944 | D24: =IF(B24=0, " ---- ", IF(ABS(ROUND(100/B24*C24-100,1))<999,ROUND(100/B24*C24-100,1),IF(ROUND(100/B24*C24-100,1)>999,999,-999))) -> -23.5 | E24: =100/C$32*C24 -> 3.2863331 | G24: ='Oslo Pensjonsforsikring'!B10+'Oslo Pensjonsforsikring'!B29+'Oslo Pensjonsforsikring'!B37+'Oslo Pensjonsforsikring'!B87+'Oslo Pensjonsforsikring'!B135 -> 97889000 | H24: ='Oslo Pensjonsforsikring'!C10+'Oslo Pensjonsforsikring'!C29+'Oslo Pensjonsforsikring'!C37+'Oslo Pensjonsforsikring'!C87+'Oslo Pensjonsforsikring'!C135 -> 104208000 | I24: =IF(G24=0, " ---- ", IF(ABS(ROUND(100/G24*H24-100,1))<999,ROUND(100/G24*H24-100,1),IF(ROUND(100/G24*H24-100,1)>999,999,-999))) -> 6.5 | J24: =100/H$32*H24 -> 7.0158109 | L24: =INDIRECT("'" & $A22 & "'!" & $P$7) -> 0 | M24: =INDIRECT("'" & $A22 & "'!" & $P$8) -> 0 | N24: =INDIRECT("'" & $A22 & "'!" &#REF!) -> #REF! | O24: =INDIRECT("'" & $A22 & "'!" & $P$9) -> 0
A25: Protector Forsikring | B25: ='Protector Forsikring'!B7+'Protector Forsikring'!B22+'Protector Forsikring'!B36+'Protector Forsikring'!B47+'Protector Forsikring'!B66+'Protector Forsikring'!B134 -> 318529 | C25: ='Protector Forsikring'!C7+'Protector Forsikring'!C22+'Protector Forsikring'!C36+'Protector Forsikring'!C47+'Protector Forsikring'!C66+'Protector Forsikring'!C134 -> 387470 | D25: =IF(B25=0, " ---- ", IF(ABS(ROUND(100/B25*C25-100,1))<999,ROUND(100/B25*C25-100,1),IF(ROUND(100/B25*C25-100,1)>999,999,-999))) -> 21.6 | E25: =100/C$32*C25 -> 1.8323138 | L25: =INDIRECT("'" & $A24 & "'!" & $P$7) -> 0 | M25: =INDIRECT("'" & $A24 & "'!" & $P$8) -> 0 | N25: =INDIRECT("'" & $A24 & "'!" &#REF!) -> #REF! | O25: =INDIRECT("'" & $A24 & "'!" & $P$9) -> 0
A26: SpareBank 1 Forsikring | B26: ='Sparebank 1 Fors.'!B7+'Sparebank 1 Fors.'!B22+'Sparebank 1 Fors.'!B36+'Sparebank 1 Fors.'!B47+'Sparebank 1 Fors.'!B66+'Sparebank 1 Fors.'!B134 -> 287814.85 | C26: ='Sparebank 1 Fors.'!C7+'Sparebank 1 Fors.'!C22+'Sparebank 1 Fors.'!C36+'Sparebank 1 Fors.'!C47+'Sparebank 1 Fors.'!C66+'Sparebank 1 Fors.'!C134 -> 287093.53 | D26: =IF(B26=0, " ---- ", IF(ABS(ROUND(100/B26*C26-100,1))<999,ROUND(100/B26*C26-100,1),IF(ROUND(100/B26*C26-100,1)>999,999,-999))) -> -0.3 | E26: =100/C$32*C26 -> 1.3576418 | G26: ='Sparebank 1 Fors.'!B10+'Sparebank 1 Fors.'!B29+'Sparebank 1 Fors.'!B37+'Sparebank 1 Fors.'!B87+'Sparebank 1 Fors.'!B135 -> 23632770 | H26: ='Sparebank 1 Fors.'!C10+'Sparebank 1 Fors.'!C29+'Sparebank 1 Fors.'!C37+'Sparebank 1 Fors.'!C87+'Sparebank 1 Fors.'!C135 -> 26630201 | I26: =IF(G26=0, " ---- ", IF(ABS(ROUND(100/G26*H26-100,1))<999,ROUND(100/G26*H26-100,1),IF(ROUND(100/G26*H26-100,1)>999,999,-999))) -> 12.7 | J26: =100/H$32*H26 -> 1.7928802 | L26: =INDIRECT("'" & $A25 & "'!" & $P$7) -> 0 | M26: =INDIRECT("'" & $A25 & "'!" & $P$8) -> 0 | N26: =INDIRECT("'" & $A25 & "'!" &#REF!) -> #REF! | O26: =INDIRECT("'" & $A25 & "'!" & $P$9) -> 0
A27: Storebrand Livsforsikring | B27: ='Storebrand Livsforsikring'!B7+'Storebrand Livsforsikring'!B22+'Storebrand Livsforsikring'!B36+'Storebrand Livsforsikring'!B47+'Storebrand Livsforsikring'!B66+'Storebrand Livsforsikring'!B134 -> 2689958.5 | C27: ='Storebrand Livsforsikring'!C7+'Storebrand Livsforsikring'!C22+'Storebrand Livsforsikring'!C36+'Storebrand Livsforsikring'!C47+'Storebrand Livsforsikring'!C66+'Storebrand Livsforsikring'!C134 -> 2940213.9 | D27: =IF(B27=0, " ---- ", IF(ABS(ROUND(100/B27*C27-100,1))<999,ROUND(100/B27*C27-100,1),IF(ROUND(100/B27*C27-100,1)>999,999,-999))) -> 9.3 | E27: =100/C$32*C27 -> 13.90403 | G27: ='Storebrand Livsforsikring'!B10+'Storebrand Livsforsikring'!B29+'Storebrand Livsforsikring'!B37+'Storebrand Livsforsikring'!B87+'Storebrand Livsforsikring'!B135 -> 2.1511862e+08 | H27: ='Storebrand Livsforsikring'!C10+'Storebrand Livsforsikring'!C29+'Storebrand Livsforsikring'!C37+'Storebrand Livsforsikring'!C87+'Storebrand Livsforsikring'!C135 -> 2.2141966e+08 | I27: =IF(G27=0, " ---- ", IF(ABS(ROUND(100/G27*H27-100,1))<999,ROUND(100/G27*H27-100,1),IF(ROUND(100/G27*H27-100,1)>999,999,-999))) -> 2.9 | J27: =100/H$32*H27 -> 14.907094 | L27: =INDIRECT("'" & $A26 & "'!" & $P$7) -> #REF! | M27: =INDIRECT("'" & $A26 & "'!" & $P$8) -> #REF! | N27: =INDIRECT("'" & $A26 & "'!" &#REF!) -> #REF! | O27: =INDIRECT("'" & $A26 & "'!" & $P$9) -> #REF!
A28: Telenor Forsikring | B28: ='Telenor Forsikring'!B7+'Telenor Forsikring'!B22+'Telenor Forsikring'!B36+'Telenor Forsikring'!B47+'Telenor Forsikring'!B66+'Telenor Forsikring'!B134 -> 2290 | C28: ='Telenor Forsikring'!C7+'Telenor Forsikring'!C22+'Telenor Forsikring'!C36+'Telenor Forsikring'!C47+'Telenor Forsikring'!C66+'Telenor Forsikring'!C134 -> 2001 | D28: =IF(B28=0, " ---- ", IF(ABS(ROUND(100/B28*C28-100,1))<999,ROUND(100/B28*C28-100,1),IF(ROUND(100/B28*C28-100,1)>999,999,-999))) -> -12.6 | E28: =100/C$32*C28 -> 0.0094625648 | L28: =INDIRECT("'" & $A27 & "'!" & $P$7) -> 0 | M28: =INDIRECT("'" & $A27 & "'!" & $P$8) -> 0 | N28: =INDIRECT("'" & $A27 & "'!" &#REF!) -> #REF! | O28: =INDIRECT("'" & $A27 & "'!" & $P$9) -> 0
A29: Tryg Forsikring | B29: ='Tryg Forsikring'!B7+'Tryg Forsikring'!B22+'Tryg Forsikring'!B36+'Tryg Forsikring'!B47+'Tryg Forsikring'!B66+'Tryg Forsikring'!B134 -> 758059 | C29: ='Tryg Forsikring'!C7+'Tryg Forsikring'!C22+'Tryg Forsikring'!C36+'Tryg Forsikring'!C47+'Tryg Forsikring'!C66+'Tryg Forsikring'!C134 -> 772427 | D29: =IF(B29=0, " ---- ", IF(ABS(ROUND(100/B29*C29-100,1))<999,ROUND(100/B29*C29-100,1),IF(ROUND(100/B29*C29-100,1)>999,999,-999))) -> 1.9 | E29: =100/C$32*C29 -> 3.6527439 | L29: =INDIRECT("'" & $A28 & "'!" & $P$7) -> 0 | M29: =INDIRECT("'" & $A28 & "'!" & $P$8) -> 0 | N29: =INDIRECT("'" & $A28 & "'!" &#REF!) -> #REF! | O29: =INDIRECT("'" & $A28 & "'!" & $P$9) -> 0
A30: WaterCircles Forsikring | B30: ='WaterCircles F'!B7+'WaterCircles F'!B22+'WaterCircles F'!B36+'WaterCircles F'!B47+'WaterCircles F'!B66+'WaterCircles F'!B136 -> 1680 | C30: ='WaterCircles F'!C7+'WaterCircles F'!C22+'WaterCircles F'!C36+'WaterCircles F'!C47+'WaterCircles F'!C66+'WaterCircles F'!C136 -> 1584 | D30: =IF(B30=0, " ---- ", IF(ABS(ROUND(100/B30*C30-100,1))<999,ROUND(100/B30*C30-100,1),IF(ROUND(100/B30*C30-100,1)>999,999,-999))) -> -5.7 | E30: =100/C$32*C30 -> 0.007490606 | L30: =INDIRECT("'" & $A29 & "'!" & $P$7) -> 0 | M30: =INDIRECT("'" & $A29 & "'!" & $P$8) -> 0 | N30: =INDIRECT("'" & $A29 & "'!" &#REF!) -> #REF! | O30: =INDIRECT("'" & $A29 & "'!" & $P$9) -> 0
A31: Youplus Livsforsikring | B31: ='Youplus Livsforsikring'!B7+'Youplus Livsforsikring'!B22+'Youplus Livsforsikring'!B36+'Youplus Livsforsikring'!B47+'Youplus Livsforsikring'!B66+'Youplus Livsforsikring'!B134 -> 43878 | C31: ='Youplus Livsforsikring'!C7+'Youplus Livsforsikring'!C22+'Youplus Livsforsikring'!C36+'Youplus Livsforsikring'!C47+'Youplus Livsforsikring'!C66+'Youplus Livsforsikring'!C134 -> 16577 | D31: =IF(B31=0, " ---- ", IF(ABS(ROUND(100/B31*C31-100,1))<999,ROUND(100/B31*C31-100,1),IF(ROUND(100/B31*C31-100,1)>999,999,-999))) -> -62.2 | E31: =100/C$32*C31 -> 0.078391272 | G31: ='Youplus Livsforsikring'!B10+'Youplus Livsforsikring'!B29+'Youplus Livsforsikring'!B37+'Youplus Livsforsikring'!B87+'Youplus Livsforsikring'!B135 -> 69378 | H31: ='Youplus Livsforsikring'!C10+'Youplus Livsforsikring'!C29+'Youplus Livsforsikring'!C37+'Youplus Livsforsikring'!C87+'Youplus Livsforsikring'!C135 -> 94134 | I31: =IF(G31=0, " ---- ", IF(ABS(ROUND(100/G31*H31-100,1))<999,ROUND(100/G31*H31-100,1),IF(ROUND(100/G31*H31-100,1)>999,999,-999))) -> 35.7 | J31: =100/H$32*H31 -> 0.0063375781 | L31: =INDIRECT("'" & $A17 & "'!" & $P$7) -> 0 | M31: =INDIRECT("'" & $A17 & "'!" & $P$8) -> 0 | N31: =INDIRECT("'" & $A17 & "'!" &#REF!) -> #REF! | O31: =INDIRECT("'" & $A17 & "'!" & $P$9) -> 0
A32: Totalt uten investeringsvalg | B32: =SUM(B9:B31) -> 19757371 | C32: =SUM(C9:C31) -> 21146487 | D32: =IF(B32=0, " ---- ", IF(ABS(ROUND(100/B32*C32-100,1))<999,ROUND(100/B32*C32-100,1),IF(ROUND(100/B32*C32-100,1)>999,999,-999))) -> 7 | E32: =SUM(E9:E31) -> 100 | G32: =SUM(G9:G31) -> 1.3860621e+09 | H32: =SUM(H9:H31) -> 1.4853308e+09 | I32: =IF(G32=0, " ---- ", IF(ABS(ROUND(100/G32*H32-100,1))<999,ROUND(100/G32*H32-100,1),IF(ROUND(100/G32*H32-100,1)>999,999,-999))) -> 7.2 | J32: =SUM(J9:J31) -> 100 | L32: =SUM(L9:L30) -> #REF! | M32: =SUM(M9:M30) -> #REF! | N32: =SUM(N9:N30) -> #REF! | O32: =SUM(O9:O30) -> #REF!
L33: Produkter med investeringsvalg
A34: Produkter med investeringsvalg | L34: 2015 | M34: 2016 | N34: 2015 | O34: 2016 | P34: Q17
A35: DNB Livsforsikring | B35: ='DNB Livsforsikring'!F7+'DNB Livsforsikring'!F22+'DNB Livsforsikring'!F66+'DNB Livsforsikring'!F134 -> 4416210.9 | C35: ='DNB Livsforsikring'!G7+'DNB Livsforsikring'!G22+'DNB Livsforsikring'!G66+'DNB Livsforsikring'!G134 -> 4595185.2 | D35: =IF(B35=0, " ---- ", IF(ABS(ROUND(100/B35*C35-100,1))<999,ROUND(100/B35*C35-100,1),IF(ROUND(100/B35*C35-100,1)>999,999,-999))) -> 4.1 | E35: =100/C$41*C35 -> 23.619513 | G35: ='DNB Livsforsikring'!F10+'DNB Livsforsikring'!F29+'DNB Livsforsikring'!F87+'DNB Livsforsikring'!F135 -> 2.035687e+08 | H35: ='DNB Livsforsikring'!G10+'DNB Livsforsikring'!G29+'DNB Livsforsikring'!G87+'DNB Livsforsikring'!G135 -> 2.4595765e+08 | I35: =IF(G35=0, " ---- ", IF(ABS(ROUND(100/G35*H35-100,1))<999,ROUND(100/G35*H35-100,1),IF(ROUND(100/G35*H35-100,1)>999,999,-999))) -> 20.8 | J35: =100/H$41*H35 -> 26.276843 | K35: R14 | L35: =INDIRECT("'" & $A35 & "'!" & $P$34) -> 0 | M35: =INDIRECT("'" & $A35 & "'!" &#REF!) -> #REF! | N35: =INDIRECT("'" & $A35 & "'!" & $P$35) -> 0 | O35: =INDIRECT("'"&$A35&"'!"&#REF!) -> #REF! | P35: Q18
A36: Gjensidige Pensjon | B36: ='Gjensidige Pensjon'!F7+'Gjensidige Pensjon'!F22+'Gjensidige Pensjon'!F66+'Gjensidige Pensjon'!F134 -> 1741309 | C36: ='Gjensidige Pensjon'!G7+'Gjensidige Pensjon'!G22+'Gjensidige Pensjon'!G66+'Gjensidige Pensjon'!G134 -> 1912502 | D36: =IF(B36=0, " ---- ", IF(ABS(ROUND(100/B36*C36-100,1))<999,ROUND(100/B36*C36-100,1),IF(ROUND(100/B36*C36-100,1)>999,999,-999))) -> 9.8 | E36: =100/C$41*C36 -> 9.8303692 | G36: ='Gjensidige Pensjon'!F10+'Gjensidige Pensjon'!F29+'Gjensidige Pensjon'!F87+'Gjensidige Pensjon'!F135 -> 76968991 | H36: ='Gjensidige Pensjon'!G10+'Gjensidige Pensjon'!G29+'Gjensidige Pensjon'!G87+'Gjensidige Pensjon'!G135 -> 91000808 | I36: =IF(G36=0, " ---- ", IF(ABS(ROUND(100/G36*H36-100,1))<999,ROUND(100/G36*H36-100,1),IF(ROUND(100/G36*H36-100,1)>999,999,-999))) -> 18.2 | J36: =100/H$41*H36 -> 9.7220556 | K36: R15 | L36: =INDIRECT("'" & $A36 & "'!" & $P$34) -> 0 | M36: =INDIRECT("'" & $A36 & "'!" &#REF!) -> #REF! | N36: =INDIRECT("'" & $A36 & "'!" & $P$35) -> 0 | O36: =INDIRECT("'"&$A36&"'!"&#REF!) -> #REF!
A37: KLP | B37: =KLP!F7+KLP!F22+KLP!F66+KLP!F134 -> 20929.275 | C37: =KLP!G7+KLP!G22+KLP!G66+KLP!G134 -> 30212.771 | D37: =IF(B37=0, " ---- ", IF(ABS(ROUND(100/B37*C37-100,1))<999,ROUND(100/B37*C37-100,1),IF(ROUND(100/B37*C37-100,1)>999,999,-999))) -> 44.4 | E37: =100/C$41*C37 -> 0.15529536 | G37: =KLP!F10+KLP!F29+KLP!F87+KLP!F135 -> 2888738.1 | H37: =KLP!G10+KLP!G29+KLP!G87+KLP!G135 -> 2410575.5 | I37: =IF(G37=0, " ---- ", IF(ABS(ROUND(100/G37*H37-100,1))<999,ROUND(100/G37*H37-100,1),IF(ROUND(100/G37*H37-100,1)>999,999,-999))) -> -16.6 | J37: =100/H$41*H37 -> 0.25753342 | K37: Q16 | L37: =INDIRECT("'" & $A37 & "'!" & $P$34) -> 0 | M37: =INDIRECT("'" & $A37 & "'!" &#REF!) -> #REF! | N37: =INDIRECT("'" & $A37 & "'!" & $P$35) -> 0 | O37: =INDIRECT("'"&$A37&"'!"&#REF!) -> #REF!
A38: Nordea Liv | B38: ='Nordea Liv '!F7+'Nordea Liv '!F22+'Nordea Liv '!F66+'Nordea Liv '!F134 -> 4781667.1 | C38: ='Nordea Liv '!G7+'Nordea Liv '!G22+'Nordea Liv '!G66+'Nordea Liv '!G134 -> 5869756.9 | D38: =IF(B38=0, " ---- ", IF(ABS(ROUND(100/B38*C38-100,1))<999,ROUND(100/B38*C38-100,1),IF(ROUND(100/B38*C38-100,1)>999,999,-999))) -> 22.8 | E38: =100/C$41*C38 -> 30.170885 | G38: ='Nordea Liv '!F10+'Nordea Liv '!F29+'Nordea Liv '!F87+'Nordea Liv '!F135 -> 177451030 | H38: ='Nordea Liv '!G10+'Nordea Liv '!G29+'Nordea Liv '!G87+'Nordea Liv '!G135 -> 217451090 | I38: =IF(G38=0, " ---- ", IF(ABS(ROUND(100/G38*H38-100,1))<999,ROUND(100/G38*H38-100,1),IF(ROUND(100/G38*H38-100,1)>999,999,-999))) -> 22.5 | J38: =100/H$41*H38 -> 23.23135 | L38: =INDIRECT("'" & $A38 & "'!" & $P$34) -> 0 | M38: =INDIRECT("'" & $A38 & "'!" &#REF!) -> #REF! | N38: =INDIRECT("'" & $A38 & "'!" & $P$35) -> 0 | O38: =INDIRECT("'"&$A38&"'!"&#REF!) -> #REF!
A39: SpareBank 1 Forsikring | B39: ='Sparebank 1 Fors.'!F7+'Sparebank 1 Fors.'!F22+'Sparebank 1 Fors.'!F66+'Sparebank 1 Fors.'!F134 -> 2096095 | C39: ='Sparebank 1 Fors.'!G7+'Sparebank 1 Fors.'!G22+'Sparebank 1 Fors.'!G66+'Sparebank 1 Fors.'!G134 -> 2204043.3 | D39: =IF(B39=0, " ---- ", IF(ABS(ROUND(100/B39*C39-100,1))<999,ROUND(100/B39*C39-100,1),IF(ROUND(100/B39*C39-100,1)>999,999,-999))) -> 5.1 | E39: =100/C$41*C39 -> 11.328908 | G39: ='Sparebank 1 Fors.'!F10+'Sparebank 1 Fors.'!F29+'Sparebank 1 Fors.'!F87+'Sparebank 1 Fors.'!F135 -> 85714630 | H39: ='Sparebank 1 Fors.'!G10+'Sparebank 1 Fors.'!G29+'Sparebank 1 Fors.'!G87+'Sparebank 1 Fors.'!G135 -> 96535673 | I39: =IF(G39=0, " ---- ", IF(ABS(ROUND(100/G39*H39-100,1))<999,ROUND(100/G39*H39-100,1),IF(ROUND(100/G39*H39-100,1)>999,999,-999))) -> 12.6 | J39: =100/H$41*H39 -> 10.313372 | L39: =INDIRECT("'" & $A39 & "'!" & $P$34) -> #REF! | M39: =INDIRECT("'" & $A39 & "'!" &#REF!) -> #REF! | N39: =INDIRECT("'" & $A39 & "'!" & $P$35) -> #REF! | O39: =INDIRECT("'"&$A39&"'!"&#REF!) -> #REF!
A40: Storebrand Livsforsikring | B40: ='Storebrand Livsforsikring'!F7+'Storebrand Livsforsikring'!F22+'Storebrand Livsforsikring'!F66+'Storebrand Livsforsikring'!F134 -> 4815430.6 | C40: ='Storebrand Livsforsikring'!G7+'Storebrand Livsforsikring'!G22+'Storebrand Livsforsikring'!G66+'Storebrand Livsforsikring'!G134 -> 4843337.4 | D40: =IF(B40=0, " ---- ", IF(ABS(ROUND(100/B40*C40-100,1))<999,ROUND(100/B40*C40-100,1),IF(ROUND(100/B40*C40-100,1)>999,999,-999))) -> 0.6 | E40: =100/C$41*C40 -> 24.89503 | G40: ='Storebrand Livsforsikring'!F10+'Storebrand Livsforsikring'!F29+'Storebrand Livsforsikring'!F87+'Storebrand Livsforsikring'!F135 -> 2.4475301e+08 | H40: ='Storebrand Livsforsikring'!G10+'Storebrand Livsforsikring'!G29+'Storebrand Livsforsikring'!G87+'Storebrand Livsforsikring'!G135 -> 2.8266855e+08 | I40: =IF(G40=0, " ---- ", IF(ABS(ROUND(100/G40*H40-100,1))<999,ROUND(100/G40*H40-100,1),IF(ROUND(100/G40*H40-100,1)>999,999,-999))) -> 15.5 | J40: =100/H$41*H40 -> 30.198846 | L40: =INDIRECT("'" & $A40 & "'!" & $P$34) -> 0 | M40: =INDIRECT("'" & $A40 & "'!" &#REF!) -> #REF! | N40: =INDIRECT("'" & $A40 & "'!" & $P$35) -> 0 | O40: =INDIRECT("'"&$A40&"'!"&#REF!) -> #REF!
A41: Totalt med investeringsvalg | B41: =SUM(B35:B40) -> 17871642 | C41: =SUM(C35:C40) -> 19455037 | D41: =IF(B41=0, " ---- ", IF(ABS(ROUND(100/B41*C41-100,1))<999,ROUND(100/B41*C41-100,1),IF(ROUND(100/B41*C41-100,1)>999,999,-999))) -> 8.9 | E41: =SUM(E35:E40) -> 100 | G41: =SUM(G35:G40) -> 7.913451e+08 | H41: =SUM(H35:H40) -> 9.3602435e+08 | I41: =IF(G41=0, " ---- ", IF(ABS(ROUND(100/G41*H41-100,1))<999,ROUND(100/G41*H41-100,1),IF(ROUND(100/G41*H41-100,1)>999,999,-999))) -> 18.3 | J41: =SUM(J35:J40) -> 100 | L41: =SUM(L35:L40) -> #REF! | M41: =SUM(M35:M40) -> #REF! | N41: =SUM(N35:N40) -> #REF! | O41: =SUM(O35:O40) -> #REF!
L42: Alle produkter
L43: 2015 | M43: 2016 | N43: 2015 | O43: 2016
A44: Alle produkter
A45: DNB Livsforsikring | B45: =B9+B35 -> 5665898.9 | C45: =+C9+C35 -> 5846219.4 | D45: =IF(B45=0, " ---- ", IF(ABS(ROUND(100/B45*C45-100,1))<999,ROUND(100/B45*C45-100,1),IF(ROUND(100/B45*C45-100,1)>999,999,-999))) -> 3.2 | E45: =100/C$68*C45 -> 14.399015 | G45: =+G9+G35 -> 3.832531e+08 | H45: =+H9+H35 -> 4.244754e+08 | I45: =IF(G45=0, " ---- ", IF(ABS(ROUND(100/G45*H45-100,1))<999,ROUND(100/G45*H45-100,1),IF(ROUND(100/G45*H45-100,1)>999,999,-999))) -> 10.8 | J45: =100/H$68*H45 -> 17.530489 | L45: =#REF!+L35 -> #REF! | M45: =+#REF!+M35 -> #REF! | N45: =+#REF!+N35 -> #REF! | O45: =+#REF!+O35 -> #REF!
A46: Euro Accident | B46: =B10 -> 30761 | C46: =C10 -> 46204 | D46: =IF(B46=0, " ---- ", IF(ABS(ROUND(100/B46*C46-100,1))<999,ROUND(100/B46*C46-100,1),IF(ROUND(100/B46*C46-100,1)>999,999,-999))) -> 50.2 | E46: =100/C$68*C46 -> 0.11379868
A47: Fremtind | B47: =B11 -> 1271137.3 | C47: =C11 -> 1220218.7 | D47: =IF(B47=0, " ---- ", IF(ABS(ROUND(100/B47*C47-100,1))<999,ROUND(100/B47*C47-100,1),IF(ROUND(100/B47*C47-100,1)>999,999,-999))) -> -4 | E47: =100/C$68*C47 -> 3.005352 | G47: =G11 -> 6000495.2 | H47: =H11 -> 6592758.2 | I47: =IF(G47=0, " ---- ", IF(ABS(ROUND(100/G47*H47-100,1))<999,ROUND(100/G47*H47-100,1),IF(ROUND(100/G47*H47-100,1)>999,999,-999))) -> 9.9 | J47: =100/H$68*H47 -> 0.27227556
A48: Frende Livsforsikring | B48: =B12 -> 713825 | C48: =C12 -> 787243 | D48: =IF(B48=0, " ---- ", IF(ABS(ROUND(100/B48*C48-100,1))<999,ROUND(100/B48*C48-100,1),IF(ROUND(100/B48*C48-100,1)>999,999,-999))) -> 10.3 | E48: =100/C$68*C48 -> 1.9389494 | G48: =G12 -> 2437488 | H48: =H12 -> 2794309 | I48: =IF(G48=0, " ---- ", IF(ABS(ROUND(100/G48*H48-100,1))<999,ROUND(100/G48*H48-100,1),IF(ROUND(100/G48*H48-100,1)>999,999,-999))) -> 14.6 | J48: =100/H$68*H48 -> 0.11540269 | L48: =L13+#REF! -> #REF! | M48: =M13+#REF! -> #REF! | N48: =N13+#REF! -> #REF! | O48: =O13+#REF! -> #REF!
A49: Frende Skadeforsikring | B49: =B13 -> 287.337 | C49: =C13 -> 25.519 | D49: =IF(B49=0, " ---- ", IF(ABS(ROUND(100/B49*C49-100,1))<999,ROUND(100/B49*C49-100,1),IF(ROUND(100/B49*C49-100,1)>999,999,-999))) -> -91.1 | E49: =100/C$68*C49 -> 6.285232e-05 | L49: =L14 -> 0 | M49: =M14 -> 0 | N49: =N14 -> #REF! | O49: =O14 -> 0
A50: Gjensidige Forsikring | B50: =B14 -> 1611395.2 | C50: =+C14 -> 1562214.5 | D50: =IF(B50=0, " ---- ", IF(ABS(ROUND(100/B50*C50-100,1))<999,ROUND(100/B50*C50-100,1),IF(ROUND(100/B50*C50-100,1)>999,999,-999))) -> -3.1 | E50: =100/C$68*C50 -> 3.8476746 | L50: =L15 -> 0 | M50: =+M15 -> 0 | N50: =+N15 -> #REF! | O50: =+O15 -> 0
A51: Gjensidige Pensjon | B51: =B15+B36 -> 2102663 | C51: =C15+C36 -> 2298449 | D51: =IF(B51=0, " ---- ", IF(ABS(ROUND(100/B51*C51-100,1))<999,ROUND(100/B51*C51-100,1),IF(ROUND(100/B51*C51-100,1)>999,999,-999))) -> 9.3 | E51: =100/C$68*C51 -> 5.6609919 | G51: =G15+G36 -> 88248020 | H51: =H15+H36 -> 103087083 | I51: =IF(G51=0, " ---- ", IF(ABS(ROUND(100/G51*H51-100,1))<999,ROUND(100/G51*H51-100,1),IF(ROUND(100/G51*H51-100,1)>999,999,-999))) -> 16.8 | J51: =100/H$68*H51 -> 4.2574128 | L51: =#REF!+L36 -> #REF! | M51: =#REF!+M36 -> #REF! | N51: =#REF!+N36 -> #REF! | O51: =#REF!+O36 -> #REF!
A52: If Skadeforsikring NUF | B52: =B16 -> 306096.55 | C52: =+C16 -> 344301.02 | D52: =IF(B52=0, " ---- ", IF(ABS(ROUND(100/B52*C52-100,1))<999,ROUND(100/B52*C52-100,1),IF(ROUND(100/B52*C52-100,1)>999,999,-999))) -> 12.5 | E52: =100/C$68*C52 -> 0.84800023 | L52: =#REF! -> #REF! | M52: =+#REF! -> #REF! | N52: =+#REF! -> #REF! | O52: =+#REF! -> #REF!
A53: KLP | B53: =B17+B37 -> 8070309.1 | C53: =C17+C37 -> 8774836.7 | D53: =IF(B53=0, " ---- ", IF(ABS(ROUND(100/B53*C53-100,1))<999,ROUND(100/B53*C53-100,1),IF(ROUND(100/B53*C53-100,1)>999,999,-999))) -> 8.7 | E53: =100/C$68*C53 -> 21.612087 | G53: =G17+G37 -> 7.9770142e+08 | H53: =H17+H37 -> 8.7867585e+08 | I53: =IF(G53=0, " ---- ", IF(ABS(ROUND(100/G53*H53-100,1))<999,ROUND(100/G53*H53-100,1),IF(ROUND(100/G53*H53-100,1)>999,999,-999))) -> 10.2 | J53: =100/H$68*H53 -> 36.288598 | L53: =L31+L37 -> 0 | M53: =M31+M37 -> #REF! | N53: =N31+N37 -> #REF! | O53: =O31+O37 -> #REF!
A54: KLP Skadeforsikring AS | B54: =B18 -> 234700.55 | C54: =C18 -> 696348.86 | D54: =IF(B54=0, " ---- ", IF(ABS(ROUND(100/B54*C54-100,1))<999,ROUND(100/B54*C54-100,1),IF(ROUND(100/B54*C54-100,1)>999,999,-999))) -> 196.7 | E54: =100/C$68*C54 -> 1.7150806 | G54: =G18 -> 173603.85 | H54: =H18 -> 284694.43 | I54: =IF(G54=0, " ---- ", IF(ABS(ROUND(100/G54*H54-100,1))<999,ROUND(100/G54*H54-100,1),IF(ROUND(100/G54*H54-100,1)>999,999,-999))) -> 64 | J54: =100/H$68*H54 -> 0.011757649 | L54: =L20 -> 0 | M54: =M20 -> 0 | N54: =N20 -> #REF! | O54: =O20 -> 0
A55: Knif Trygghet Forsikring | B55: =B19 -> 0 | C55: =C19 -> 53091 | D55: =IF(B55=0, " ---- ", IF(ABS(ROUND(100/B55*C55-100,1))<999,ROUND(100/B55*C55-100,1),IF(ROUND(100/B55*C55-100,1)>999,999,-999))) -> ---- | E55: =100/C$68*C55 -> 0.1307611 | G55: =G19 -> 0 | H55: =H19 -> 3595 | I55: =IF(G55=0, " ---- ", IF(ABS(ROUND(100/G55*H55-100,1))<999,ROUND(100/G55*H55-100,1),IF(ROUND(100/G55*H55-100,1)>999,999,-999))) -> ---- | J55: =100/H$68*H55 -> 0.00014847058
A56: Landkreditt Forsikring | B56: =B20 -> 82536 | C56: =C20 -> 71658 | D56: =IF(B56=0, " ---- ", IF(ABS(ROUND(100/B56*C56-100,1))<999,ROUND(100/B56*C56-100,1),IF(ROUND(100/B56*C56-100,1)>999,999,-999))) -> -13.2 | E56: =100/C$68*C56 -> 0.17649091 | L56: =L22 -> #REF! | M56: =M22 -> #REF! | N56: =N22 -> #REF! | O56: =O22 -> #REF!
A57: Ly Forsikring | B57: =B21 -> 15177 | C57: =C21 -> 16314 | D57: =IF(B57=0, " ---- ", IF(ABS(ROUND(100/B57*C57-100,1))<999,ROUND(100/B57*C57-100,1),IF(ROUND(100/B57*C57-100,1)>999,999,-999))) -> 7.5 | E57: =100/C$68*C57 -> 0.040180758
A58: Nordea Liv | B58: =B22+B38 -> 5593405.2 | C58: =+C22+C38 -> 6725323.4 | D58: =IF(B58=0, " ---- ", IF(ABS(ROUND(100/B58*C58-100,1))<999,ROUND(100/B58*C58-100,1),IF(ROUND(100/B58*C58-100,1)>999,999,-999))) -> 20.2 | E58: =100/C$68*C58 -> 16.564214 | G58: =+G22+G38 -> 2.3241567e+08 | H58: =+H22+H38 -> 2.7388524e+08 | I58: =IF(G58=0, " ---- ", IF(ABS(ROUND(100/G58*H58-100,1))<999,ROUND(100/G58*H58-100,1),IF(ROUND(100/G58*H58-100,1)>999,999,-999))) -> 17.8 | J58: =100/H$68*H58 -> 11.311238 | L58: =L24+L38 -> 0 | M58: =+M24+M38 -> #REF! | N58: =+N24+N38 -> #REF! | O58: =+O24+O38 -> #REF!
A59: Oslo Forsikring | B59: =B23 -> 8970 | C59: =C23 -> 9386 | D59: =IF(B59=0, " ---- ", IF(ABS(ROUND(100/B59*C59-100,1))<999,ROUND(100/B59*C59-100,1),IF(ROUND(100/B59*C59-100,1)>999,999,-999))) -> 4.6 | E59: =100/C$68*C59 -> 0.023117359
A60: Oslo Pensjonsforsikring | B60: =B24 -> 908116 | C60: =C24 -> 694944 | D60: =IF(B60=0, " ---- ", IF(ABS(ROUND(100/B60*C60-100,1))<999,ROUND(100/B60*C60-100,1),IF(ROUND(100/B60*C60-100,1)>999,999,-999))) -> -23.5 | E60: =100/C$68*C60 -> 1.7116205 | G60: =G24 -> 97889000 | H60: =H24 -> 104208000 | I60: =IF(G60=0, " ---- ", IF(ABS(ROUND(100/G60*H60-100,1))<999,ROUND(100/G60*H60-100,1),IF(ROUND(100/G60*H60-100,1)>999,999,-999))) -> 6.5 | J60: =100/H$68*H60 -> 4.3037057 | L60: =L25 -> 0 | M60: =M25 -> 0 | N60: =N25 -> #REF! | O60: =O25 -> 0
A61: Protector Forsikring | B61: =B25 -> 318529 | C61: =C25 -> 387470 | D61: =IF(B61=0, " ---- ", IF(ABS(ROUND(100/B61*C61-100,1))<999,ROUND(100/B61*C61-100,1),IF(ROUND(100/B61*C61-100,1)>999,999,-999))) -> 21.6 | E61: =100/C$68*C61 -> 0.95432378
A62: SpareBank 1 Forsikring | B62: =B26+B39 -> 2383909.8 | C62: =+C26+C39 -> 2491136.8 | D62: =IF(B62=0, " ---- ", IF(ABS(ROUND(100/B62*C62-100,1))<999,ROUND(100/B62*C62-100,1),IF(ROUND(100/B62*C62-100,1)>999,999,-999))) -> 4.5 | E62: =100/C$68*C62 -> 6.1355746 | G62: =+G26+G39 -> 1.093474e+08 | H62: =+H26+H39 -> 1.2316587e+08 | I62: =IF(G62=0, " ---- ", IF(ABS(ROUND(100/G62*H62-100,1))<999,ROUND(100/G62*H62-100,1),IF(ROUND(100/G62*H62-100,1)>999,999,-999))) -> 12.6 | J62: =100/H$68*H62 -> 5.0866505 | L62: =L27+L39 -> #REF! | M62: =+M27+M39 -> #REF! | N62: =+N27+N39 -> #REF! | O62: =+O27+O39 -> #REF!
A63: Storebrand Livsforsikring | B63: =B40+B27 -> 7505389.1 | C63: =+C27+C40 -> 7783551.2 | D63: =IF(B63=0, " ---- ", IF(ABS(ROUND(100/B63*C63-100,1))<999,ROUND(100/B63*C63-100,1),IF(ROUND(100/B63*C63-100,1)>999,999,-999))) -> 3.7 | E63: =100/C$68*C63 -> 19.170589 | G63: =+G27+G40 -> 4.5987162e+08 | H63: =+H27+H40 -> 5.0408821e+08 | I63: =IF(G63=0, " ---- ", IF(ABS(ROUND(100/G63*H63-100,1))<999,ROUND(100/G63*H63-100,1),IF(ROUND(100/G63*H63-100,1)>999,999,-999))) -> 9.6 | J63: =100/H$68*H63 -> 20.818433 | L63: =L40+L28 -> 0 | M63: =+M28+M40 -> #REF! | N63: =+N28+N40 -> #REF! | O63: =+O28+O40 -> #REF!
A64: Telenor Forsikring | B64: =B28 -> 2290 | C64: =+C28 -> 2001 | D64: =IF(B64=0, " ---- ", IF(ABS(ROUND(100/B64*C64-100,1))<999,ROUND(100/B64*C64-100,1),IF(ROUND(100/B64*C64-100,1)>999,999,-999))) -> -12.6 | E64: =100/C$68*C64 -> 0.0049283864 | L64: =L29 -> 0 | M64: =+M29 -> 0 | N64: =+N29 -> #REF! | O64: =+O29 -> 0
A65: Tryg Forsikring | B65: =B29 -> 758059 | C65: =+C29 -> 772427 | D65: =IF(B65=0, " ---- ", IF(ABS(ROUND(100/B65*C65-100,1))<999,ROUND(100/B65*C65-100,1),IF(ROUND(100/B65*C65-100,1)>999,999,-999))) -> 1.9 | E65: =100/C$68*C65 -> 1.9024581 | L65: =L30 -> 0 | M65: =+M30 -> 0 | N65: =+N30 -> #REF! | O65: =+O30 -> 0
A66: WaterCircles Forsikring | B66: =B30 -> 1680 | C66: =C30 -> 1584 | D66: =IF(B66=0, " ---- ", IF(ABS(ROUND(100/B66*C66-100,1))<999,ROUND(100/B66*C66-100,1),IF(ROUND(100/B66*C66-100,1)>999,999,-999))) -> -5.7 | E66: =100/C$32*C66 -> 0.007490606 | L66: =INDIRECT("'" & $A65 & "'!" & $P$7) -> 0 | M66: =INDIRECT("'" & $A65 & "'!" & $P$8) -> 0 | N66: =INDIRECT("'" & $A65 & "'!" &#REF!) -> #REF! | O66: =INDIRECT("'" & $A65 & "'!" & $P$9) -> 0
A67: Youplus Livsforsikring | B67: =B31 -> 43878 | C67: =+C31 -> 16577 | D67: =IF(B67=0, " ---- ", IF(ABS(ROUND(100/B67*C67-100,1))<999,ROUND(100/B67*C67-100,1),IF(ROUND(100/B67*C67-100,1)>999,999,-999))) -> -62.2 | E67: =100/C$68*C67 -> 0.040828517 | G67: =G31 -> 69378 | H67: =H31 -> 94134 | I67: =IF(G67=0, " ---- ", IF(ABS(ROUND(100/G67*H67-100,1))<999,ROUND(100/G67*H67-100,1),IF(ROUND(100/G67*H67-100,1)>999,999,-999))) -> 35.7 | J67: =100/H$68*H67 -> 0.0038876577 | L67: =L18+#REF! -> #REF! | M67: =+M18+#REF! -> #REF! | N67: =N18+#REF! -> #REF! | O67: =O18+#REF! -> #REF!
A68: Totalt | B68: =SUM(B45:B67) -> 37629013 | C68: =SUM(C45:C67) -> 40601524 | D68: =IF(B68=0, " ---- ", IF(ABS(ROUND(100/B68*C68-100,1))<999,ROUND(100/B68*C68-100,1),IF(ROUND(100/B68*C68-100,1)>999,999,-999))) -> 7.9 | E68: =SUM(E45:E67) -> 100.00359 | G68: =SUM(G45:G67) -> 2.1774072e+09 | H68: =SUM(H45:H67) -> 2.4213551e+09 | I68: =IF(G68=0, " ---- ", IF(ABS(ROUND(100/G68*H68-100,1))<999,ROUND(100/G68*H68-100,1),IF(ROUND(100/G68*H68-100,1)>999,999,-999))) -> 11.2 | J68: =SUM(J45:J67) -> 100 | L68: =SUM(L45:L65) -> #REF! | M68: =SUM(M45:M65) -> #REF! | N68: =SUM(N45:N65) -> #REF! | O68: =SUM(O45:O65) -> #REF!
A69: Noter : Se "Noter og kommentarer"

Sheet Tabell 1.2
A1: Markedsdel, endelig år | B1: Tilbake
A2: Tabell 1.2 Hovedtall
A3: Fordelt på bransjer
A4: 31.03.
B5: Produkter uten investeringsvalg | F5: Produkter med investeringsvalg | J5: Totalt alle produkter
D6: % | H6: % | L6: %
A7: Beløp i 1000 kr. | B7: 2025 | C7: 2026 | D7: endring | F7: 2025 | G7: 2026 | H7: endring | J7: 2025 | K7: 2026 | L7: endring
A8: Brutto forfalt premie 1)
A9: Individuell kapitalforsikring | B9: ='Skjema total MA'!B7 -> 2007693.9 | C9: ='Skjema total MA'!C7 -> 2099019.5 | D9: =IF(B9=0, " ---- ", IF(ABS(ROUND(100/B9*C9-100,1))<999,ROUND(100/B9*C9-100,1),IF(ROUND(100/B9*C9-100,1)>999,999,-999))) -> 4.5 | F9: ='Skjema total MA'!E7 -> 2988485.4 | G9: ='Skjema total MA'!F7 -> 3757879.7 | H9: =IF(F9=0, " ---- ", IF(ABS(ROUND(100/F9*G9-100,1))<999,ROUND(100/F9*G9-100,1),IF(ROUND(100/F9*G9-100,1)>999,999,-999))) -> 25.7 | J9: =SUM(B9+F9) -> 4996179.2 | K9: =SUM(C9+G9) -> 5856899.2 | L9: =IF(J9=0, " ---- ", IF(ABS(ROUND(100/J9*K9-100,1))<999,ROUND(100/J9*K9-100,1),IF(ROUND(100/J9*K9-100,1)>999,999,-999))) -> 17.2
A10: Individuell pensjonsforsikring | B10: ='Skjema total MA'!B22 -> 992677.9 | C10: ='Skjema total MA'!C22 -> 1078054.3 | D10: =IF(B10=0, " ---- ", IF(ABS(ROUND(100/B10*C10-100,1))<999,ROUND(100/B10*C10-100,1),IF(ROUND(100/B10*C10-100,1)>999,999,-999))) -> 8.6 | F10: ='Skjema total MA'!E22 -> 287527.38 | G10: ='Skjema total MA'!F22 -> 446345.47 | H10: =IF(F10=0, " ---- ", IF(ABS(ROUND(100/F10*G10-100,1))<999,ROUND(100/F10*G10-100,1),IF(ROUND(100/F10*G10-100,1)>999,999,-999))) -> 55.2 | J10: =SUM(B10+F10) -> 1280205.3 | K10: =SUM(C10+G10) -> 1524399.8 | L10: =IF(J10=0, " ---- ", IF(ABS(ROUND(100/J10*K10-100,1))<999,ROUND(100/J10*K10-100,1),IF(ROUND(100/J10*K10-100,1)>999,999,-999))) -> 19.1
A11: Gruppeliv | B11: ='Skjema total MA'!B47 -> 4431215.9 | C11: ='Skjema total MA'!C47 -> 5034421.2 | D11: =IF(B11=0, " ---- ", IF(ABS(ROUND(100/B11*C11-100,1))<999,ROUND(100/B11*C11-100,1),IF(ROUND(100/B11*C11-100,1)>999,999,-999))) -> 13.6 | J11: =SUM(B11+F11) -> 4431215.9 | K11: =SUM(C11+G11) -> 5034421.2 | L11: =IF(J11=0, " ---- ", IF(ABS(ROUND(100/J11*K11-100,1))<999,ROUND(100/J11*K11-100,1),IF(ROUND(100/J11*K11-100,1)>999,999,-999))) -> 13.6
A12: Privat kollektiv pensjon | B12: ='Skjema total MA'!B66 -> 2945251.8 | C12: ='Skjema total MA'!C66 -> 3039821.6 | D12: =IF(B12=0, " ---- ", IF(ABS(ROUND(100/B12*C12-100,1))<999,ROUND(100/B12*C12-100,1),IF(ROUND(100/B12*C12-100,1)>999,999,-999))) -> 3.2 | F12: ='Skjema total MA'!E66 -> 14574700 | G12: ='Skjema total MA'!F66 -> 15220600 | H12: =IF(F12=0, " ---- ", IF(ABS(ROUND(100/F12*G12-100,1))<999,ROUND(100/F12*G12-100,1),IF(ROUND(100/F12*G12-100,1)>999,999,-999))) -> 4.4 | J12: =SUM(B12+F12) -> 17519952 | K12: =SUM(C12+G12) -> 18260421 | L12: =IF(J12=0, " ---- ", IF(ABS(ROUND(100/J12*K12-100,1))<999,ROUND(100/J12*K12-100,1),IF(ROUND(100/J12*K12-100,1)>999,999,-999))) -> 4.2
A13: - herav innskuddsbasert * | B13: ='Skjema total MA'!B68 -> 8248.0025 | C13: ='Skjema total MA'!C68 -> 4535.4735 | D13: =IF(B13=0, " ---- ", IF(ABS(ROUND(100/B13*C13-100,1))<999,ROUND(100/B13*C13-100,1),IF(ROUND(100/B13*C13-100,1)>999,999,-999))) -> -45 | F13: ='Skjema total MA'!E68 -> 14040757 | G13: ='Skjema total MA'!F68 -> 14665715 | H13: =IF(F13=0, " ---- ", IF(ABS(ROUND(100/F13*G13-100,1))<999,ROUND(100/F13*G13-100,1),IF(ROUND(100/F13*G13-100,1)>999,999,-999))) -> 4.5 | J13: =SUM(B13+F13) -> 14049005 | K13: =SUM(C13+G13) -> 14670251 | L13: =IF(J13=0, " ---- ", IF(ABS(ROUND(100/J13*K13-100,1))<999,ROUND(100/J13*K13-100,1),IF(ROUND(100/J13*K13-100,1)>999,999,-999))) -> 4.4
A14: - herav etter tjenestepensjonsloven | B14: ='Skjema total MA'!B75+'Skjema total MA'!B76 -> 1106397 | C14: ='Skjema total MA'!C75+'Skjema total MA'!C76 -> 1329040.1 | D14: =IF(B14=0, " ---- ", IF(ABS(ROUND(100/B14*C14-100,1))<999,ROUND(100/B14*C14-100,1),IF(ROUND(100/B14*C14-100,1)>999,999,-999))) -> 20.1 | F14: ='Skjema total MA'!E75+'Skjema total MA'!E76 -> 533942.62 | G14: ='Skjema total MA'!F75+'Skjema total MA'!F76 -> 554884.32 | H14: =IF(F14=0, " ---- ", IF(ABS(ROUND(100/F14*G14-100,1))<999,ROUND(100/F14*G14-100,1),IF(ROUND(100/F14*G14-100,1)>999,999,-999))) -> 3.9 | J14: =SUM(B14+F14) -> 1640339.6 | K14: =SUM(C14+G14) -> 1883924.4 | L14: =IF(J14=0, " ---- ", IF(ABS(ROUND(100/J14*K14-100,1))<999,ROUND(100/J14*K14-100,1),IF(ROUND(100/J14*K14-100,1)>999,999,-999))) -> 14.8
A15: Kommunal kollektiv pensjon 15) | B15: ='Skjema total MA'!B134 -> 9379924.7 | C15: ='Skjema total MA'!C134 -> 9894732.6 | D15: =IF(B15=0, " ---- ", IF(ABS(ROUND(100/B15*C15-100,1))<999,ROUND(100/B15*C15-100,1),IF(ROUND(100/B15*C15-100,1)>999,999,-999))) -> 5.5 | F15: ='Skjema total MA'!E134 -> 20929.275 | G15: ='Skjema total MA'!F134 -> 30212.771 | H15: =IF(F15=0, " ---- ", IF(ABS(ROUND(100/F15*G15-100,1))<999,ROUND(100/F15*G15-100,1),IF(ROUND(100/F15*G15-100,1)>999,999,-999))) -> 44.4 | J15: =SUM(B15+F15) -> 9400853.9 | K15: =SUM(C15+G15) -> 9924945.4 | L15: =IF(J15=0, " ---- ", IF(ABS(ROUND(100/J15*K15-100,1))<999,ROUND(100/J15*K15-100,1),IF(ROUND(100/J15*K15-100,1)>999,999,-999))) -> 5.6
A16: Foreningskollektiv | B16: ='Skjema total MA'!B36 -> 607 | C16: ='Skjema total MA'!C36 -> 437.426 | D16: =IF(B16=0, " ---- ", IF(ABS(ROUND(100/B16*C16-100,1))<999,ROUND(100/B16*C16-100,1),IF(ROUND(100/B16*C16-100,1)>999,999,-999))) -> -27.9 | J16: =SUM(B16+F16) -> 607 | K16: =SUM(C16+G16) -> 437.426 | L16: =IF(J16=0, " ---- ", IF(ABS(ROUND(100/J16*K16-100,1))<999,ROUND(100/J16*K16-100,1),IF(ROUND(100/J16*K16-100,1)>999,999,-999))) -> -27.9
A17: Totalt brutto forfalt premie | B17: ='Tabel 1.1'!B32 -> 19757371 | C17: ='Tabel 1.1'!C32 -> 21146487 | D17: =IF(B17=0, " ---- ", IF(ABS(ROUND(100/B17*C17-100,1))<999,ROUND(100/B17*C17-100,1),IF(ROUND(100/B17*C17-100,1)>999,999,-999))) -> 7 | F17: ='Tabel 1.1'!B41 -> 17871642 | G17: ='Tabel 1.1'!C41 -> 19455037 | H17: =IF(F17=0, " ---- ", IF(ABS(ROUND(100/F17*G17-100,1))<999,ROUND(100/F17*G17-100,1),IF(ROUND(100/F17*G17-100,1)>999,999,-999))) -> 8.9 | J17: =SUM(B17+F17) -> 37629013 | K17: =SUM(C17+G17) -> 40601524 | L17: =IF(J17=0, " ---- ", IF(ABS(ROUND(100/J17*K17-100,1))<999,ROUND(100/J17*K17-100,1),IF(ROUND(100/J17*K17-100,1)>999,999,-999))) -> 7.9
A19: Forsikringsforpliktelser 4)
A20: Individuell kapitalforsikring | B20: ='Skjema total MA'!B10 -> 12653191 | C20: ='Skjema total MA'!C10 -> 12775940 | D20: =IF(B20=0, " ---- ", IF(ABS(ROUND(100/B20*C20-100,1))<999,ROUND(100/B20*C20-100,1),IF(ROUND(100/B20*C20-100,1)>999,999,-999))) -> 1 | F20: ='Skjema total MA'!E10 -> 94510190 | G20: ='Skjema total MA'!F10 -> 1.0767607e+08 | H20: =IF(F20=0, " ---- ", IF(ABS(ROUND(100/F20*G20-100,1))<999,ROUND(100/F20*G20-100,1),IF(ROUND(100/F20*G20-100,1)>999,999,-999))) -> 13.9 | J20: =SUM(B20+F20) -> 1.0716338e+08 | K20: =SUM(C20+G20) -> 1.2045201e+08 | L20: =IF(J20=0, " ---- ", IF(ABS(ROUND(100/J20*K20-100,1))<999,ROUND(100/J20*K20-100,1),IF(ROUND(100/J20*K20-100,1)>999,999,-999))) -> 12.4
A21: Individuell pensjonsforsikring | B21: ='Skjema total MA'!B29 -> 44006076 | C21: ='Skjema total MA'!C29 -> 44504846 | D21: =IF(B21=0, " ---- ", IF(ABS(ROUND(100/B21*C21-100,1))<999,ROUND(100/B21*C21-100,1),IF(ROUND(100/B21*C21-100,1)>999,999,-999))) -> 1.1 | F21: ='Skjema total MA'!E29 -> 28605602 | G21: ='Skjema total MA'!F29 -> 31182335 | H21: =IF(F21=0, " ---- ", IF(ABS(ROUND(100/F21*G21-100,1))<999,ROUND(100/F21*G21-100,1),IF(ROUND(100/F21*G21-100,1)>999,999,-999))) -> 9 | J21: =SUM(B21+F21) -> 72611678 | K21: =SUM(C21+G21) -> 75687181 | L21: =IF(J21=0, " ---- ", IF(ABS(ROUND(100/J21*K21-100,1))<999,ROUND(100/J21*K21-100,1),IF(ROUND(100/J21*K21-100,1)>999,999,-999))) -> 4.2
A22: Privat kollektiv pensjon | B22: ='Skjema total MA'!B87 -> 4.0658731e+08 | C22: ='Skjema total MA'!C87 -> 4.1459995e+08 | D22: =IF(B22=0, " ---- ", IF(ABS(ROUND(100/B22*C22-100,1))<999,ROUND(100/B22*C22-100,1),IF(ROUND(100/B22*C22-100,1)>999,999,-999))) -> 2 | F22: ='Skjema total MA'!E87 -> 6.6534057e+08 | G22: ='Skjema total MA'!F87 -> 7.9475537e+08 | H22: =IF(F22=0, " ---- ", IF(ABS(ROUND(100/F22*G22-100,1))<999,ROUND(100/F22*G22-100,1),IF(ROUND(100/F22*G22-100,1)>999,999,-999))) -> 19.5 | J22: =SUM(B22+F22) -> 1.0719279e+09 | K22: =SUM(C22+G22) -> 1.2093553e+09 | L22: =IF(J22=0, " ---- ", IF(ABS(ROUND(100/J22*K22-100,1))<999,ROUND(100/J22*K22-100,1),IF(ROUND(100/J22*K22-100,1)>999,999,-999))) -> 12.8
A23: - herav innskuddsbasert * | B23: ='Skjema total MA'!B89 -> 2369244.5 | C23: ='Skjema total MA'!C89 -> 4235867.1 | D23: =IF(B23=0, " ---- ", IF(ABS(ROUND(100/B23*C23-100,1))<999,ROUND(100/B23*C23-100,1),IF(ROUND(100/B23*C23-100,1)>999,999,-999))) -> 78.8 | F23: ='Skjema total MA'!E89 -> 6.5510817e+08 | G23: ='Skjema total MA'!F89 -> 7.8190027e+08 | H23: =IF(F23=0, " ---- ", IF(ABS(ROUND(100/F23*G23-100,1))<999,ROUND(100/F23*G23-100,1),IF(ROUND(100/F23*G23-100,1)>999,999,-999))) -> 19.4 | J23: =SUM(B23+F23) -> 6.5747741e+08 | K23: =SUM(C23+G23) -> 7.8613614e+08 | L23: =IF(J23=0, " ---- ", IF(ABS(ROUND(100/J23*K23-100,1))<999,ROUND(100/J23*K23-100,1),IF(ROUND(100/J23*K23-100,1)>999,999,-999))) -> 19.6
A24: - herav etter tjenestepensjonsloven | B24: ='Skjema total MA'!B96+'Skjema total MA'!B97 -> 19970826 | C24: ='Skjema total MA'!C96+'Skjema total MA'!C97 -> 23624914 | D24: =IF(B24=0, " ---- ", IF(ABS(ROUND(100/B24*C24-100,1))<999,ROUND(100/B24*C24-100,1),IF(ROUND(100/B24*C24-100,1)>999,999,-999))) -> 18.3 | F24: ='Skjema total MA'!E96+'Skjema total MA'!E97 -> 10232397 | G24: ='Skjema total MA'!F96+'Skjema total MA'!F97 -> 12855095 | H24: =IF(F24=0, " ---- ", IF(ABS(ROUND(100/F24*G24-100,1))<999,ROUND(100/F24*G24-100,1),IF(ROUND(100/F24*G24-100,1)>999,999,-999))) -> 25.6 | J24: =SUM(B24+F24) -> 30203223 | K24: =SUM(C24+G24) -> 36480010 | L24: =IF(J24=0, " ---- ", IF(ABS(ROUND(100/J24*K24-100,1))<999,ROUND(100/J24*K24-100,1),IF(ROUND(100/J24*K24-100,1)>999,999,-999))) -> 20.8
A25: Kommunal kollektiv pensjon 15) | B25: ='Skjema total MA'!B135 -> 9.2036958e+08 | C25: ='Skjema total MA'!C135 -> 1.0111679e+09 | D25: =IF(B25=0, " ---- ", IF(ABS(ROUND(100/B25*C25-100,1))<999,ROUND(100/B25*C25-100,1),IF(ROUND(100/B25*C25-100,1)>999,999,-999))) -> 9.9 | F25: ='Skjema total MA'!E135 -> 2888738.1 | G25: ='Skjema total MA'!F135 -> 2410575.5 | H25: =IF(F25=0, " ---- ", IF(ABS(ROUND(100/F25*G25-100,1))<999,ROUND(100/F25*G25-100,1),IF(ROUND(100/F25*G25-100,1)>999,999,-999))) -> -16.6 | J25: =SUM(B25+F25) -> 9.2325831e+08 | K25: =SUM(C25+G25) -> 1.0135785e+09 | L25: =IF(J25=0, " ---- ", IF(ABS(ROUND(100/J25*K25-100,1))<999,ROUND(100/J25*K25-100,1),IF(ROUND(100/J25*K25-100,1)>999,999,-999))) -> 9.8
A26: Foreningskollektiv | B26: ='Skjema total MA'!B37 -> 2445944.3 | C26: ='Skjema total MA'!C37 -> 2282179.8 | D26: =IF(B26=0, " ---- ", IF(ABS(ROUND(100/B26*C26-100,1))<999,ROUND(100/B26*C26-100,1),IF(ROUND(100/B26*C26-100,1)>999,999,-999))) -> -6.7 | J26: =SUM(B26+F26) -> 2445944.3 | K26: =SUM(C26+G26) -> 2282179.8 | L26: =IF(J26=0, " ---- ", IF(ABS(ROUND(100/J26*K26-100,1))<999,ROUND(100/J26*K26-100,1),IF(ROUND(100/J26*K26-100,1)>999,999,-999))) -> -6.7
A27: Totalt forsikringsforpliktelser | B27: ='Tabel 1.1'!G32 -> 1.3860621e+09 | C27: ='Tabel 1.1'!H32 -> 1.4853308e+09 | D27: =IF(B27=0, " ---- ", IF(ABS(ROUND(100/B27*C27-100,1))<999,ROUND(100/B27*C27-100,1),IF(ROUND(100/B27*C27-100,1)>999,999,-999))) -> 7.2 | F27: ='Tabel 1.1'!G41 -> 7.913451e+08 | G27: ='Tabel 1.1'!H41 -> 9.3602435e+08 | H27: =IF(F27=0, " ---- ", IF(ABS(ROUND(100/F27*G27-100,1))<999,ROUND(100/F27*G27-100,1),IF(ROUND(100/F27*G27-100,1)>999,999,-999))) -> 18.3 | J27: =SUM(B27+F27) -> 2.1774072e+09 | K27: =SUM(C27+G27) -> 2.4213551e+09 | L27: =IF(J27=0, " ---- ", IF(ABS(ROUND(100/J27*K27-100,1))<999,ROUND(100/J27*K27-100,1),IF(ROUND(100/J27*K27-100,1)>999,999,-999))) -> 11.2
J28: =SUM(B28+F28) -> 0 | K28: =SUM(C28+G28) -> 0
A29: Overførte reserver fra andre 5)
A30: Individuell kapitalforsikring | F30: ='Skjema total MA'!E11 -> 162532.77 | G30: ='Skjema total MA'!F11 -> 106958.19 | H30: =IF(F30=0, " ---- ", IF(ABS(ROUND(100/F30*G30-100,1))<999,ROUND(100/F30*G30-100,1),IF(ROUND(100/F30*G30-100,1)>999,999,-999))) -> -34.2 | J30: =SUM(B30+F30) -> 162532.77 | K30: =SUM(C30+G30) -> 106958.19 | L30: =IF(J30=0, " ---- ", IF(ABS(ROUND(100/J30*K30-100,1))<999,ROUND(100/J30*K30-100,1),IF(ROUND(100/J30*K30-100,1)>999,999,-999))) -> -34.2
A31: Individuell pensjonsforsikring | B31: ='Skjema total MA'!B34 -> 5797.2493 | C31: ='Skjema total MA'!C34 -> 4326.776 | D31: =IF(B31=0, " ---- ", IF(ABS(ROUND(100/B31*C31-100,1))<999,ROUND(100/B31*C31-100,1),IF(ROUND(100/B31*C31-100,1)>999,999,-999))) -> -25.4 | F31: ='Skjema total MA'!E34 -> -104367.89 | G31: ='Skjema total MA'!F34 -> 78329.192 | H31: =IF(F31=0, " ---- ", IF(ABS(ROUND(100/F31*G31-100,1))<999,ROUND(100/F31*G31-100,1),IF(ROUND(100/F31*G31-100,1)>999,999,-999))) -> -175.1 | J31: =SUM(B31+F31) -> -98570.643 | K31: =SUM(C31+G31) -> 82655.968 | L31: =IF(J31=0, " ---- ", IF(ABS(ROUND(100/J31*K31-100,1))<999,ROUND(100/J31*K31-100,1),IF(ROUND(100/J31*K31-100,1)>999,999,-999))) -> -183.9
A32: Privat kollektiv pensjon | B32: ='Skjema total MA'!B111 -> 1135493.6 | C32: ='Skjema total MA'!C111 -> 299574.76 | D32: =IF(B32=0, " ---- ", IF(ABS(ROUND(100/B32*C32-100,1))<999,ROUND(100/B32*C32-100,1),IF(ROUND(100/B32*C32-100,1)>999,999,-999))) -> -73.6 | F32: ='Skjema total MA'!E111 -> 19977944 | G32: ='Skjema total MA'!F111 -> 24119224 | H32: =IF(F32=0, " ---- ", IF(ABS(ROUND(100/F32*G32-100,1))<999,ROUND(100/F32*G32-100,1),IF(ROUND(100/F32*G32-100,1)>999,999,-999))) -> 20.7 | J32: =SUM(B32+F32) -> 21113438 | K32: =SUM(C32+G32) -> 24418799 | L32: =IF(J32=0, " ---- ", IF(ABS(ROUND(100/J32*K32-100,1))<999,ROUND(100/J32*K32-100,1),IF(ROUND(100/J32*K32-100,1)>999,999,-999))) -> 15.7
A33: Kommunal kollektiv pensjon 15) | B33: ='Skjema total MA'!B136 -> 3241225.7 | C33: ='Skjema total MA'!C136 -> 3412565.5 | D33: =IF(B33=0, " ---- ", IF(ABS(ROUND(100/B33*C33-100,1))<999,ROUND(100/B33*C33-100,1),IF(ROUND(100/B33*C33-100,1)>999,999,-999))) -> 5.3 | F33: ='Skjema total MA'!E136 -> 0 | G33: ='Skjema total MA'!F136 -> -516456.23 | H33: =IF(F33=0, " ---- ", IF(ABS(ROUND(100/F33*G33-100,1))<999,ROUND(100/F33*G33-100,1),IF(ROUND(100/F33*G33-100,1)>999,999,-999))) -> ---- | J33: =SUM(B33+F33) -> 3241225.7 | K33: =SUM(C33+G33) -> 2896109.3 | L33: =IF(J33=0, " ---- ", IF(ABS(ROUND(100/J33*K33-100,1))<999,ROUND(100/J33*K33-100,1),IF(ROUND(100/J33*K33-100,1)>999,999,-999))) -> -10.6
A34: Foreningskollektiv
A35: Totalt overførte reserver fra andre | B35: =SUM(B30:B34) -> 4382516.6 | C35: =SUM(C30:C34) -> 3716467 | D35: =IF(B35=0, " ---- ", IF(ABS(ROUND(100/B35*C35-100,1))<999,ROUND(100/B35*C35-100,1),IF(ROUND(100/B35*C35-100,1)>999,999,-999))) -> -15.2 | F35: =SUM(F30:F34) -> 20036109 | G35: =SUM(G30:G34) -> 23788055 | H35: =IF(F35=0, " ---- ", IF(ABS(ROUND(100/F35*G35-100,1))<999,ROUND(100/F35*G35-100,1),IF(ROUND(100/F35*G35-100,1)>999,999,-999))) -> 18.7 | J35: =SUM(B35+F35) -> 24418626 | K35: =SUM(C35+G35) -> 27504522 | L35: =IF(J35=0, " ---- ", IF(ABS(ROUND(100/J35*K35-100,1))<999,ROUND(100/J35*K35-100,1),IF(ROUND(100/J35*K35-100,1)>999,999,-999))) -> 12.6
A37: Flytting fra andre 9)
A38: Gruppeliv | B38: ='Skjema total MA'!B53 -> 182062.96 | C38: ='Skjema total MA'!C53 -> 118391.6 | D38: =IF(B38=0, " ---- ", IF(ABS(ROUND(100/B38*C38-100,1))<999,ROUND(100/B38*C38-100,1),IF(ROUND(100/B38*C38-100,1)>999,999,-999))) -> -35 | J38: =SUM(B38+F38) -> 182062.96 | K38: =SUM(C38+G38) -> 118391.6 | L38: =IF(J38=0, " ---- ", IF(ABS(ROUND(100/J38*K38-100,1))<999,ROUND(100/J38*K38-100,1),IF(ROUND(100/J38*K38-100,1)>999,999,-999))) -> -35
A40: Overførte reserver til andre 6)
A41: Individuell kapitalforsikring | B41: ='Skjema total MA'!B12 -> 0 | C41: ='Skjema total MA'!C12 -> 0 | D41: =IF(B41=0, " ---- ", IF(ABS(ROUND(100/B41*C41-100,1))<999,ROUND(100/B41*C41-100,1),IF(ROUND(100/B41*C41-100,1)>999,999,-999))) -> ---- | F41: ='Skjema total MA'!E12 -> 217906.63 | G41: ='Skjema total MA'!F12 -> 125383.08 | H41: =IF(F41=0, " ---- ", IF(ABS(ROUND(100/F41*G41-100,1))<999,ROUND(100/F41*G41-100,1),IF(ROUND(100/F41*G41-100,1)>999,999,-999))) -> -42.5 | J41: =SUM(B41+F41) -> 217906.63 | K41: =SUM(C41+G41) -> 125383.08 | L41: =IF(J41=0, " ---- ", IF(ABS(ROUND(100/J41*K41-100,1))<999,ROUND(100/J41*K41-100,1),IF(ROUND(100/J41*K41-100,1)>999,999,-999))) -> -42.5
A42: Individuell pensjonsforsikring | B42: ='Skjema total MA'!B35 -> -149053.82 | C42: ='Skjema total MA'!C35 -> 7864.5628 | D42: =IF(B42=0, " ---- ", IF(ABS(ROUND(100/B42*C42-100,1))<999,ROUND(100/B42*C42-100,1),IF(ROUND(100/B42*C42-100,1)>999,999,-999))) -> -105.3 | F42: ='Skjema total MA'!E35 -> 68852.986 | G42: ='Skjema total MA'!F35 -> 109697.74 | H42: =IF(F42=0, " ---- ", IF(ABS(ROUND(100/F42*G42-100,1))<999,ROUND(100/F42*G42-100,1),IF(ROUND(100/F42*G42-100,1)>999,999,-999))) -> 59.3 | J42: =SUM(B42+F42) -> -80200.834 | K42: =SUM(C42+G42) -> 117562.31 | L42: =IF(J42=0, " ---- ", IF(ABS(ROUND(100/J42*K42-100,1))<999,ROUND(100/J42*K42-100,1),IF(ROUND(100/J42*K42-100,1)>999,999,-999))) -> -246.6
A43: Privat kollektiv pensjon | B43: ='Skjema total MA'!B119 -> 215315.52 | C43: ='Skjema total MA'!C119 -> 343318.17 | D43: =IF(B43=0, " ---- ", IF(ABS(ROUND(100/B43*C43-100,1))<999,ROUND(100/B43*C43-100,1),IF(ROUND(100/B43*C43-100,1)>999,999,-999))) -> 59.4 | F43: ='Skjema total MA'!E119 -> 21023795 | G43: ='Skjema total MA'!F119 -> 24959800 | H43: =IF(F43=0, " ---- ", IF(ABS(ROUND(100/F43*G43-100,1))<999,ROUND(100/F43*G43-100,1),IF(ROUND(100/F43*G43-100,1)>999,999,-999))) -> 18.7 | J43: =SUM(B43+F43) -> 21239110 | K43: =SUM(C43+G43) -> 25303118 | L43: =IF(J43=0, " ---- ", IF(ABS(ROUND(100/J43*K43-100,1))<999,ROUND(100/J43*K43-100,1),IF(ROUND(100/J43*K43-100,1)>999,999,-999))) -> 19.1
A44: Kommunal kollektiv pensjon 15) | B44: ='Skjema total MA'!B137 -> 4289073.6 | C44: ='Skjema total MA'!C137 -> 891012.81 | D44: =IF(B44=0, " ---- ", IF(ABS(ROUND(100/B44*C44-100,1))<999,ROUND(100/B44*C44-100,1),IF(ROUND(100/B44*C44-100,1)>999,999,-999))) -> -79.2 | J44: =SUM(B44+F44) -> 4289073.6 | K44: =SUM(C44+G44) -> 891012.81 | L44: =IF(J44=0, " ---- ", IF(ABS(ROUND(100/J44*K44-100,1))<999,ROUND(100/J44*K44-100,1),IF(ROUND(100/J44*K44-100,1)>999,999,-999))) -> -79.2
A45: Foreningskollektiv | B45: ='Skjema total MA'!B39 -> 1 | C45: ='Skjema total MA'!C39 -> 0.473 | D45: =IF(B45=0, " ---- ", IF(ABS(ROUND(100/B45*C45-100,1))<999,ROUND(100/B45*C45-100,1),IF(ROUND(100/B45*C45-100,1)>999,999,-999))) -> -52.7 | J45: =SUM(B45+F45) -> 1 | K45: =SUM(C45+G45) -> 0.473 | L45: =IF(J45=0, " ---- ", IF(ABS(ROUND(100/J45*K45-100,1))<999,ROUND(100/J45*K45-100,1),IF(ROUND(100/J45*K45-100,1)>999,999,-999))) -> -52.7
A46: Totalt overførte reserver til andre | B46: =SUM(B41:B45) -> 4355336.3 | C46: =SUM(C41:C45) -> 1242196 | D46: =IF(B46=0, " ---- ", IF(ABS(ROUND(100/B46*C46-100,1))<999,ROUND(100/B46*C46-100,1),IF(ROUND(100/B46*C46-100,1)>999,999,-999))) -> -71.5 | F46: =SUM(F41:F45) -> 21310554 | G46: =SUM(G41:G45) -> 25194881 | H46: =IF(F46=0, " ---- ", IF(ABS(ROUND(100/F46*G46-100,1))<999,ROUND(100/F46*G46-100,1),IF(ROUND(100/F46*G46-100,1)>999,999,-999))) -> 18.2 | J46: =SUM(B46+F46) -> 25665890 | K46: =SUM(C46+G46) -> 26437077 | L46: =IF(J46=0, " ---- ", IF(ABS(ROUND(100/J46*K46-100,1))<999,ROUND(100/J46*K46-100,1),IF(ROUND(100/J46*K46-100,1)>999,999,-999))) -> 3
A48: Flytting til andre 9)
A49: Gruppeliv | B49: ='Skjema total MA'!B56 -> 103338.19 | C49: ='Skjema total MA'!C56 -> 110194.01 | D49: =IF(B49=0, " ---- ", IF(ABS(ROUND(100/B49*C49-100,1))<999,ROUND(100/B49*C49-100,1),IF(ROUND(100/B49*C49-100,1)>999,999,-999))) -> 6.6 | J49: =SUM(B49+F49) -> 103338.19 | K49: =SUM(C49+G49) -> 110194.01 | L49: =IF(J49=0, " ---- ", IF(ABS(ROUND(100/J49*K49-100,1))<999,ROUND(100/J49*K49-100,1),IF(ROUND(100/J49*K49-100,1)>999,999,-999))) -> 6.6
A51: Netto overførte reserver fra andre 9) | L51: =IF(J51=0, " ---- ", IF(ABS(ROUND(100/J51*K51-100,1))<999,ROUND(100/J51*K51-100,1),IF(ROUND(100/J51*K51-100,1)>999,999,-999))) -> ----
A52: Individuell kapitalforsikring | B52: =B30-B41 -> 0 | C52: =C30-C41 -> 0 | D52: =IF(B52=0, " ---- ", IF(ABS(ROUND(100/B52*C52-100,1))<999,ROUND(100/B52*C52-100,1),IF(ROUND(100/B52*C52-100,1)>999,999,-999))) -> ---- | F52: =F30-F41 -> -55373.857 | G52: =G30-G41 -> -18424.886 | H52: =IF(F52=0, " ---- ", IF(ABS(ROUND(100/F52*G52-100,1))<999,ROUND(100/F52*G52-100,1),IF(ROUND(100/F52*G52-100,1)>999,999,-999))) -> -66.7 | J52: =SUM(B52+F52) -> -55373.857 | K52: =SUM(C52+G52) -> -18424.886 | L52: =IF(J52=0, " ---- ", IF(ABS(ROUND(100/J52*K52-100,1))<999,ROUND(100/J52*K52-100,1),IF(ROUND(100/J52*K52-100,1)>999,999,-999))) -> -66.7
A53: Individuell pensjonsforsikring | B53: =B31-B42 -> 154851.07 | C53: =C31-C42 -> -3537.7868 | D53: =IF(B53=0, " ---- ", IF(ABS(ROUND(100/B53*C53-100,1))<999,ROUND(100/B53*C53-100,1),IF(ROUND(100/B53*C53-100,1)>999,999,-999))) -> -102.3 | F53: =F31-F42 -> -173220.88 | G53: =G31-G42 -> -31368.553 | H53: =IF(F53=0, " ---- ", IF(ABS(ROUND(100/F53*G53-100,1))<999,ROUND(100/F53*G53-100,1),IF(ROUND(100/F53*G53-100,1)>999,999,-999))) -> -81.9 | J53: =SUM(B53+F53) -> -18369.81 | K53: =SUM(C53+G53) -> -34906.34 | L53: =IF(J53=0, " ---- ", IF(ABS(ROUND(100/J53*K53-100,1))<999,ROUND(100/J53*K53-100,1),IF(ROUND(100/J53*K53-100,1)>999,999,-999))) -> 90
A54: Privat kollektiv pensjon | B54: =B32-B43 -> 920178.11 | C54: =C32-C43 -> -43743.416 | D54: =IF(B54=0, " ---- ", IF(ABS(ROUND(100/B54*C54-100,1))<999,ROUND(100/B54*C54-100,1),IF(ROUND(100/B54*C54-100,1)>999,999,-999))) -> -104.8 | F54: =F32-F43 -> -1045850.4 | G54: =G32-G43 -> -840575.82 | H54: =IF(F54=0, " ---- ", IF(ABS(ROUND(100/F54*G54-100,1))<999,ROUND(100/F54*G54-100,1),IF(ROUND(100/F54*G54-100,1)>999,999,-999))) -> -19.6 | J54: =SUM(B54+F54) -> -125672.26 | K54: =SUM(C54+G54) -> -884319.24 | L54: =IF(J54=0, " ---- ", IF(ABS(ROUND(100/J54*K54-100,1))<999,ROUND(100/J54*K54-100,1),IF(ROUND(100/J54*K54-100,1)>999,999,-999))) -> 603.7
A55: Kommunal kollektiv pensjon 15) | B55: =B33-B44 -> -1047847.9 | C55: =C33-C44 -> 2521552.7 | D55: =IF(B55=0, " ---- ", IF(ABS(ROUND(100/B55*C55-100,1))<999,ROUND(100/B55*C55-100,1),IF(ROUND(100/B55*C55-100,1)>999,999,-999))) -> -340.6 | F55: =F33-F44 -> 0 | G55: =G33-G44 -> -516456.23 | H55: =IF(F55=0, " ---- ", IF(ABS(ROUND(100/F55*G55-100,1))<999,ROUND(100/F55*G55-100,1),IF(ROUND(100/F55*G55-100,1)>999,999,-999))) -> ---- | J55: =SUM(B55+F55) -> -1047847.9 | K55: =SUM(C55+G55) -> 2005096.5 | L55: =IF(J55=0, " ---- ", IF(ABS(ROUND(100/J55*K55-100,1))<999,ROUND(100/J55*K55-100,1),IF(ROUND(100/J55*K55-100,1)>999,999,-999))) -> -291.4
A56: Foreningskollektiv | B56: =B34-B45 -> -1 | C56: =C34-C45 -> -0.473 | D56: =IF(B56=0, " ---- ", IF(ABS(ROUND(100/B56*C56-100,1))<999,ROUND(100/B56*C56-100,1),IF(ROUND(100/B56*C56-100,1)>999,999,-999))) -> -52.7 | J56: =SUM(B56+F56) -> -1 | K56: =SUM(C56+G56) -> -0.473 | L56: =IF(J56=0, " ---- ", IF(ABS(ROUND(100/J56*K56-100,1))<999,ROUND(100/J56*K56-100,1),IF(ROUND(100/J56*K56-100,1)>999,999,-999))) -> -52.7
A57: Totalt netto overførte reserver fra andre | B57: =SUM(B52:B56) -> 27180.294 | C57: =SUM(C52:C56) -> 2474271 | D57: =IF(B57=0, " ---- ", IF(ABS(ROUND(100/B57*C57-100,1))<999,ROUND(100/B57*C57-100,1),IF(ROUND(100/B57*C57-100,1)>999,999,-999))) -> 999 | F57: =SUM(F52:F56) -> -1274445.1 | G57: =SUM(G52:G56) -> -1406825.5 | H57: =IF(F57=0, " ---- ", IF(ABS(ROUND(100/F57*G57-100,1))<999,ROUND(100/F57*G57-100,1),IF(ROUND(100/F57*G57-100,1)>999,999,-999))) -> 10.4 | J57: =SUM(B57+F57) -> -1247264.8 | K57: =SUM(C57+G57) -> 1067445.5 | L57: =IF(J57=0, " ---- ", IF(ABS(ROUND(100/J57*K57-100,1))<999,ROUND(100/J57*K57-100,1),IF(ROUND(100/J57*K57-100,1)>999,999,-999))) -> -185.6
A59: Netto flytting fra andre 9)
A60: Gruppeliv | B60: =B38-B49 -> 78724.776 | C60: =C38-C49 -> 8197.59 | D60: =IF(B60=0, " ---- ", IF(ABS(ROUND(100/B60*C60-100,1))<999,ROUND(100/B60*C60-100,1),IF(ROUND(100/B60*C60-100,1)>999,999,-999))) -> -89.6 | F60: =F38-F49 -> 0 | G60: =G38-G49 -> 0 | J60: =SUM(B60+F60) -> 78724.776 | K60: =SUM(C60+G60) -> 8197.59 | L60: =IF(J60=0, " ---- ", IF(ABS(ROUND(100/J60*K60-100,1))<999,ROUND(100/J60*K60-100,1),IF(ROUND(100/J60*K60-100,1)>999,999,-999))) -> -89.6
A62: * "Innskuddsbasert" er summen av "Engangsbetalt" og "Innskuddspensjon".
A63: ** Bokført verdi, se tabell 6 i statistikken.
A64: Noter : Se "Noter og kommentarer"

Sheet Tabell 1.3
A1: Markedsdel, endelig år | B1: Tilbake
A2: Tabell 1.3 Hovedtall
B4: Aktivaposter (aggregert) | F4: Aktivaposter (aggregert)
A5: 31.03. | B5: i mill. kr | F5: prosentvis andel
D6: %- | H6: %-
B7: 2025 | C7: 2026 | D7: endring | F7: 2025 | G7: 2026 | H7: endring
A8: Selskapsporteføljen | B8: =SUM(B9:B14) -> 192369.67 | C8: =SUM(C9:C14) -> 161574.36 | D8: =IF(B8=0, " ---- ", IF(ABS(ROUND(100/B8*C8-100,1))<999,ROUND(100/B8*C8-100,1),IF(ROUND(100/B8*C8-100,1)>999,999,-999))) -> -16 | F8: =SUM(F9:F14) -> 100 | G8: =SUM(G9:G14) -> 100 | H8: =IF(F8=0, " ---- ", IF(ABS(ROUND(100/F8*G8-100,1))<999,ROUND(100/F8*G8-100,1),IF(ROUND(100/F8*G8-100,1)>999,999,-999))) -> 0
A9: Aksjer | B9: ='Tabell 6'!AI21 -> 5212.1701 | C9: ='Tabell 6'!AJ21 -> 5647.795 | D9: =IF(B9=0, " ---- ", IF(ABS(ROUND(100/B9*C9-100,1))<999,ROUND(100/B9*C9-100,1),IF(ROUND(100/B9*C9-100,1)>999,999,-999))) -> 8.4 | F9: ='Tabell 6'!AI21/'Tabell 6'!AI29*100 -> 2.7094552 | G9: ='Tabell 6'!AJ21/'Tabell 6'!AJ29*100 -> 3.4954772 | H9: =IF(F9=0, " ---- ", IF(ABS(ROUND(100/F9*G9-100,1))<999,ROUND(100/F9*G9-100,1),IF(ROUND(100/F9*G9-100,1)>999,999,-999))) -> 29
A10: Rentebærende verdipapirer | B10: ='Tabell 6'!AI17+'Tabell 6'!AI22 -> 70428.054 | C10: ='Tabell 6'!AJ17+'Tabell 6'!AJ22 -> 65597.518 | D10: =IF(B10=0, " ---- ", IF(ABS(ROUND(100/B10*C10-100,1))<999,ROUND(100/B10*C10-100,1),IF(ROUND(100/B10*C10-100,1)>999,999,-999))) -> -6.9 | F10: =('Tabell 6'!AI17+'Tabell 6'!AI22)/'Tabell 6'!AI29*100 -> 36.610788 | G10: =('Tabell 6'!AJ17+'Tabell 6'!AJ22)/'Tabell 6'!AJ29*100 -> 40.598965 | H10: =IF(F10=0, " ---- ", IF(ABS(ROUND(100/F10*G10-100,1))<999,ROUND(100/F10*G10-100,1),IF(ROUND(100/F10*G10-100,1)>999,999,-999))) -> 10.9
A11: Eiendom | B11: ='Tabell 6'!AI14 -> 1347.1865 | C11: ='Tabell 6'!AJ14 -> 1488.3456 | D11: =IF(B11=0, " ---- ", IF(ABS(ROUND(100/B11*C11-100,1))<999,ROUND(100/B11*C11-100,1),IF(ROUND(100/B11*C11-100,1)>999,999,-999))) -> 10.5 | F11: ='Tabell 6'!AI14/'Tabell 6'!AI29*100 -> 0.70031128 | G11: ='Tabell 6'!AJ14/'Tabell 6'!AJ29*100 -> 0.9211521 | H11: =IF(F11=0, " ---- ", IF(ABS(ROUND(100/F11*G11-100,1))<999,ROUND(100/F11*G11-100,1),IF(ROUND(100/F11*G11-100,1)>999,999,-999))) -> 31.5
A12: Datterforetak m.m. | B12: ='Tabell 6'!AI15 -> 27552.719 | C12: ='Tabell 6'!AJ15 -> 27971.274 | D12: =IF(B12=0, " ---- ", IF(ABS(ROUND(100/B12*C12-100,1))<999,ROUND(100/B12*C12-100,1),IF(ROUND(100/B12*C12-100,1)>999,999,-999))) -> 1.5 | F12: ='Tabell 6'!AI15/'Tabell 6'!AI29*100 -> 14.322798 | G12: ='Tabell 6'!AJ15/'Tabell 6'!AJ29*100 -> 17.311703 | H12: =IF(F12=0, " ---- ", IF(ABS(ROUND(100/F12*G12-100,1))<999,ROUND(100/F12*G12-100,1),IF(ROUND(100/F12*G12-100,1)>999,999,-999))) -> 20.9
A13: Utlån | B13: ='Tabell 6'!AI19+'Tabell 6'!AI23 -> 37728.421 | C13: ='Tabell 6'!AJ19+'Tabell 6'!AJ23 -> 35739.674 | D13: =IF(B13=0, " ---- ", IF(ABS(ROUND(100/B13*C13-100,1))<999,ROUND(100/B13*C13-100,1),IF(ROUND(100/B13*C13-100,1)>999,999,-999))) -> -5.3 | F13: =('Tabell 6'!AI19+'Tabell 6'!AI23)/'Tabell 6'!AI29*100 -> 19.612458 | G13: =('Tabell 6'!AJ19+'Tabell 6'!AJ23)/'Tabell 6'!AJ29*100 -> 22.119644 | H13: =IF(F13=0, " ---- ", IF(ABS(ROUND(100/F13*G13-100,1))<999,ROUND(100/F13*G13-100,1),IF(ROUND(100/F13*G13-100,1)>999,999,-999))) -> 12.8
A14: Annet | B14: ='Tabell 6'!AI24+'Tabell 6'!AI25+'Tabell 6'!AI26+'Tabell 6'!AI28 -> 50101.122 | C14: ='Tabell 6'!AJ24+'Tabell 6'!AJ25+'Tabell 6'!AJ26+'Tabell 6'!AJ28 -> 25129.755 | D14: =IF(B14=0, " ---- ", IF(ABS(ROUND(100/B14*C14-100,1))<999,ROUND(100/B14*C14-100,1),IF(ROUND(100/B14*C14-100,1)>999,999,-999))) -> -49.8 | F14: =('Tabell 6'!AI24+'Tabell 6'!AI25+'Tabell 6'!AI26+'Tabell 6'!AI28)/'Tabell 6'!AI29*100 -> 26.044189 | G14: =('Tabell 6'!AJ24+'Tabell 6'!AJ25+'Tabell 6'!AJ26+'Tabell 6'!AJ28)/'Tabell 6'!AJ29*100 -> 15.553058 | H14: =IF(F14=0, " ---- ", IF(ABS(ROUND(100/F14*G14-100,1))<999,ROUND(100/F14*G14-100,1),IF(ROUND(100/F14*G14-100,1)>999,999,-999))) -> -40.3
A16: Kollektivporteføljen | B16: =SUM(B17:B22) -> 1460225.6 | C16: =SUM(C17:C22) -> 1561318.7 | D16: =IF(B16=0, " ---- ", IF(ABS(ROUND(100/B16*C16-100,1))<999,ROUND(100/B16*C16-100,1),IF(ROUND(100/B16*C16-100,1)>999,999,-999))) -> 6.9 | F16: =SUM(F17:F22) -> 100 | G16: =SUM(G17:G22) -> 100 | H16: =IF(F16=0, " ---- ", IF(ABS(ROUND(100/F16*G16-100,1))<999,ROUND(100/F16*G16-100,1),IF(ROUND(100/F16*G16-100,1)>999,999,-999))) -> 0
A17: Aksjer | B17: ='Tabell 6'!AI40 -> 367048.23 | C17: ='Tabell 6'!AJ40 -> 429547.98 | D17: =IF(B17=0, " ---- ", IF(ABS(ROUND(100/B17*C17-100,1))<999,ROUND(100/B17*C17-100,1),IF(ROUND(100/B17*C17-100,1)>999,999,-999))) -> 17 | F17: ='Tabell 6'!AI40/('Tabell 6'!AI45+'Tabell 6'!AI46)*100 -> 25.136406 | G17: ='Tabell 6'!AJ40/('Tabell 6'!AJ45+'Tabell 6'!AJ46)*100 -> 27.51187 | H17: =IF(F17=0, " ---- ", IF(ABS(ROUND(100/F17*G17-100,1))<999,ROUND(100/F17*G17-100,1),IF(ROUND(100/F17*G17-100,1)>999,999,-999))) -> 9.5
A18: Rentebærende verdipapirer | B18: ='Tabell 6'!AI36+'Tabell 6'!AI41 -> 364395.75 | C18: ='Tabell 6'!AJ36+'Tabell 6'!AJ41 -> 385372.61 | D18: =IF(B18=0, " ---- ", IF(ABS(ROUND(100/B18*C18-100,1))<999,ROUND(100/B18*C18-100,1),IF(ROUND(100/B18*C18-100,1)>999,999,-999))) -> 5.8 | F18: =('Tabell 6'!AI36+'Tabell 6'!AI41)/('Tabell 6'!AI45+'Tabell 6'!AI46)*100 -> 24.954757 | G18: =('Tabell 6'!AJ36+'Tabell 6'!AJ41)/('Tabell 6'!AJ45+'Tabell 6'!AJ46)*100 -> 24.682508 | H18: =IF(F18=0, " ---- ", IF(ABS(ROUND(100/F18*G18-100,1))<999,ROUND(100/F18*G18-100,1),IF(ROUND(100/F18*G18-100,1)>999,999,-999))) -> -1.1
A19: Eiendom | B19: ='Tabell 6'!AI33 -> 14.226 | C19: ='Tabell 6'!AJ33 -> 14.226 | D19: =IF(B19=0, " ---- ", IF(ABS(ROUND(100/B19*C19-100,1))<999,ROUND(100/B19*C19-100,1),IF(ROUND(100/B19*C19-100,1)>999,999,-999))) -> 0 | F19: ='Tabell 6'!AI33/('Tabell 6'!AI45+'Tabell 6'!AI46)*100 -> 0.00097423304 | G19: ='Tabell 6'!AJ33/('Tabell 6'!AJ45+'Tabell 6'!AJ46)*100 -> 0.00091115285 | H19: =IF(F19=0, " ---- ", IF(ABS(ROUND(100/F19*G19-100,1))<999,ROUND(100/F19*G19-100,1),IF(ROUND(100/F19*G19-100,1)>999,999,-999))) -> -6.5
A20: Datterforetak m.m. | B20: ='Tabell 6'!AI34 -> 171108.62 | C20: ='Tabell 6'!AJ34 -> 187253.68 | D20: =IF(B20=0, " ---- ", IF(ABS(ROUND(100/B20*C20-100,1))<999,ROUND(100/B20*C20-100,1),IF(ROUND(100/B20*C20-100,1)>999,999,-999))) -> 9.4 | F20: ='Tabell 6'!AI34/('Tabell 6'!AI45+'Tabell 6'!AI46)*100 -> 11.717958 | G20: ='Tabell 6'!AJ34/('Tabell 6'!AJ45+'Tabell 6'!AJ46)*100 -> 11.993303 | H20: =IF(F20=0, " ---- ", IF(ABS(ROUND(100/F20*G20-100,1))<999,ROUND(100/F20*G20-100,1),IF(ROUND(100/F20*G20-100,1)>999,999,-999))) -> 2.3
A21: Utlån | B21: ='Tabell 6'!AI38+'Tabell 6'!AI42 -> 539015.94 | C21: ='Tabell 6'!AJ38+'Tabell 6'!AJ42 -> 542425.21 | D21: =IF(B21=0, " ---- ", IF(ABS(ROUND(100/B21*C21-100,1))<999,ROUND(100/B21*C21-100,1),IF(ROUND(100/B21*C21-100,1)>999,999,-999))) -> 0.6 | F21: =('Tabell 6'!AI38+'Tabell 6'!AI42)/('Tabell 6'!AI45+'Tabell 6'!AI46)*100 -> 36.913197 | G21: =('Tabell 6'!AJ38+'Tabell 6'!AJ42)/('Tabell 6'!AJ45+'Tabell 6'!AJ46)*100 -> 34.741479 | H21: =IF(F21=0, " ---- ", IF(ABS(ROUND(100/F21*G21-100,1))<999,ROUND(100/F21*G21-100,1),IF(ROUND(100/F21*G21-100,1)>999,999,-999))) -> -5.9
A22: Annet | B22: ='Tabell 6'!AI43+'Tabell 6'!AI44+'Tabell 6'!AI46 -> 18642.804 | C22: ='Tabell 6'!AJ43+'Tabell 6'!AJ44+'Tabell 6'!AJ46 -> 16705.012 | D22: =IF(B22=0, " ---- ", IF(ABS(ROUND(100/B22*C22-100,1))<999,ROUND(100/B22*C22-100,1),IF(ROUND(100/B22*C22-100,1)>999,999,-999))) -> -10.4 | F22: =('Tabell 6'!AI43+'Tabell 6'!AI44+'Tabell 6'!AI46)/('Tabell 6'!AI45+'Tabell 6'!AI46)*100 -> 1.2767072 | G22: =('Tabell 6'!AJ43+'Tabell 6'!AJ44+'Tabell 6'!AJ46)/('Tabell 6'!AJ45+'Tabell 6'!AJ46)*100 -> 1.0699297 | H22: =IF(F22=0, " ---- ", IF(ABS(ROUND(100/F22*G22-100,1))<999,ROUND(100/F22*G22-100,1),IF(ROUND(100/F22*G22-100,1)>999,999,-999))) -> -16.2
A24: Investeringsvalgporteføljen | B24: =SUM(B25:B30) -> 789361.91 | C24: =SUM(C25:C30) -> 936720.94 | D24: =IF(B24=0, " ---- ", IF(ABS(ROUND(100/B24*C24-100,1))<999,ROUND(100/B24*C24-100,1),IF(ROUND(100/B24*C24-100,1)>999,999,-999))) -> 18.7 | F24: =SUM(F25:F30) -> 100 | G24: =SUM(G25:G30) -> 100 | H24: =IF(F24=0, " ---- ", IF(ABS(ROUND(100/F24*G24-100,1))<999,ROUND(100/F24*G24-100,1),IF(ROUND(100/F24*G24-100,1)>999,999,-999))) -> 0
A25: Aksjer | B25: ='Tabell 6'!AI55 -> 519907.74 | C25: ='Tabell 6'!AJ55 -> 644265.29 | D25: =IF(B25=0, " ---- ", IF(ABS(ROUND(100/B25*C25-100,1))<999,ROUND(100/B25*C25-100,1),IF(ROUND(100/B25*C25-100,1)>999,999,-999))) -> 23.9 | F25: ='Tabell 6'!AI55/('Tabell 6'!AI60+'Tabell 6'!AI61)*100 -> 65.864306 | G25: ='Tabell 6'!AJ55/('Tabell 6'!AJ60+'Tabell 6'!AJ61)*100 -> 68.778786 | H25: =IF(F25=0, " ---- ", IF(ABS(ROUND(100/F25*G25-100,1))<999,ROUND(100/F25*G25-100,1),IF(ROUND(100/F25*G25-100,1)>999,999,-999))) -> 4.4
A26: Rentebærende verdipapirer | B26: ='Tabell 6'!AI51+'Tabell 6'!AI56 -> 235065.51 | C26: ='Tabell 6'!AJ51+'Tabell 6'!AJ56 -> 257790.92 | D26: =IF(B26=0, " ---- ", IF(ABS(ROUND(100/B26*C26-100,1))<999,ROUND(100/B26*C26-100,1),IF(ROUND(100/B26*C26-100,1)>999,999,-999))) -> 9.7 | F26: =('Tabell 6'!AI51+'Tabell 6'!AI56)/('Tabell 6'!AI60+'Tabell 6'!AI61)*100 -> 29.779181 | G26: =('Tabell 6'!AJ51+'Tabell 6'!AJ56)/('Tabell 6'!AJ60+'Tabell 6'!AJ61)*100 -> 27.520567 | H26: =IF(F26=0, " ---- ", IF(ABS(ROUND(100/F26*G26-100,1))<999,ROUND(100/F26*G26-100,1),IF(ROUND(100/F26*G26-100,1)>999,999,-999))) -> -7.6
A27: Eiendom | B27: ='Tabell 6'!AI48 -> 0 | C27: ='Tabell 6'!AJ48 -> 0 | D27: =IF(B27=0, " ---- ", IF(ABS(ROUND(100/B27*C27-100,1))<999,ROUND(100/B27*C27-100,1),IF(ROUND(100/B27*C27-100,1)>999,999,-999))) -> ---- | F27: ='Tabell 6'!AI48/('Tabell 6'!AI60+'Tabell 6'!AI61)*100 -> 0 | G27: ='Tabell 6'!AJ48/('Tabell 6'!AJ60+'Tabell 6'!AJ61)*100 -> 0 | H27: =IF(F27=0, " ---- ", IF(ABS(ROUND(100/F27*G27-100,1))<999,ROUND(100/F27*G27-100,1),IF(ROUND(100/F27*G27-100,1)>999,999,-999))) -> ----
A28: Datterforetak m.m. | B28: ='Tabell 6'!AI49 -> 21127.974 | C28: ='Tabell 6'!AJ49 -> 25723.439 | D28: =IF(B28=0, " ---- ", IF(ABS(ROUND(100/B28*C28-100,1))<999,ROUND(100/B28*C28-100,1),IF(ROUND(100/B28*C28-100,1)>999,999,-999))) -> 21.8 | F28: ='Tabell 6'!AI49/('Tabell 6'!AI60+'Tabell 6'!AI61)*100 -> 2.676589 | G28: ='Tabell 6'!AJ49/('Tabell 6'!AJ60+'Tabell 6'!AJ61)*100 -> 2.7461155 | H28: =IF(F28=0, " ---- ", IF(ABS(ROUND(100/F28*G28-100,1))<999,ROUND(100/F28*G28-100,1),IF(ROUND(100/F28*G28-100,1)>999,999,-999))) -> 2.6
A29: Utlån | B29: ='Tabell 6'!AI53+'Tabell 6'!AI57 -> 5093.0475 | C29: ='Tabell 6'!AJ53+'Tabell 6'!AJ57 -> 5615.8584 | D29: =IF(B29=0, " ---- ", IF(ABS(ROUND(100/B29*C29-100,1))<999,ROUND(100/B29*C29-100,1),IF(ROUND(100/B29*C29-100,1)>999,999,-999))) -> 10.3 | F29: =('Tabell 6'!AI53+'Tabell 6'!AI57)/('Tabell 6'!AI60+'Tabell 6'!AI61)*100 -> 0.64521069 | G29: =('Tabell 6'!AJ53+'Tabell 6'!AJ57)/('Tabell 6'!AJ60+'Tabell 6'!AJ61)*100 -> 0.5995231 | H29: =IF(F29=0, " ---- ", IF(ABS(ROUND(100/F29*G29-100,1))<999,ROUND(100/F29*G29-100,1),IF(ROUND(100/F29*G29-100,1)>999,999,-999))) -> -7.1
A30: Annet | B30: ='Tabell 6'!AI58+'Tabell 6'!AI59+'Tabell 6'!AI61 -> 8167.6397 | C30: ='Tabell 6'!AJ58+'Tabell 6'!AJ59+'Tabell 6'!AJ61 -> 3325.4369 | D30: =IF(B30=0, " ---- ", IF(ABS(ROUND(100/B30*C30-100,1))<999,ROUND(100/B30*C30-100,1),IF(ROUND(100/B30*C30-100,1)>999,999,-999))) -> -59.3 | F30: =('Tabell 6'!AI58+'Tabell 6'!AI59+'Tabell 6'!AI61)/('Tabell 6'!AI60+'Tabell 6'!AI61)*100 -> 1.0347142 | G30: =('Tabell 6'!AJ58+'Tabell 6'!AJ59+'Tabell 6'!AJ61)/('Tabell 6'!AJ60+'Tabell 6'!AJ61)*100 -> 0.35500828 | H30: =IF(F30=0, " ---- ", IF(ABS(ROUND(100/F30*G30-100,1))<999,ROUND(100/F30*G30-100,1),IF(ROUND(100/F30*G30-100,1)>999,999,-999))) -> -65.7
A32: Totalt | B32: =SUM(B33:B38) -> 2441957.2 | C32: =SUM(C33:C38) -> 2659614 | D32: =IF(B32=0, " ---- ", IF(ABS(ROUND(100/B32*C32-100,1))<999,ROUND(100/B32*C32-100,1),IF(ROUND(100/B32*C32-100,1)>999,999,-999))) -> 8.9 | F32: =SUM(F33:F38) -> 100 | G32: =SUM(G33:G38) -> 100 | H32: =IF(F32=0, " ---- ", IF(ABS(ROUND(100/F32*G32-100,1))<999,ROUND(100/F32*G32-100,1),IF(ROUND(100/F32*G32-100,1)>999,999,-999))) -> 0
A33: Aksjer | B33: =B9+B17+B25 -> 892168.14 | C33: =C9+C17+C25 -> 1079461.1 | D33: =IF(B33=0, " ---- ", IF(ABS(ROUND(100/B33*C33-100,1))<999,ROUND(100/B33*C33-100,1),IF(ROUND(100/B33*C33-100,1)>999,999,-999))) -> 21 | F33: =B33/B32*100 -> 36.534963 | G33: =C33/C32*100 -> 40.587132 | H33: =IF(F33=0, " ---- ", IF(ABS(ROUND(100/F33*G33-100,1))<999,ROUND(100/F33*G33-100,1),IF(ROUND(100/F33*G33-100,1)>999,999,-999))) -> 11.1
A34: Rentebærende verdipapirer | B34: =B10+B18+B26 -> 669889.31 | C34: =C10+C18+C26 -> 708761.05 | D34: =IF(B34=0, " ---- ", IF(ABS(ROUND(100/B34*C34-100,1))<999,ROUND(100/B34*C34-100,1),IF(ROUND(100/B34*C34-100,1)>999,999,-999))) -> 5.8 | F34: =B34/B32*100 -> 27.432476 | G34: =C34/C32*100 -> 26.649019 | H34: =IF(F34=0, " ---- ", IF(ABS(ROUND(100/F34*G34-100,1))<999,ROUND(100/F34*G34-100,1),IF(ROUND(100/F34*G34-100,1)>999,999,-999))) -> -2.9
A35: Eiendom | B35: =B11+B19+B27 -> 1361.4125 | C35: =C11+C19+C27 -> 1502.5716 | D35: =IF(B35=0, " ---- ", IF(ABS(ROUND(100/B35*C35-100,1))<999,ROUND(100/B35*C35-100,1),IF(ROUND(100/B35*C35-100,1)>999,999,-999))) -> 10.4 | F35: =B35/B32*100 -> 0.055750876 | G35: =C35/C32*100 -> 0.056495853 | H35: =IF(F35=0, " ---- ", IF(ABS(ROUND(100/F35*G35-100,1))<999,ROUND(100/F35*G35-100,1),IF(ROUND(100/F35*G35-100,1)>999,999,-999))) -> 1.3
A36: Datterforetak m.m. | B36: =B12+B20+B28 -> 219789.32 | C36: =C12+C20+C28 -> 240948.39 | D36: =IF(B36=0, " ---- ", IF(ABS(ROUND(100/B36*C36-100,1))<999,ROUND(100/B36*C36-100,1),IF(ROUND(100/B36*C36-100,1)>999,999,-999))) -> 9.6 | F36: =B36/B32*100 -> 9.0005394 | G36: =C36/C32*100 -> 9.0595249 | H36: =IF(F36=0, " ---- ", IF(ABS(ROUND(100/F36*G36-100,1))<999,ROUND(100/F36*G36-100,1),IF(ROUND(100/F36*G36-100,1)>999,999,-999))) -> 0.7
A37: Utlån | B37: =B13+B21+B29 -> 581837.41 | C37: =C13+C21+C29 -> 583780.74 | D37: =IF(B37=0, " ---- ", IF(ABS(ROUND(100/B37*C37-100,1))<999,ROUND(100/B37*C37-100,1),IF(ROUND(100/B37*C37-100,1)>999,999,-999))) -> 0.3 | F37: =B37/B32*100 -> 23.826684 | G37: =C37/C32*100 -> 21.949829 | H37: =IF(F37=0, " ---- ", IF(ABS(ROUND(100/F37*G37-100,1))<999,ROUND(100/F37*G37-100,1),IF(ROUND(100/F37*G37-100,1)>999,999,-999))) -> -7.9
A38: Annet | B38: =B14+B22+B30 -> 76911.566 | C38: =C14+C22+C30 -> 45160.204 | D38: =IF(B38=0, " ---- ", IF(ABS(ROUND(100/B38*C38-100,1))<999,ROUND(100/B38*C38-100,1),IF(ROUND(100/B38*C38-100,1)>999,999,-999))) -> -41.3 | F38: =B38/B32*100 -> 3.149587 | G38: =C38/C32*100 -> 1.6979984 | H38: =IF(F38=0, " ---- ", IF(ABS(ROUND(100/F38*G38-100,1))<999,ROUND(100/F38*G38-100,1),IF(ROUND(100/F38*G38-100,1)>999,999,-999))) -> -46.1
A40: Tallene er hentet fra tabell 6 Balanse.

Sheet Skjema total MA
A1: 4
A2: Tabell 1 : Individuell kapitalforsikring*
B4: Produkter uten investeringsvalg | E4: Produkter med investeringsvalg | H4: Totalt
B5: 31.3.2025 | C5: 31.3.2026 | D5: Endring | E5: 31.3.2025 | F5: 31.3.2026 | G5: Endring | H5: 31.3.2025 | I5: 31.3.2026 | J5: Endring
D6: i % | G6: i % | J6: i %
A7: Brutto forfalt premie 1 | B7: =Fremtind!B7+'DNB Livsforsikring'!B7+'Frende Livsforsikring'!B7+'Frende Skadeforsikring'!B7+'Gjensidige Forsikring'!B7+'Gjensidige Pensjon'!B7+'If Skadeforsikring NUF'!B7+KLP!B7+'KLP Skadeforsikring AS'!B7+'Landkreditt Forsikring AS'!B7+'Nordea Liv '!B7+'Oslo Pensjonsforsikring'!B7+'Protector Forsikring'!B7+'Sparebank 1 Fors.'!B7+'Storebrand Livsforsikring'!B7+'Telenor Forsikring'!B7+'Tryg Forsikring'!B7+'WaterCircles F'!B7+'Euro Accident'!B7+'Ly Forsikring'!B7+'Youplus Livsforsikring'!B7+'Oslo Forsikring'!B7+'Knif Trygghet Forsikring'!B7 -> 2007693.9 | C7: =Fremtind!C7+'DNB Livsforsikring'!C7+'Frende Livsforsikring'!C7+'Frende Skadeforsikring'!C7+'Gjensidige Forsikring'!C7+'Gjensidige Pensjon'!C7+'If Skadeforsikring NUF'!C7+KLP!C7+'KLP Skadeforsikring AS'!C7+'Landkreditt Forsikring AS'!C7+'Nordea Liv '!C7+'Oslo Pensjonsforsikring'!C7+'Protector Forsikring'!C7+'Sparebank 1 Fors.'!C7+'Storebrand Livsforsikring'!C7+'Telenor Forsikring'!C7+'Tryg Forsikring'!C7+'WaterCircles F'!C7+'Euro Accident'!C7+'Ly Forsikring'!C7+'Youplus Livsforsikring'!C7+'Oslo Forsikring'!C7+'Knif Trygghet Forsikring'!C7 -> 2099019.5 | D7: =IF(B7=0, " ---- ", IF(ABS(ROUND(100/B7*C7-100,1))<999,ROUND(100/B7*C7-100,1),IF(ROUND(100/B7*C7-100,1)>999,999,-999))) -> 4.5 | E7: =Fremtind!F7+'DNB Livsforsikring'!F7+'Frende Livsforsikring'!F7+'Frende Skadeforsikring'!F7+'Gjensidige Forsikring'!F7+'Gjensidige Pensjon'!F7+'If Skadeforsikring NUF'!F7+KLP!F7+'KLP Skadeforsikring AS'!F7+'Landkreditt Forsikring AS'!F7+'Nordea Liv '!F7+'Oslo Pensjonsforsikring'!F7+'Protector Forsikring'!F7+'Sparebank 1 Fors.'!F7+'Storebrand Livsforsikring'!F7+'Telenor Forsikring'!F7+'Tryg Forsikring'!F7+'WaterCircles F'!F7+'Euro Accident'!F7+'Ly Forsikring'!F7+'Youplus Livsforsikring'!F7+'Oslo Forsikring'!F7+'Knif Trygghet Forsikring'!F7 -> 2988485.4 | F7: =Fremtind!G7+'DNB Livsforsikring'!G7+'Frende Livsforsikring'!G7+'Frende Skadeforsikring'!G7+'Gjensidige Forsikring'!G7+'Gjensidige Pensjon'!G7+'If Skadeforsikring NUF'!G7+KLP!G7+'KLP Skadeforsikring AS'!G7+'Landkreditt Forsikring AS'!G7+'Nordea Liv '!G7+'Oslo Pensjonsforsikring'!G7+'Protector Forsikring'!G7+'Sparebank 1 Fors.'!G7+'Storebrand Livsforsikring'!G7+'Telenor Forsikring'!G7+'Tryg Forsikring'!G7+'WaterCircles F'!G7+'Euro Accident'!G7+'Ly Forsikring'!G7+'Youplus Livsforsikring'!G7+'Oslo Forsikring'!G7+'Knif Trygghet Forsikring'!G7 -> 3757879.7 | G7: =IF(E7=0, " ---- ", IF(ABS(ROUND(100/E7*F7-100,1))<999,ROUND(100/E7*F7-100,1),IF(ROUND(100/E7*F7-100,1)>999,999,-999))) -> 25.7 | H7: =B7+E7 -> 4996179.2 | I7: =C7+F7 -> 5856899.2 | J7: =IF(H7=0, " ---- ", IF(ABS(ROUND(100/H7*I7-100,1))<999,ROUND(100/H7*I7-100,1),IF(ROUND(100/H7*I7-100,1)>999,999,-999))) -> 17.2
A8: Herav brutto risikopremie død 2 | B8: =Fremtind!B8+'DNB Livsforsikring'!B8+'Frende Livsforsikring'!B8+'Frende Skadeforsikring'!B8+'Gjensidige Forsikring'!B8+'Gjensidige Pensjon'!B8+'If Skadeforsikring NUF'!B8+KLP!B8+'KLP Skadeforsikring AS'!B8+'Landkreditt Forsikring AS'!B8+'Nordea Liv '!B8+'Oslo Pensjonsforsikring'!B8+'Protector Forsikring'!B8+'Sparebank 1 Fors.'!B8+'Storebrand Livsforsikring'!B8+'Telenor Forsikring'!B8+'Tryg Forsikring'!B8+'WaterCircles F'!B8+'Euro Accident'!B8+'Ly Forsikring'!B8+'Youplus Livsforsikring'!B8+'Oslo Forsikring'!B8+'Knif Trygghet Forsikring'!B8 -> 1372619.5 | C8: =Fremtind!C8+'DNB Livsforsikring'!C8+'Frende Livsforsikring'!C8+'Frende Skadeforsikring'!C8+'Gjensidige Forsikring'!C8+'Gjensidige Pensjon'!C8+'If Skadeforsikring NUF'!C8+KLP!C8+'KLP Skadeforsikring AS'!C8+'Landkreditt Forsikring AS'!C8+'Nordea Liv '!C8+'Oslo Pensjonsforsikring'!C8+'Protector Forsikring'!C8+'Sparebank 1 Fors.'!C8+'Storebrand Livsforsikring'!C8+'Telenor Forsikring'!C8+'Tryg Forsikring'!C8+'WaterCircles F'!C8+'Euro Accident'!C8+'Ly Forsikring'!C8+'Youplus Livsforsikring'!C8+'Oslo Forsikring'!C8+'Knif Trygghet Forsikring'!C8 -> 1435961.9 | D8: =IF(B8=0, " ---- ", IF(ABS(ROUND(100/B8*C8-100,1))<999,ROUND(100/B8*C8-100,1),IF(ROUND(100/B8*C8-100,1)>999,999,-999))) -> 4.6 | H8: =B8+E8 -> 1372619.5 | I8: =C8+F8 -> 1435961.9 | J8: =IF(H8=0, " ---- ", IF(ABS(ROUND(100/H8*I8-100,1))<999,ROUND(100/H8*I8-100,1),IF(ROUND(100/H8*I8-100,1)>999,999,-999))) -> 4.6
A9: Herav brutto risikopremie uførekapital 2 | B9: =Fremtind!B9+'DNB Livsforsikring'!B9+'Frende Livsforsikring'!B9+'Frende Skadeforsikring'!B9+'Gjensidige Forsikring'!B9+'Gjensidige Pensjon'!B9+'If Skadeforsikring NUF'!B9+KLP!B9+'KLP Skadeforsikring AS'!B9+'Landkreditt Forsikring AS'!B9+'Nordea Liv '!B9+'Oslo Pensjonsforsikring'!B9+'Protector Forsikring'!B9+'Sparebank 1 Fors.'!B9+'Storebrand Livsforsikring'!B9+'Telenor Forsikring'!B9+'Tryg Forsikring'!B9+'WaterCircles F'!B9+'Euro Accident'!B9+'Ly Forsikring'!B9+'Youplus Livsforsikring'!B9+'Oslo Forsikring'!B9+'Knif Trygghet Forsikring'!B9 -> 426012.07 | C9: =Fremtind!C9+'DNB Livsforsikring'!C9+'Frende Livsforsikring'!C9+'Frende Skadeforsikring'!C9+'Gjensidige Forsikring'!C9+'Gjensidige Pensjon'!C9+'If Skadeforsikring NUF'!C9+KLP!C9+'KLP Skadeforsikring AS'!C9+'Landkreditt Forsikring AS'!C9+'Nordea Liv '!C9+'Oslo Pensjonsforsikring'!C9+'Protector Forsikring'!C9+'Sparebank 1 Fors.'!C9+'Storebrand Livsforsikring'!C9+'Telenor Forsikring'!C9+'Tryg Forsikring'!C9+'WaterCircles F'!C9+'Euro Accident'!C9+'Ly Forsikring'!C9+'Youplus Livsforsikring'!C9+'Oslo Forsikring'!C9+'Knif Trygghet Forsikring'!C9 -> 427307.67 | D9: =IF(B9=0, " ---- ", IF(ABS(ROUND(100/B9*C9-100,1))<999,ROUND(100/B9*C9-100,1),IF(ROUND(100/B9*C9-100,1)>999,999,-999))) -> 0.3 | H9: =B9+E9 -> 426012.07 | I9: =C9+F9 -> 427307.67 | J9: =IF(H9=0, " ---- ", IF(ABS(ROUND(100/H9*I9-100,1))<999,ROUND(100/H9*I9-100,1),IF(ROUND(100/H9*I9-100,1)>999,999,-999))) -> 0.3
A10: Forsikringsforpliktelser 4 | B10: =Fremtind!B10+'DNB Livsforsikring'!B10+'Frende Livsforsikring'!B10+'Frende Skadeforsikring'!B10+'Gjensidige Forsikring'!B10+'Gjensidige Pensjon'!B10+'If Skadeforsikring NUF'!B10+KLP!B10+'KLP Skadeforsikring AS'!B10+'Landkreditt Forsikring AS'!B10+'Nordea Liv '!B10+'Oslo Pensjonsforsikring'!B10+'Protector Forsikring'!B10+'Sparebank 1 Fors.'!B10+'Storebrand Livsforsikring'!B10+'Telenor Forsikring'!B10+'Tryg Forsikring'!B10+'WaterCircles F'!B10+'Euro Accident'!B10+'Ly Forsikring'!B10+'Youplus Livsforsikring'!B10+'Oslo Forsikring'!B10+'Knif Trygghet Forsikring'!B10 -> 12653191 | C10: =Fremtind!C10+'DNB Livsforsikring'!C10+'Frende Livsforsikring'!C10+'Frende Skadeforsikring'!C10+'Gjensidige Forsikring'!C10+'Gjensidige Pensjon'!C10+'If Skadeforsikring NUF'!C10+KLP!C10+'KLP Skadeforsikring AS'!C10+'Landkreditt Forsikring AS'!C10+'Nordea Liv '!C10+'Oslo Pensjonsforsikring'!C10+'Protector Forsikring'!C10+'Sparebank 1 Fors.'!C10+'Storebrand Livsforsikring'!C10+'Telenor Forsikring'!C10+'Tryg Forsikring'!C10+'WaterCircles F'!C10+'Euro Accident'!C10+'Ly Forsikring'!C10+'Youplus Livsforsikring'!C10+'Oslo Forsikring'!C10+'Knif Trygghet Forsikring'!C10 -> 12775940 | D10: =IF(B10=0, " ---- ", IF(ABS(ROUND(100/B10*C10-100,1))<999,ROUND(100/B10*C10-100,1),IF(ROUND(100/B10*C10-100,1)>999,999,-999))) -> 1 | E10: =Fremtind!F10+'DNB Livsforsikring'!F10+'Frende Livsforsikring'!F10+'Frende Skadeforsikring'!F10+'Gjensidige Forsikring'!F10+'Gjensidige Pensjon'!F10+'If Skadeforsikring NUF'!F10+KLP!F10+'KLP Skadeforsikring AS'!F10+'Landkreditt Forsikring AS'!F10+'Nordea Liv '!F10+'Oslo Pensjonsforsikring'!F10+'Protector Forsikring'!F10+'Sparebank 1 Fors.'!F10+'Storebrand Livsforsikring'!F10+'Telenor Forsikring'!F10+'Tryg Forsikring'!F10+'WaterCircles F'!F10+'Euro Accident'!F10+'Ly Forsikring'!F10+'Youplus Livsforsikring'!F10+'Oslo Forsikring'!F10+'Knif Trygghet Forsikring'!F10 -> 94510190 | F10: =Fremtind!G10+'DNB Livsforsikring'!G10+'Frende Livsforsikring'!G10+'Frende Skadeforsikring'!G10+'Gjensidige Forsikring'!G10+'Gjensidige Pensjon'!G10+'If Skadeforsikring NUF'!G10+KLP!G10+'KLP Skadeforsikring AS'!G10+'Landkreditt Forsikring AS'!G10+'Nordea Liv '!G10+'Oslo Pensjonsforsikring'!G10+'Protector Forsikring'!G10+'Sparebank 1 Fors.'!G10+'Storebrand Livsforsikring'!G10+'Telenor Forsikring'!G10+'Tryg Forsikring'!G10+'WaterCircles F'!G10+'Euro Accident'!G10+'Ly Forsikring'!G10+'Youplus Livsforsikring'!G10+'Oslo Forsikring'!G10+'Knif Trygghet Forsikring'!G10 -> 1.0767607e+08 | G10: =IF(E10=0, " ---- ", IF(ABS(ROUND(100/E10*F10-100,1))<999,ROUND(100/E10*F10-100,1),IF(ROUND(100/E10*F10-100,1)>999,999,-999))) -> 13.9 | H10: =B10+E10 -> 1.0716338e+08 | I10: =C10+F10 -> 1.2045201e+08 | J10: =IF(H10=0, " ---- ", IF(ABS(ROUND(100/H10*I10-100,1))<999,ROUND(100/H10*I10-100,1),IF(ROUND(100/H10*I10-100,1)>999,999,-999))) -> 12.4
A11: Overførte reserver fra andre 5 | E11: =Fremtind!F11+'DNB Livsforsikring'!F11+'Frende Livsforsikring'!F11+'Frende Skadeforsikring'!F11+'Gjensidige Forsikring'!F11+'Gjensidige Pensjon'!F11+'If Skadeforsikring NUF'!F11+KLP!F11+'KLP Skadeforsikring AS'!F11+'Landkreditt Forsikring AS'!F11+'Nordea Liv '!F11+'Oslo Pensjonsforsikring'!F11+'Protector Forsikring'!F11+'Sparebank 1 Fors.'!F11+'Storebrand Livsforsikring'!F11+'Telenor Forsikring'!F11+'Tryg Forsikring'!F11+'WaterCircles F'!F11+'Euro Accident'!F11+'Ly Forsikring'!F11+'Youplus Livsforsikring'!F11+'Oslo Forsikring'!F11+'Knif Trygghet Forsikring'!F11 -> 162532.77 | F11: =Fremtind!G11+'DNB Livsforsikring'!G11+'Frende Livsforsikring'!G11+'Frende Skadeforsikring'!G11+'Gjensidige Forsikring'!G11+'Gjensidige Pensjon'!G11+'If Skadeforsikring NUF'!G11+KLP!G11+'KLP Skadeforsikring AS'!G11+'Landkreditt Forsikring AS'!G11+'Nordea Liv '!G11+'Oslo Pensjonsforsikring'!G11+'Protector Forsikring'!G11+'Sparebank 1 Fors.'!G11+'Storebrand Livsforsikring'!G11+'Telenor Forsikring'!G11+'Tryg Forsikring'!G11+'WaterCircles F'!G11+'Euro Accident'!G11+'Ly Forsikring'!G11+'Youplus Livsforsikring'!G11+'Oslo Forsikring'!G11+'Knif Trygghet Forsikring'!G11 -> 106958.19 | G11: =IF(E11=0, " ---- ", IF(ABS(ROUND(100/E11*F11-100,1))<999,ROUND(100/E11*F11-100,1),IF(ROUND(100/E11*F11-100,1)>999,999,-999))) -> -34.2 | H11: =B11+E11 -> 162532.77 | I11: =C11+F11 -> 106958.19 | J11: =IF(H11=0, " ---- ", IF(ABS(ROUND(100/H11*I11-100,1))<999,ROUND(100/H11*I11-100,1),IF(ROUND(100/H11*I11-100,1)>999,999,-999))) -> -34.2
A12: Overførte reserver til andre 6 | B12: =Fremtind!B12+'DNB Livsforsikring'!B12+'Frende Livsforsikring'!B12+'Frende Skadeforsikring'!B12+'Gjensidige Forsikring'!B12+'Gjensidige Pensjon'!B12+'If Skadeforsikring NUF'!B12+KLP!B12+'KLP Skadeforsikring AS'!B12+'Landkreditt Forsikring AS'!B12+'Nordea Liv '!B12+'Oslo Pensjonsforsikring'!B12+'Protector Forsikring'!B12+'Sparebank 1 Fors.'!B12+'Storebrand Livsforsikring'!B12+'Telenor Forsikring'!B12+'Tryg Forsikring'!B12+'WaterCircles F'!B12+'Euro Accident'!B12+'Ly Forsikring'!B12+'Youplus Livsforsikring'!B12+'Oslo Forsikring'!B12+'Knif Trygghet Forsikring'!B12 -> 0 | C12: =Fremtind!C12+'DNB Livsforsikring'!C12+'Frende Livsforsikring'!C12+'Frende Skadeforsikring'!C12+'Gjensidige Forsikring'!C12+'Gjensidige Pensjon'!C12+'If Skadeforsikring NUF'!C12+KLP!C12+'KLP Skadeforsikring AS'!C12+'Landkreditt Forsikring AS'!C12+'Nordea Liv '!C12+'Oslo Pensjonsforsikring'!C12+'Protector Forsikring'!C12+'Sparebank 1 Fors.'!C12+'Storebrand Livsforsikring'!C12+'Telenor Forsikring'!C12+'Tryg Forsikring'!C12+'WaterCircles F'!C12+'Euro Accident'!C12+'Ly Forsikring'!C12+'Youplus Livsforsikring'!C12+'Oslo Forsikring'!C12+'Knif Trygghet Forsikring'!C12 -> 0 | E12: =Fremtind!F12+'DNB Livsforsikring'!F12+'Frende Livsforsikring'!F12+'Frende Skadeforsikring'!F12+'Gjensidige Forsikring'!F12+'Gjensidige Pensjon'!F12+'If Skadeforsikring NUF'!F12+KLP!F12+'KLP Skadeforsikring AS'!F12+'Landkreditt Forsikring AS'!F12+'Nordea Liv '!F12+'Oslo Pensjonsforsikring'!F12+'Protector Forsikring'!F12+'Sparebank 1 Fors.'!F12+'Storebrand Livsforsikring'!F12+'Telenor Forsikring'!F12+'Tryg Forsikring'!F12+'WaterCircles F'!F12+'Euro Accident'!F12+'Ly Forsikring'!F12+'Youplus Livsforsikring'!F12+'Oslo Forsikring'!F12+'Knif Trygghet Forsikring'!F12 -> 217906.63 | F12: =Fremtind!G12+'DNB Livsforsikring'!G12+'Frende Livsforsikring'!G12+'Frende Skadeforsikring'!G12+'Gjensidige Forsikring'!G12+'Gjensidige Pensjon'!G12+'If Skadeforsikring NUF'!G12+KLP!G12+'KLP Skadeforsikring AS'!G12+'Landkreditt Forsikring AS'!G12+'Nordea Liv '!G12+'Oslo Pensjonsforsikring'!G12+'Protector Forsikring'!G12+'Sparebank 1 Fors.'!G12+'Storebrand Livsforsikring'!G12+'Telenor Forsikring'!G12+'Tryg Forsikring'!G12+'WaterCircles F'!G12+'Euro Accident'!G12+'Ly Forsikring'!G12+'Youplus Livsforsikring'!G12+'Oslo Forsikring'!G12+'Knif Trygghet Forsikring'!G12 -> 125383.08 | G12: =IF(E12=0, " ---- ", IF(ABS(ROUND(100/E12*F12-100,1))<999,ROUND(100/E12*F12-100,1),IF(ROUND(100/E12*F12-100,1)>999,999,-999))) -> -42.5 | H12: =B12+E12 -> 217906.63 | I12: =C12+F12 -> 125383.08 | J12: =IF(H12=0, " ---- ", IF(ABS(ROUND(100/H12*I12-100,1))<999,ROUND(100/H12*I12-100,1),IF(ROUND(100/H12*I12-100,1)>999,999,-999))) -> -42.5
A14: * Brutto risiokopremie for invidiuell uførepensjon fremkommer i tabell 2.
A17: Tabell 2: Individuell pensjonsforsikring, herunder foreningskollektiv
B19: Produkter uten investeringsvalg | E19: Produkter med investeringsvalg | H19: Totalt
B20: 31.3.2025 | C20: 31.3.2026 | D20: Endring | E20: 31.3.2025 | F20: 31.3.2026 | G20: Endring | H20: 31.3.2025 | I20: 31.3.2026 | J20: Endring
D21: i % | G21: i % | J21: i %
A22: Brutto forfalt premie 1 | B22: =Fremtind!B22+'DNB Livsforsikring'!B22+'Frende Livsforsikring'!B22+'Frende Skadeforsikring'!B22+'Gjensidige Forsikring'!B22+'Gjensidige Pensjon'!B22+'If Skadeforsikring NUF'!B22+KLP!B22+'KLP Skadeforsikring AS'!B22+'Landkreditt Forsikring AS'!B22+'Nordea Liv '!B22+'Oslo Pensjonsforsikring'!B22+'Protector Forsikring'!B22+'Sparebank 1 Fors.'!B22+'Storebrand Livsforsikring'!B22+'Telenor Forsikring'!B22+'Tryg Forsikring'!B22+'WaterCircles F'!B22+'Euro Accident'!B22+'Ly Forsikring'!B22+'Youplus Livsforsikring'!B22+'Oslo Forsikring'!B22+'Knif Trygghet Forsikring'!B22 -> 992677.9 | C22: =Fremtind!C22+'DNB Livsforsikring'!C22+'Frende Livsforsikring'!C22+'Frende Skadeforsikring'!C22+'Gjensidige Forsikring'!C22+'Gjensidige Pensjon'!C22+'If Skadeforsikring NUF'!C22+KLP!C22+'KLP Skadeforsikring AS'!C22+'Landkreditt Forsikring AS'!C22+'Nordea Liv '!C22+'Oslo Pensjonsforsikring'!C22+'Protector Forsikring'!C22+'Sparebank 1 Fors.'!C22+'Storebrand Livsforsikring'!C22+'Telenor Forsikring'!C22+'Tryg Forsikring'!C22+'WaterCircles F'!C22+'Euro Accident'!C22+'Ly Forsikring'!C22+'Youplus Livsforsikring'!C22+'Oslo Forsikring'!C22+'Knif Trygghet Forsikring'!C22 -> 1078054.3 | D22: =IF(B22=0, " ---- ", IF(ABS(ROUND(100/B22*C22-100,1))<999,ROUND(100/B22*C22-100,1),IF(ROUND(100/B22*C22-100,1)>999,999,-999))) -> 8.6 | E22: =Fremtind!F22+'DNB Livsforsikring'!F22+'Frende Livsforsikring'!F22+'Frende Skadeforsikring'!F22+'Gjensidige Forsikring'!F22+'Gjensidige Pensjon'!F22+'If Skadeforsikring NUF'!F22+KLP!F22+'KLP Skadeforsikring AS'!F22+'Landkreditt Forsikring AS'!F22+'Nordea Liv '!F22+'Oslo Pensjonsforsikring'!F22+'Protector Forsikring'!F22+'Sparebank 1 Fors.'!F22+'Storebrand Livsforsikring'!F22+'Telenor Forsikring'!F22+'Tryg Forsikring'!F22+'WaterCircles F'!F22+'Euro Accident'!F22+'Ly Forsikring'!F22+'Youplus Livsforsikring'!F22+'Oslo Forsikring'!F22+'Knif Trygghet Forsikring'!F22 -> 287527.38 | F22: =Fremtind!G22+'DNB Livsforsikring'!G22+'Frende Livsforsikring'!G22+'Frende Skadeforsikring'!G22+'Gjensidige Forsikring'!G22+'Gjensidige Pensjon'!G22+'If Skadeforsikring NUF'!G22+KLP!G22+'KLP Skadeforsikring AS'!G22+'Landkreditt Forsikring AS'!G22+'Nordea Liv '!G22+'Oslo Pensjonsforsikring'!G22+'Protector Forsikring'!G22+'Sparebank 1 Fors.'!G22+'Storebrand Livsforsikring'!G22+'Telenor Forsikring'!G22+'Tryg Forsikring'!G22+'WaterCircles F'!G22+'Euro Accident'!G22+'Ly Forsikring'!G22+'Youplus Livsforsikring'!G22+'Oslo Forsikring'!G22+'Knif Trygghet Forsikring'!G22 -> 446345.47 | G22: =IF(E22=0, " ---- ", IF(ABS(ROUND(100/E22*F22-100,1))<999,ROUND(100/E22*F22-100,1),IF(ROUND(100/E22*F22-100,1)>999,999,-999))) -> 55.2 | H22: =SUM(B22,E22) -> 1280205.3 | I22: =SUM(C22,F22) -> 1524399.8 | J22: =IF(H22=0, " ---- ", IF(ABS(ROUND(100/H22*I22-100,1))<999,ROUND(100/H22*I22-100,1),IF(ROUND(100/H22*I22-100,1)>999,999,-999))) -> 19.1
A23: Livrenter 10 | B23: =Fremtind!B23+'DNB Livsforsikring'!B23+'Frende Livsforsikring'!B23+'Frende Skadeforsikring'!B23+'Gjensidige Forsikring'!B23+'Gjensidige Pensjon'!B23+'If Skadeforsikring NUF'!B23+KLP!B23+'KLP Skadeforsikring AS'!B23+'Landkreditt Forsikring AS'!B23+'Nordea Liv '!B23+'Oslo Pensjonsforsikring'!B23+'Protector Forsikring'!B23+'Sparebank 1 Fors.'!B23+'Storebrand Livsforsikring'!B23+'Telenor Forsikring'!B23+'Tryg Forsikring'!B23+'WaterCircles F'!B23+'Euro Accident'!B23+'Ly Forsikring'!B23+'Youplus Livsforsikring'!B23+'Oslo Forsikring'!B23+'Knif Trygghet Forsikring'!B23 -> 729855.98 | C23: =Fremtind!C23+'DNB Livsforsikring'!C23+'Frende Livsforsikring'!C23+'Frende Skadeforsikring'!C23+'Gjensidige Forsikring'!C23+'Gjensidige Pensjon'!C23+'If Skadeforsikring NUF'!C23+KLP!C23+'KLP Skadeforsikring AS'!C23+'Landkreditt Forsikring AS'!C23+'Nordea Liv '!C23+'Oslo Pensjonsforsikring'!C23+'Protector Forsikring'!C23+'Sparebank 1 Fors.'!C23+'Storebrand Livsforsikring'!C23+'Telenor Forsikring'!C23+'Tryg Forsikring'!C23+'WaterCircles F'!C23+'Euro Accident'!C23+'Ly Forsikring'!C23+'Youplus Livsforsikring'!C23+'Oslo Forsikring'!C23+'Knif Trygghet Forsikring'!C23 -> 798013.77 | D23: =IF($A$1=4,IF(B23=0, " ---- ", IF(ABS(ROUND(100/B23*C23-100,1))<999,ROUND(100/B23*C23-100,1),IF(ROUND(100/B23*C23-100,1)>999,999,-999))),"") -> 9.3 | E23: =Fremtind!F23+'DNB Livsforsikring'!F23+'Frende Livsforsikring'!F23+'Frende Skadeforsikring'!F23+'Gjensidige Forsikring'!F23+'Gjensidige Pensjon'!F23+'If Skadeforsikring NUF'!F23+KLP!F23+'KLP Skadeforsikring AS'!F23+'Landkreditt Forsikring AS'!F23+'Nordea Liv '!F23+'Oslo Pensjonsforsikring'!F23+'Protector Forsikring'!F23+'Sparebank 1 Fors.'!F23+'Storebrand Livsforsikring'!F23+'Telenor Forsikring'!F23+'Tryg Forsikring'!F23+'WaterCircles F'!F23+'Euro Accident'!F23+'Ly Forsikring'!F23+'Youplus Livsforsikring'!F23+'Oslo Forsikring'!F23+'Knif Trygghet Forsikring'!F23 -> 10635.979 | F23: =Fremtind!G23+'DNB Livsforsikring'!G23+'Frende Livsforsikring'!G23+'Frende Skadeforsikring'!G23+'Gjensidige Forsikring'!G23+'Gjensidige Pensjon'!G23+'If Skadeforsikring NUF'!G23+KLP!G23+'KLP Skadeforsikring AS'!G23+'Landkreditt Forsikring AS'!G23+'Nordea Liv '!G23+'Oslo Pensjonsforsikring'!G23+'Protector Forsikring'!G23+'Sparebank 1 Fors.'!G23+'Storebrand Livsforsikring'!G23+'Telenor Forsikring'!G23+'Tryg Forsikring'!G23+'WaterCircles F'!G23+'Euro Accident'!G23+'Ly Forsikring'!G23+'Youplus Livsforsikring'!G23+'Oslo Forsikring'!G23+'Knif Trygghet Forsikring'!G23 -> 8652.5004 | G23: =IF($A$1=4,IF(E23=0, " ---- ", IF(ABS(ROUND(100/E23*F23-100,1))<999,ROUND(100/E23*F23-100,1),IF(ROUND(100/E23*F23-100,1)>999,999,-999))),"") -> -18.6 | H23: =SUM(B23,E23) -> 740491.96 | I23: =SUM(C23,F23) -> 806666.28 | J23: =IF(H23=0, " ---- ", IF(ABS(ROUND(100/H23*I23-100,1))<999,ROUND(100/H23*I23-100,1),IF(ROUND(100/H23*I23-100,1)>999,999,-999))) -> 8.9
A24: IPA 10 | B24: =Fremtind!B24+'DNB Livsforsikring'!B24+'Frende Livsforsikring'!B24+'Frende Skadeforsikring'!B24+'Gjensidige Forsikring'!B24+'Gjensidige Pensjon'!B24+'If Skadeforsikring NUF'!B24+KLP!B24+'KLP Skadeforsikring AS'!B24+'Landkreditt Forsikring AS'!B24+'Nordea Liv '!B24+'Oslo Pensjonsforsikring'!B24+'Protector Forsikring'!B24+'Sparebank 1 Fors.'!B24+'Storebrand Livsforsikring'!B24+'Telenor Forsikring'!B24+'Tryg Forsikring'!B24+'WaterCircles F'!B24+'Euro Accident'!B24+'Ly Forsikring'!B24+'Youplus Livsforsikring'!B24+'Oslo Forsikring'!B24+'Knif Trygghet Forsikring'!B24 -> 4749.9183 | C24: =Fremtind!C24+'DNB Livsforsikring'!C24+'Frende Livsforsikring'!C24+'Frende Skadeforsikring'!C24+'Gjensidige Forsikring'!C24+'Gjensidige Pensjon'!C24+'If Skadeforsikring NUF'!C24+KLP!C24+'KLP Skadeforsikring AS'!C24+'Landkreditt Forsikring AS'!C24+'Nordea Liv '!C24+'Oslo Pensjonsforsikring'!C24+'Protector Forsikring'!C24+'Sparebank 1 Fors.'!C24+'Storebrand Livsforsikring'!C24+'Telenor Forsikring'!C24+'Tryg Forsikring'!C24+'WaterCircles F'!C24+'Euro Accident'!C24+'Ly Forsikring'!C24+'Youplus Livsforsikring'!C24+'Oslo Forsikring'!C24+'Knif Trygghet Forsikring'!C24 -> 3379.7901 | D24: =IF($A$1=4,IF(B24=0, " ---- ", IF(ABS(ROUND(100/B24*C24-100,1))<999,ROUND(100/B24*C24-100,1),IF(ROUND(100/B24*C24-100,1)>999,999,-999))),"") -> -28.8 | E24: =Fremtind!F24+'DNB Livsforsikring'!F24+'Frende Livsforsikring'!F24+'Frende Skadeforsikring'!F24+'Gjensidige Forsikring'!F24+'Gjensidige Pensjon'!F24+'If Skadeforsikring NUF'!F24+KLP!F24+'KLP Skadeforsikring AS'!F24+'Landkreditt Forsikring AS'!F24+'Nordea Liv '!F24+'Oslo Pensjonsforsikring'!F24+'Protector Forsikring'!F24+'Sparebank 1 Fors.'!F24+'Storebrand Livsforsikring'!F24+'Telenor Forsikring'!F24+'Tryg Forsikring'!F24+'WaterCircles F'!F24+'Euro Accident'!F24+'Ly Forsikring'!F24+'Youplus Livsforsikring'!F24+'Oslo Forsikring'!F24+'Knif Trygghet Forsikring'!F24 -> 6.65497 | F24: =Fremtind!G24+'DNB Livsforsikring'!G24+'Frende Livsforsikring'!G24+'Frende Skadeforsikring'!G24+'Gjensidige Forsikring'!G24+'Gjensidige Pensjon'!G24+'If Skadeforsikring NUF'!G24+KLP!G24+'KLP Skadeforsikring AS'!G24+'Landkreditt Forsikring AS'!G24+'Nordea Liv '!G24+'Oslo Pensjonsforsikring'!G24+'Protector Forsikring'!G24+'Sparebank 1 Fors.'!G24+'Storebrand Livsforsikring'!G24+'Telenor Forsikring'!G24+'Tryg Forsikring'!G24+'WaterCircles F'!G24+'Euro Accident'!G24+'Ly Forsikring'!G24+'Youplus Livsforsikring'!G24+'Oslo Forsikring'!G24+'Knif Trygghet Forsikring'!G24 -> 65.2535 | G24: =IF($A$1=4,IF(E24=0, " ---- ", IF(ABS(ROUND(100/E24*F24-100,1))<999,ROUND(100/E24*F24-100,1),IF(ROUND(100/E24*F24-100,1)>999,999,-999))),"") -> 880.5 | H24: =SUM(B24,E24) -> 4756.5733 | I24: =SUM(C24,F24) -> 3445.0436 | J24: =IF(H24=0, " ---- ", IF(ABS(ROUND(100/H24*I24-100,1))<999,ROUND(100/H24*I24-100,1),IF(ROUND(100/H24*I24-100,1)>999,999,-999))) -> -27.6
A25: IPS 2008 10 | B25: =Fremtind!B25+'DNB Livsforsikring'!B25+'Frende Livsforsikring'!B25+'Frende Skadeforsikring'!B25+'Gjensidige Forsikring'!B25+'Gjensidige Pensjon'!B25+'If Skadeforsikring NUF'!B25+KLP!B25+'KLP Skadeforsikring AS'!B25+'Landkreditt Forsikring AS'!B25+'Nordea Liv '!B25+'Oslo Pensjonsforsikring'!B25+'Protector Forsikring'!B25+'Sparebank 1 Fors.'!B25+'Storebrand Livsforsikring'!B25+'Telenor Forsikring'!B25+'Tryg Forsikring'!B25+'WaterCircles F'!B25+'Euro Accident'!B25+'Ly Forsikring'!B25+'Youplus Livsforsikring'!B25+'Oslo Forsikring'!B25+'Knif Trygghet Forsikring'!B25 -> 5630.85 | C25: =Fremtind!C25+'DNB Livsforsikring'!C25+'Frende Livsforsikring'!C25+'Frende Skadeforsikring'!C25+'Gjensidige Forsikring'!C25+'Gjensidige Pensjon'!C25+'If Skadeforsikring NUF'!C25+KLP!C25+'KLP Skadeforsikring AS'!C25+'Landkreditt Forsikring AS'!C25+'Nordea Liv '!C25+'Oslo Pensjonsforsikring'!C25+'Protector Forsikring'!C25+'Sparebank 1 Fors.'!C25+'Storebrand Livsforsikring'!C25+'Telenor Forsikring'!C25+'Tryg Forsikring'!C25+'WaterCircles F'!C25+'Euro Accident'!C25+'Ly Forsikring'!C25+'Youplus Livsforsikring'!C25+'Oslo Forsikring'!C25+'Knif Trygghet Forsikring'!C25 -> 4335.6052 | D25: =IF($A$1=4,IF(B25=0, " ---- ", IF(ABS(ROUND(100/B25*C25-100,1))<999,ROUND(100/B25*C25-100,1),IF(ROUND(100/B25*C25-100,1)>999,999,-999))),"") -> -23 | E25: =Fremtind!F25+'DNB Livsforsikring'!F25+'Frende Livsforsikring'!F25+'Frende Skadeforsikring'!F25+'Gjensidige Forsikring'!F25+'Gjensidige Pensjon'!F25+'If Skadeforsikring NUF'!F25+KLP!F25+'KLP Skadeforsikring AS'!F25+'Landkreditt Forsikring AS'!F25+'Nordea Liv '!F25+'Oslo Pensjonsforsikring'!F25+'Protector Forsikring'!F25+'Sparebank 1 Fors.'!F25+'Storebrand Livsforsikring'!F25+'Telenor Forsikring'!F25+'Tryg Forsikring'!F25+'WaterCircles F'!F25+'Euro Accident'!F25+'Ly Forsikring'!F25+'Youplus Livsforsikring'!F25+'Oslo Forsikring'!F25+'Knif Trygghet Forsikring'!F25 -> 3394.6293 | F25: =Fremtind!G25+'DNB Livsforsikring'!G25+'Frende Livsforsikring'!G25+'Frende Skadeforsikring'!G25+'Gjensidige Forsikring'!G25+'Gjensidige Pensjon'!G25+'If Skadeforsikring NUF'!G25+KLP!G25+'KLP Skadeforsikring AS'!G25+'Landkreditt Forsikring AS'!G25+'Nordea Liv '!G25+'Oslo Pensjonsforsikring'!G25+'Protector Forsikring'!G25+'Sparebank 1 Fors.'!G25+'Storebrand Livsforsikring'!G25+'Telenor Forsikring'!G25+'Tryg Forsikring'!G25+'WaterCircles F'!G25+'Euro Accident'!G25+'Ly Forsikring'!G25+'Youplus Livsforsikring'!G25+'Oslo Forsikring'!G25+'Knif Trygghet Forsikring'!G25 -> 7059.0853 | G25: =IF($A$1=4,IF(E25=0, " ---- ", IF(ABS(ROUND(100/E25*F25-100,1))<999,ROUND(100/E25*F25-100,1),IF(ROUND(100/E25*F25-100,1)>999,999,-999))),"") -> 107.9 | H25: =SUM(B25,E25) -> 9025.4793 | I25: =SUM(C25,F25) -> 11394.69 | J25: =IF(H25=0, " ---- ", IF(ABS(ROUND(100/H25*I25-100,1))<999,ROUND(100/H25*I25-100,1),IF(ROUND(100/H25*I25-100,1)>999,999,-999))) -> 26.3
A26: IPS 10 | E26: =Fremtind!F26+'DNB Livsforsikring'!F26+'Frende Livsforsikring'!F26+'Frende Skadeforsikring'!F26+'Gjensidige Forsikring'!F26+'Gjensidige Pensjon'!F26+'If Skadeforsikring NUF'!F26+KLP!F26+'KLP Skadeforsikring AS'!F26+'Landkreditt Forsikring AS'!F26+'Nordea Liv '!F26+'Oslo Pensjonsforsikring'!F26+'Protector Forsikring'!F26+'Sparebank 1 Fors.'!F26+'Storebrand Livsforsikring'!F26+'Telenor Forsikring'!F26+'Tryg Forsikring'!F26+'WaterCircles F'!F26+'Euro Accident'!F26+'Ly Forsikring'!F26+'Youplus Livsforsikring'!F26+'Oslo Forsikring'!F26+'Knif Trygghet Forsikring'!F26 -> 273490.12 | F26: =Fremtind!G26+'DNB Livsforsikring'!G26+'Frende Livsforsikring'!G26+'Frende Skadeforsikring'!G26+'Gjensidige Forsikring'!G26+'Gjensidige Pensjon'!G26+'If Skadeforsikring NUF'!G26+KLP!G26+'KLP Skadeforsikring AS'!G26+'Landkreditt Forsikring AS'!G26+'Nordea Liv '!G26+'Oslo Pensjonsforsikring'!G26+'Protector Forsikring'!G26+'Sparebank 1 Fors.'!G26+'Storebrand Livsforsikring'!G26+'Telenor Forsikring'!G26+'Tryg Forsikring'!G26+'WaterCircles F'!G26+'Euro Accident'!G26+'Ly Forsikring'!G26+'Youplus Livsforsikring'!G26+'Oslo Forsikring'!G26+'Knif Trygghet Forsikring'!G26 -> 430568.63 | G26: =IF($A$1=4,IF(E26=0, " ---- ", IF(ABS(ROUND(100/E26*F26-100,1))<999,ROUND(100/E26*F26-100,1),IF(ROUND(100/E26*F26-100,1)>999,999,-999))),"") -> 57.4 | H26: =SUM(B26,E26) -> 273490.12 | I26: =SUM(C26,F26) -> 430568.63 | J26: =IF(H26=0, " ---- ", IF(ABS(ROUND(100/H26*I26-100,1))<999,ROUND(100/H26*I26-100,1),IF(ROUND(100/H26*I26-100,1)>999,999,-999))) -> 57.4
A27: herav kapitaliseringsprodukt IPA+IPS
A28: Brutto risikopremie for individuell uførepensjon 3 | B28: =Fremtind!B28+'DNB Livsforsikring'!B28+'Frende Livsforsikring'!B28+'Frende Skadeforsikring'!B28+'Gjensidige Forsikring'!B28+'Gjensidige Pensjon'!B28+'If Skadeforsikring NUF'!B28+KLP!B28+'KLP Skadeforsikring AS'!B28+'Landkreditt Forsikring AS'!B28+'Nordea Liv '!B28+'Oslo Pensjonsforsikring'!B28+'Protector Forsikring'!B28+'Sparebank 1 Fors.'!B28+'Storebrand Livsforsikring'!B28+'Telenor Forsikring'!B28+'Tryg Forsikring'!B28+'WaterCircles F'!B28+'Euro Accident'!B28+'Ly Forsikring'!B28+'Youplus Livsforsikring'!B28+'Oslo Forsikring'!B28+'Knif Trygghet Forsikring'!B28 -> 1191160.8 | C28: =Fremtind!C28+'DNB Livsforsikring'!C28+'Frende Livsforsikring'!C28+'Frende Skadeforsikring'!C28+'Gjensidige Forsikring'!C28+'Gjensidige Pensjon'!C28+'If Skadeforsikring NUF'!C28+KLP!C28+'KLP Skadeforsikring AS'!C28+'Landkreditt Forsikring AS'!C28+'Nordea Liv '!C28+'Oslo Pensjonsforsikring'!C28+'Protector Forsikring'!C28+'Sparebank 1 Fors.'!C28+'Storebrand Livsforsikring'!C28+'Telenor Forsikring'!C28+'Tryg Forsikring'!C28+'WaterCircles F'!C28+'Euro Accident'!C28+'Ly Forsikring'!C28+'Youplus Livsforsikring'!C28+'Oslo Forsikring'!C28+'Knif Trygghet Forsikring'!C28 -> 1347885.6 | D28: =IF(B28=0, " ---- ", IF(ABS(ROUND(100/B28*C28-100,1))<999,ROUND(100/B28*C28-100,1),IF(ROUND(100/B28*C28-100,1)>999,999,-999))) -> 13.2 | H28: =SUM(B28,E28) -> 1191160.8 | I28: =SUM(C28,F28) -> 1347885.6 | J28: =IF(H28=0, " ---- ", IF(ABS(ROUND(100/H28*I28-100,1))<999,ROUND(100/H28*I28-100,1),IF(ROUND(100/H28*I28-100,1)>999,999,-999))) -> 13.2
A29: Forsikringsforpliktelser 6 | B29: =Fremtind!B29+'DNB Livsforsikring'!B29+'Frende Livsforsikring'!B29+'Frende Skadeforsikring'!B29+'Gjensidige Forsikring'!B29+'Gjensidige Pensjon'!B29+'If Skadeforsikring NUF'!B29+KLP!B29+'KLP Skadeforsikring AS'!B29+'Landkreditt Forsikring AS'!B29+'Nordea Liv '!B29+'Oslo Pensjonsforsikring'!B29+'Protector Forsikring'!B29+'Sparebank 1 Fors.'!B29+'Storebrand Livsforsikring'!B29+'Telenor Forsikring'!B29+'Tryg Forsikring'!B29+'WaterCircles F'!B29+'Euro Accident'!B29+'Ly Forsikring'!B29+'Youplus Livsforsikring'!B29+'Oslo Forsikring'!B29+'Knif Trygghet Forsikring'!B29 -> 44006076 | C29: =Fremtind!C29+'DNB Livsforsikring'!C29+'Frende Livsforsikring'!C29+'Frende Skadeforsikring'!C29+'Gjensidige Forsikring'!C29+'Gjensidige Pensjon'!C29+'If Skadeforsikring NUF'!C29+KLP!C29+'KLP Skadeforsikring AS'!C29+'Landkreditt Forsikring AS'!C29+'Nordea Liv '!C29+'Oslo Pensjonsforsikring'!C29+'Protector Forsikring'!C29+'Sparebank 1 Fors.'!C29+'Storebrand Livsforsikring'!C29+'Telenor Forsikring'!C29+'Tryg Forsikring'!C29+'WaterCircles F'!C29+'Euro Accident'!C29+'Ly Forsikring'!C29+'Youplus Livsforsikring'!C29+'Oslo Forsikring'!C29+'Knif Trygghet Forsikring'!C29 -> 44504846 | D29: =IF(B29=0, " ---- ", IF(ABS(ROUND(100/B29*C29-100,1))<999,ROUND(100/B29*C29-100,1),IF(ROUND(100/B29*C29-100,1)>999,999,-999))) -> 1.1 | E29: =Fremtind!F29+'DNB Livsforsikring'!F29+'Frende Livsforsikring'!F29+'Frende Skadeforsikring'!F29+'Gjensidige Forsikring'!F29+'Gjensidige Pensjon'!F29+'If Skadeforsikring NUF'!F29+KLP!F29+'KLP Skadeforsikring AS'!F29+'Landkreditt Forsikring AS'!F29+'Nordea Liv '!F29+'Oslo Pensjonsforsikring'!F29+'Protector Forsikring'!F29+'Sparebank 1 Fors.'!F29+'Storebrand Livsforsikring'!F29+'Telenor Forsikring'!F29+'Tryg Forsikring'!F29+'WaterCircles F'!F29+'Euro Accident'!F29+'Ly Forsikring'!F29+'Youplus Livsforsikring'!F29+'Oslo Forsikring'!F29+'Knif Trygghet Forsikring'!F29 -> 28605602 | F29: =Fremtind!G29+'DNB Livsforsikring'!G29+'Frende Livsforsikring'!G29+'Frende Skadeforsikring'!G29+'Gjensidige Forsikring'!G29+'Gjensidige Pensjon'!G29+'If Skadeforsikring NUF'!G29+KLP!G29+'KLP Skadeforsikring AS'!G29+'Landkreditt Forsikring AS'!G29+'Nordea Liv '!G29+'Oslo Pensjonsforsikring'!G29+'Protector Forsikring'!G29+'Sparebank 1 Fors.'!G29+'Storebrand Livsforsikring'!G29+'Telenor Forsikring'!G29+'Tryg Forsikring'!G29+'WaterCircles F'!G29+'Euro Accident'!G29+'Ly Forsikring'!G29+'Youplus Livsforsikring'!G29+'Oslo Forsikring'!G29+'Knif Trygghet Forsikring'!G29 -> 31182335 | G29: =IF(E29=0, " ---- ", IF(ABS(ROUND(100/E29*F29-100,1))<999,ROUND(100/E29*F29-100,1),IF(ROUND(100/E29*F29-100,1)>999,999,-999))) -> 9 | H29: =SUM(B29,E29) -> 72611678 | I29: =SUM(C29,F29) -> 75687181 | J29: =IF(H29=0, " ---- ", IF(ABS(ROUND(100/H29*I29-100,1))<999,ROUND(100/H29*I29-100,1),IF(ROUND(100/H29*I29-100,1)>999,999,-999))) -> 4.2
A30: Livrenter 10 | B30: =Fremtind!B30+'DNB Livsforsikring'!B30+'Frende Livsforsikring'!B30+'Frende Skadeforsikring'!B30+'Gjensidige Forsikring'!B30+'Gjensidige Pensjon'!B30+'If Skadeforsikring NUF'!B30+KLP!B30+'KLP Skadeforsikring AS'!B30+'Landkreditt Forsikring AS'!B30+'Nordea Liv '!B30+'Oslo Pensjonsforsikring'!B30+'Protector Forsikring'!B30+'Sparebank 1 Fors.'!B30+'Storebrand Livsforsikring'!B30+'Telenor Forsikring'!B30+'Tryg Forsikring'!B30+'WaterCircles F'!B30+'Euro Accident'!B30+'Ly Forsikring'!B30+'Youplus Livsforsikring'!B30+'Oslo Forsikring'!B30+'Knif Trygghet Forsikring'!B30 -> 18757048 | C30: =Fremtind!C30+'DNB Livsforsikring'!C30+'Frende Livsforsikring'!C30+'Frende Skadeforsikring'!C30+'Gjensidige Forsikring'!C30+'Gjensidige Pensjon'!C30+'If Skadeforsikring NUF'!C30+KLP!C30+'KLP Skadeforsikring AS'!C30+'Landkreditt Forsikring AS'!C30+'Nordea Liv '!C30+'Oslo Pensjonsforsikring'!C30+'Protector Forsikring'!C30+'Sparebank 1 Fors.'!C30+'Storebrand Livsforsikring'!C30+'Telenor Forsikring'!C30+'Tryg Forsikring'!C30+'WaterCircles F'!C30+'Euro Accident'!C30+'Ly Forsikring'!C30+'Youplus Livsforsikring'!C30+'Oslo Forsikring'!C30+'Knif Trygghet Forsikring'!C30 -> 19898021 | D30: =IF($A$1=4,IF(B30=0, " ---- ", IF(ABS(ROUND(100/B30*C30-100,1))<999,ROUND(100/B30*C30-100,1),IF(ROUND(100/B30*C30-100,1)>999,999,-999))),"") -> 6.1 | E30: =Fremtind!F30+'DNB Livsforsikring'!F30+'Frende Livsforsikring'!F30+'Frende Skadeforsikring'!F30+'Gjensidige Forsikring'!F30+'Gjensidige Pensjon'!F30+'If Skadeforsikring NUF'!F30+KLP!F30+'KLP Skadeforsikring AS'!F30+'Landkreditt Forsikring AS'!F30+'Nordea Liv '!F30+'Oslo Pensjonsforsikring'!F30+'Protector Forsikring'!F30+'Sparebank 1 Fors.'!F30+'Storebrand Livsforsikring'!F30+'Telenor Forsikring'!F30+'Tryg Forsikring'!F30+'WaterCircles F'!F30+'Euro Accident'!F30+'Ly Forsikring'!F30+'Youplus Livsforsikring'!F30+'Oslo Forsikring'!F30+'Knif Trygghet Forsikring'!F30 -> 3565011.4 | F30: =Fremtind!G30+'DNB Livsforsikring'!G30+'Frende Livsforsikring'!G30+'Frende Skadeforsikring'!G30+'Gjensidige Forsikring'!G30+'Gjensidige Pensjon'!G30+'If Skadeforsikring NUF'!G30+KLP!G30+'KLP Skadeforsikring AS'!G30+'Landkreditt Forsikring AS'!G30+'Nordea Liv '!G30+'Oslo Pensjonsforsikring'!G30+'Protector Forsikring'!G30+'Sparebank 1 Fors.'!G30+'Storebrand Livsforsikring'!G30+'Telenor Forsikring'!G30+'Tryg Forsikring'!G30+'WaterCircles F'!G30+'Euro Accident'!G30+'Ly Forsikring'!G30+'Youplus Livsforsikring'!G30+'Oslo Forsikring'!G30+'Knif Trygghet Forsikring'!G30 -> 3547309.1 | G30: =IF($A$1=4,IF(E30=0, " ---- ", IF(ABS(ROUND(100/E30*F30-100,1))<999,ROUND(100/E30*F30-100,1),IF(ROUND(100/E30*F30-100,1)>999,999,-999))),"") -> -0.5 | H30: =SUM(B30,E30) -> 22322059 | I30: =SUM(C30,F30) -> 23445330 | J30: =IF(H30=0, " ---- ", IF(ABS(ROUND(100/H30*I30-100,1))<999,ROUND(100/H30*I30-100,1),IF(ROUND(100/H30*I30-100,1)>999,999,-999))) -> 5
A31: IPA 10 | B31: =Fremtind!B31+'DNB Livsforsikring'!B31+'Frende Livsforsikring'!B31+'Frende Skadeforsikring'!B31+'Gjensidige Forsikring'!B31+'Gjensidige Pensjon'!B31+'If Skadeforsikring NUF'!B31+KLP!B31+'KLP Skadeforsikring AS'!B31+'Landkreditt Forsikring AS'!B31+'Nordea Liv '!B31+'Oslo Pensjonsforsikring'!B31+'Protector Forsikring'!B31+'Sparebank 1 Fors.'!B31+'Storebrand Livsforsikring'!B31+'Telenor Forsikring'!B31+'Tryg Forsikring'!B31+'WaterCircles F'!B31+'Euro Accident'!B31+'Ly Forsikring'!B31+'Youplus Livsforsikring'!B31+'Oslo Forsikring'!B31+'Knif Trygghet Forsikring'!B31 -> 22754347 | C31: =Fremtind!C31+'DNB Livsforsikring'!C31+'Frende Livsforsikring'!C31+'Frende Skadeforsikring'!C31+'Gjensidige Forsikring'!C31+'Gjensidige Pensjon'!C31+'If Skadeforsikring NUF'!C31+KLP!C31+'KLP Skadeforsikring AS'!C31+'Landkreditt Forsikring AS'!C31+'Nordea Liv '!C31+'Oslo Pensjonsforsikring'!C31+'Protector Forsikring'!C31+'Sparebank 1 Fors.'!C31+'Storebrand Livsforsikring'!C31+'Telenor Forsikring'!C31+'Tryg Forsikring'!C31+'WaterCircles F'!C31+'Euro Accident'!C31+'Ly Forsikring'!C31+'Youplus Livsforsikring'!C31+'Oslo Forsikring'!C31+'Knif Trygghet Forsikring'!C31 -> 21580173 | D31: =IF($A$1=4,IF(B31=0, " ---- ", IF(ABS(ROUND(100/B31*C31-100,1))<999,ROUND(100/B31*C31-100,1),IF(ROUND(100/B31*C31-100,1)>999,999,-999))),"") -> -5.2 | E31: =Fremtind!F31+'DNB Livsforsikring'!F31+'Frende Livsforsikring'!F31+'Frende Skadeforsikring'!F31+'Gjensidige Forsikring'!F31+'Gjensidige Pensjon'!F31+'If Skadeforsikring NUF'!F31+KLP!F31+'KLP Skadeforsikring AS'!F31+'Landkreditt Forsikring AS'!F31+'Nordea Liv '!F31+'Oslo Pensjonsforsikring'!F31+'Protector Forsikring'!F31+'Sparebank 1 Fors.'!F31+'Storebrand Livsforsikring'!F31+'Telenor Forsikring'!F31+'Tryg Forsikring'!F31+'WaterCircles F'!F31+'Euro Accident'!F31+'Ly Forsikring'!F31+'Youplus Livsforsikring'!F31+'Oslo Forsikring'!F31+'Knif Trygghet Forsikring'!F31 -> 7119709.9 | F31: =Fremtind!G31+'DNB Livsforsikring'!G31+'Frende Livsforsikring'!G31+'Frende Skadeforsikring'!G31+'Gjensidige Forsikring'!G31+'Gjensidige Pensjon'!G31+'If Skadeforsikring NUF'!G31+KLP!G31+'KLP Skadeforsikring AS'!G31+'Landkreditt Forsikring AS'!G31+'Nordea Liv '!G31+'Oslo Pensjonsforsikring'!G31+'Protector Forsikring'!G31+'Sparebank 1 Fors.'!G31+'Storebrand Livsforsikring'!G31+'Telenor Forsikring'!G31+'Tryg Forsikring'!G31+'WaterCircles F'!G31+'Euro Accident'!G31+'Ly Forsikring'!G31+'Youplus Livsforsikring'!G31+'Oslo Forsikring'!G31+'Knif Trygghet Forsikring'!G31 -> 7003185.2 | G31: =IF($A$1=4,IF(E31=0, " ---- ", IF(ABS(ROUND(100/E31*F31-100,1))<999,ROUND(100/E31*F31-100,1),IF(ROUND(100/E31*F31-100,1)>999,999,-999))),"") -> -1.6 | H31: =SUM(B31,E31) -> 29874056 | I31: =SUM(C31,F31) -> 28583358 | J31: =IF(H31=0, " ---- ", IF(ABS(ROUND(100/H31*I31-100,1))<999,ROUND(100/H31*I31-100,1),IF(ROUND(100/H31*I31-100,1)>999,999,-999))) -> -4.3
A32: IPS 2008 10 | B32: =Fremtind!B32+'DNB Livsforsikring'!B32+'Frende Livsforsikring'!B32+'Frende Skadeforsikring'!B32+'Gjensidige Forsikring'!B32+'Gjensidige Pensjon'!B32+'If Skadeforsikring NUF'!B32+KLP!B32+'KLP Skadeforsikring AS'!B32+'Landkreditt Forsikring AS'!B32+'Nordea Liv '!B32+'Oslo Pensjonsforsikring'!B32+'Protector Forsikring'!B32+'Sparebank 1 Fors.'!B32+'Storebrand Livsforsikring'!B32+'Telenor Forsikring'!B32+'Tryg Forsikring'!B32+'WaterCircles F'!B32+'Euro Accident'!B32+'Ly Forsikring'!B32+'Youplus Livsforsikring'!B32+'Oslo Forsikring'!B32+'Knif Trygghet Forsikring'!B32 -> 2348242.3 | C32: =Fremtind!C32+'DNB Livsforsikring'!C32+'Frende Livsforsikring'!C32+'Frende Skadeforsikring'!C32+'Gjensidige Forsikring'!C32+'Gjensidige Pensjon'!C32+'If Skadeforsikring NUF'!C32+KLP!C32+'KLP Skadeforsikring AS'!C32+'Landkreditt Forsikring AS'!C32+'Nordea Liv '!C32+'Oslo Pensjonsforsikring'!C32+'Protector Forsikring'!C32+'Sparebank 1 Fors.'!C32+'Storebrand Livsforsikring'!C32+'Telenor Forsikring'!C32+'Tryg Forsikring'!C32+'WaterCircles F'!C32+'Euro Accident'!C32+'Ly Forsikring'!C32+'Youplus Livsforsikring'!C32+'Oslo Forsikring'!C32+'Knif Trygghet Forsikring'!C32 -> 2795621.8 | D32: =IF($A$1=4,IF(B32=0, " ---- ", IF(ABS(ROUND(100/B32*C32-100,1))<999,ROUND(100/B32*C32-100,1),IF(ROUND(100/B32*C32-100,1)>999,999,-999))),"") -> 19.1 | E32: =Fremtind!F32+'DNB Livsforsikring'!F32+'Frende Livsforsikring'!F32+'Frende Skadeforsikring'!F32+'Gjensidige Forsikring'!F32+'Gjensidige Pensjon'!F32+'If Skadeforsikring NUF'!F32+KLP!F32+'KLP Skadeforsikring AS'!F32+'Landkreditt Forsikring AS'!F32+'Nordea Liv '!F32+'Oslo Pensjonsforsikring'!F32+'Protector Forsikring'!F32+'Sparebank 1 Fors.'!F32+'Storebrand Livsforsikring'!F32+'Telenor Forsikring'!F32+'Tryg Forsikring'!F32+'WaterCircles F'!F32+'Euro Accident'!F32+'Ly Forsikring'!F32+'Youplus Livsforsikring'!F32+'Oslo Forsikring'!F32+'Knif Trygghet Forsikring'!F32 -> 6666628.4 | F32: =Fremtind!G32+'DNB Livsforsikring'!G32+'Frende Livsforsikring'!G32+'Frende Skadeforsikring'!G32+'Gjensidige Forsikring'!G32+'Gjensidige Pensjon'!G32+'If Skadeforsikring NUF'!G32+KLP!G32+'KLP Skadeforsikring AS'!G32+'Landkreditt Forsikring AS'!G32+'Nordea Liv '!G32+'Oslo Pensjonsforsikring'!G32+'Protector Forsikring'!G32+'Sparebank 1 Fors.'!G32+'Storebrand Livsforsikring'!G32+'Telenor Forsikring'!G32+'Tryg Forsikring'!G32+'WaterCircles F'!G32+'Euro Accident'!G32+'Ly Forsikring'!G32+'Youplus Livsforsikring'!G32+'Oslo Forsikring'!G32+'Knif Trygghet Forsikring'!G32 -> 7271742.9 | G32: =IF($A$1=4,IF(E32=0, " ---- ", IF(ABS(ROUND(100/E32*F32-100,1))<999,ROUND(100/E32*F32-100,1),IF(ROUND(100/E32*F32-100,1)>999,999,-999))),"") -> 9.1 | H32: =SUM(B32,E32) -> 9014870.7 | I32: =SUM(C32,F32) -> 10067365 | J32: =IF(H32=0, " ---- ", IF(ABS(ROUND(100/H32*I32-100,1))<999,ROUND(100/H32*I32-100,1),IF(ROUND(100/H32*I32-100,1)>999,999,-999))) -> 11.7
A33: IPS 10 | E33: =Fremtind!F33+'DNB Livsforsikring'!F33+'Frende Livsforsikring'!F33+'Frende Skadeforsikring'!F33+'Gjensidige Forsikring'!F33+'Gjensidige Pensjon'!F33+'If Skadeforsikring NUF'!F33+KLP!F33+'KLP Skadeforsikring AS'!F33+'Landkreditt Forsikring AS'!F33+'Nordea Liv '!F33+'Oslo Pensjonsforsikring'!F33+'Protector Forsikring'!F33+'Sparebank 1 Fors.'!F33+'Storebrand Livsforsikring'!F33+'Telenor Forsikring'!F33+'Tryg Forsikring'!F33+'WaterCircles F'!F33+'Euro Accident'!F33+'Ly Forsikring'!F33+'Youplus Livsforsikring'!F33+'Oslo Forsikring'!F33+'Knif Trygghet Forsikring'!F33 -> 11254252 | F33: =Fremtind!G33+'DNB Livsforsikring'!G33+'Frende Livsforsikring'!G33+'Frende Skadeforsikring'!G33+'Gjensidige Forsikring'!G33+'Gjensidige Pensjon'!G33+'If Skadeforsikring NUF'!G33+KLP!G33+'KLP Skadeforsikring AS'!G33+'Landkreditt Forsikring AS'!G33+'Nordea Liv '!G33+'Oslo Pensjonsforsikring'!G33+'Protector Forsikring'!G33+'Sparebank 1 Fors.'!G33+'Storebrand Livsforsikring'!G33+'Telenor Forsikring'!G33+'Tryg Forsikring'!G33+'WaterCircles F'!G33+'Euro Accident'!G33+'Ly Forsikring'!G33+'Youplus Livsforsikring'!G33+'Oslo Forsikring'!G33+'Knif Trygghet Forsikring'!G33 -> 13360098 | G33: =IF($A$1=4,IF(E33=0, " ---- ", IF(ABS(ROUND(100/E33*F33-100,1))<999,ROUND(100/E33*F33-100,1),IF(ROUND(100/E33*F33-100,1)>999,999,-999))),"") -> 18.7 | H33: =SUM(B33,E33) -> 11254252 | I33: =SUM(C33,F33) -> 13360098 | J33: =IF(H33=0, " ---- ", IF(ABS(ROUND(100/H33*I33-100,1))<999,ROUND(100/H33*I33-100,1),IF(ROUND(100/H33*I33-100,1)>999,999,-999))) -> 18.7
A34: Overførte reserver fra andre 5 | B34: =Fremtind!B34+'DNB Livsforsikring'!B34+'Frende Livsforsikring'!B34+'Frende Skadeforsikring'!B34+'Gjensidige Forsikring'!B34+'Gjensidige Pensjon'!B34+'If Skadeforsikring NUF'!B34+KLP!B34+'KLP Skadeforsikring AS'!B34+'Landkreditt Forsikring AS'!B34+'Nordea Liv '!B34+'Oslo Pensjonsforsikring'!B34+'Protector Forsikring'!B34+'Sparebank 1 Fors.'!B34+'Storebrand Livsforsikring'!B34+'Telenor Forsikring'!B34+'Tryg Forsikring'!B34+'WaterCircles F'!B34+'Euro Accident'!B34+'Ly Forsikring'!B34+'Youplus Livsforsikring'!B34+'Oslo Forsikring'!B34+'Knif Trygghet Forsikring'!B34 -> 5797.2493 | C34: =Fremtind!C34+'DNB Livsforsikring'!C34+'Frende Livsforsikring'!C34+'Frende Skadeforsikring'!C34+'Gjensidige Forsikring'!C34+'Gjensidige Pensjon'!C34+'If Skadeforsikring NUF'!C34+KLP!C34+'KLP Skadeforsikring AS'!C34+'Landkreditt Forsikring AS'!C34+'Nordea Liv '!C34+'Oslo Pensjonsforsikring'!C34+'Protector Forsikring'!C34+'Sparebank 1 Fors.'!C34+'Storebrand Livsforsikring'!C34+'Telenor Forsikring'!C34+'Tryg Forsikring'!C34+'WaterCircles F'!C34+'Euro Accident'!C34+'Ly Forsikring'!C34+'Youplus Livsforsikring'!C34+'Oslo Forsikring'!C34+'Knif Trygghet Forsikring'!C34 -> 4326.776 | D34: =IF(B34=0, " ---- ", IF(ABS(ROUND(100/B34*C34-100,1))<999,ROUND(100/B34*C34-100,1),IF(ROUND(100/B34*C34-100,1)>999,999,-999))) -> -25.4 | E34: =Fremtind!F34+'DNB Livsforsikring'!F34+'Frende Livsforsikring'!F34+'Frende Skadeforsikring'!F34+'Gjensidige Forsikring'!F34+'Gjensidige Pensjon'!F34+'If Skadeforsikring NUF'!F34+KLP!F34+'KLP Skadeforsikring AS'!F34+'Landkreditt Forsikring AS'!F34+'Nordea Liv '!F34+'Oslo Pensjonsforsikring'!F34+'Protector Forsikring'!F34+'Sparebank 1 Fors.'!F34+'Storebrand Livsforsikring'!F34+'Telenor Forsikring'!F34+'Tryg Forsikring'!F34+'WaterCircles F'!F34+'Euro Accident'!F34+'Ly Forsikring'!F34+'Youplus Livsforsikring'!F34+'Oslo Forsikring'!F34+'Knif Trygghet Forsikring'!F34 -> -104367.89 | F34: =Fremtind!G34+'DNB Livsforsikring'!G34+'Frende Livsforsikring'!G34+'Frende Skadeforsikring'!G34+'Gjensidige Forsikring'!G34+'Gjensidige Pensjon'!G34+'If Skadeforsikring NUF'!G34+KLP!G34+'KLP Skadeforsikring AS'!G34+'Landkreditt Forsikring AS'!G34+'Nordea Liv '!G34+'Oslo Pensjonsforsikring'!G34+'Protector Forsikring'!G34+'Sparebank 1 Fors.'!G34+'Storebrand Livsforsikring'!G34+'Telenor Forsikring'!G34+'Tryg Forsikring'!G34+'WaterCircles F'!G34+'Euro Accident'!G34+'Ly Forsikring'!G34+'Youplus Livsforsikring'!G34+'Oslo Forsikring'!G34+'Knif Trygghet Forsikring'!G34 -> 78329.192 | G34: =IF(E34=0, " ---- ", IF(ABS(ROUND(100/E34*F34-100,1))<999,ROUND(100/E34*F34-100,1),IF(ROUND(100/E34*F34-100,1)>999,999,-999))) -> -175.1 | H34: =SUM(B34,E34) -> -98570.643 | I34: =SUM(C34,F34) -> 82655.968 | J34: =IF(H34=0, " ---- ", IF(ABS(ROUND(100/H34*I34-100,1))<999,ROUND(100/H34*I34-100,1),IF(ROUND(100/H34*I34-100,1)>999,999,-999))) -> -183.9
A35: Overførte reserver til andre 6 | B35: =Fremtind!B35+'DNB Livsforsikring'!B35+'Frende Livsforsikring'!B35+'Frende Skadeforsikring'!B35+'Gjensidige Forsikring'!B35+'Gjensidige Pensjon'!B35+'If Skadeforsikring NUF'!B35+KLP!B35+'KLP Skadeforsikring AS'!B35+'Landkreditt Forsikring AS'!B35+'Nordea Liv '!B35+'Oslo Pensjonsforsikring'!B35+'Protector Forsikring'!B35+'Sparebank 1 Fors.'!B35+'Storebrand Livsforsikring'!B35+'Telenor Forsikring'!B35+'Tryg Forsikring'!B35+'WaterCircles F'!B35+'Euro Accident'!B35+'Ly Forsikring'!B35+'Youplus Livsforsikring'!B35+'Oslo Forsikring'!B35+'Knif Trygghet Forsikring'!B35 -> -149053.82 | C35: =Fremtind!C35+'DNB Livsforsikring'!C35+'Frende Livsforsikring'!C35+'Frende Skadeforsikring'!C35+'Gjensidige Forsikring'!C35+'Gjensidige Pensjon'!C35+'If Skadeforsikring NUF'!C35+KLP!C35+'KLP Skadeforsikring AS'!C35+'Landkreditt Forsikring AS'!C35+'Nordea Liv '!C35+'Oslo Pensjonsforsikring'!C35+'Protector Forsikring'!C35+'Sparebank 1 Fors.'!C35+'Storebrand Livsforsikring'!C35+'Telenor Forsikring'!C35+'Tryg Forsikring'!C35+'WaterCircles F'!C35+'Euro Accident'!C35+'Ly Forsikring'!C35+'Youplus Livsforsikring'!C35+'Oslo Forsikring'!C35+'Knif Trygghet Forsikring'!C35 -> 7864.5628 | D35: =IF(B35=0, " ---- ", IF(ABS(ROUND(100/B35*C35-100,1))<999,ROUND(100/B35*C35-100,1),IF(ROUND(100/B35*C35-100,1)>999,999,-999))) -> -105.3 | E35: =Fremtind!F35+'DNB Livsforsikring'!F35+'Frende Livsforsikring'!F35+'Frende Skadeforsikring'!F35+'Gjensidige Forsikring'!F35+'Gjensidige Pensjon'!F35+'If Skadeforsikring NUF'!F35+KLP!F35+'KLP Skadeforsikring AS'!F35+'Landkreditt Forsikring AS'!F35+'Nordea Liv '!F35+'Oslo Pensjonsforsikring'!F35+'Protector Forsikring'!F35+'Sparebank 1 Fors.'!F35+'Storebrand Livsforsikring'!F35+'Telenor Forsikring'!F35+'Tryg Forsikring'!F35+'WaterCircles F'!F35+'Euro Accident'!F35+'Ly Forsikring'!F35+'Youplus Livsforsikring'!F35+'Oslo Forsikring'!F35+'Knif Trygghet Forsikring'!F35 -> 68852.986 | F35: =Fremtind!G35+'DNB Livsforsikring'!G35+'Frende Livsforsikring'!G35+'Frende Skadeforsikring'!G35+'Gjensidige Forsikring'!G35+'Gjensidige Pensjon'!G35+'If Skadeforsikring NUF'!G35+KLP!G35+'KLP Skadeforsikring AS'!G35+'Landkreditt Forsikring AS'!G35+'Nordea Liv '!G35+'Oslo Pensjonsforsikring'!G35+'Protector Forsikring'!G35+'Sparebank 1 Fors.'!G35+'Storebrand Livsforsikring'!G35+'Telenor Forsikring'!G35+'Tryg Forsikring'!G35+'WaterCircles F'!G35+'Euro Accident'!G35+'Ly Forsikring'!G35+'Youplus Livsforsikring'!G35+'Oslo Forsikring'!G35+'Knif Trygghet Forsikring'!G35 -> 109697.74 | G35: =IF(E35=0, " ---- ", IF(ABS(ROUND(100/E35*F35-100,1))<999,ROUND(100/E35*F35-100,1),IF(ROUND(100/E35*F35-100,1)>999,999,-999))) -> 59.3 | H35: =SUM(B35,E35) -> -80200.834 | I35: =SUM(C35,F35) -> 117562.31 | J35: =IF(H35=0, " ---- ", IF(ABS(ROUND(100/H35*I35-100,1))<999,ROUND(100/H35*I35-100,1),IF(ROUND(100/H35*I35-100,1)>999,999,-999))) -> -246.6
A36: Brutto forfalt premie - Foreningskollektiv 1 | B36: =Fremtind!B36+'DNB Livsforsikring'!B36+'Frende Livsforsikring'!B36+'Frende Skadeforsikring'!B36+'Gjensidige Forsikring'!B36+'Gjensidige Pensjon'!B36+'If Skadeforsikring NUF'!B36+KLP!B36+'KLP Skadeforsikring AS'!B36+'Landkreditt Forsikring AS'!B36+'Nordea Liv '!B36+'Oslo Pensjonsforsikring'!B36+'Protector Forsikring'!B36+'Sparebank 1 Fors.'!B36+'Storebrand Livsforsikring'!B36+'Telenor Forsikring'!B36+'Tryg Forsikring'!B36+'WaterCircles F'!B36+'Euro Accident'!B36+'Ly Forsikring'!B36+'Youplus Livsforsikring'!B36+'Oslo Forsikring'!B36+'Knif Trygghet Forsikring'!B36 -> 607 | C36: =Fremtind!C36+'DNB Livsforsikring'!C36+'Frende Livsforsikring'!C36+'Frende Skadeforsikring'!C36+'Gjensidige Forsikring'!C36+'Gjensidige Pensjon'!C36+'If Skadeforsikring NUF'!C36+KLP!C36+'KLP Skadeforsikring AS'!C36+'Landkreditt Forsikring AS'!C36+'Nordea Liv '!C36+'Oslo Pensjonsforsikring'!C36+'Protector Forsikring'!C36+'Sparebank 1 Fors.'!C36+'Storebrand Livsforsikring'!C36+'Telenor Forsikring'!C36+'Tryg Forsikring'!C36+'WaterCircles F'!C36+'Euro Accident'!C36+'Ly Forsikring'!C36+'Youplus Livsforsikring'!C36+'Oslo Forsikring'!C36+'Knif Trygghet Forsikring'!C36 -> 437.426 | D36: =IF(B36=0, " ---- ", IF(ABS(ROUND(100/B36*C36-100,1))<999,ROUND(100/B36*C36-100,1),IF(ROUND(100/B36*C36-100,1)>999,999,-999))) -> -27.9 | H36: =SUM(B36,E36) -> 607 | I36: =SUM(C36,F36) -> 437.426 | J36: =IF(H36=0, " ---- ", IF(ABS(ROUND(100/H36*I36-100,1))<999,ROUND(100/H36*I36-100,1),IF(ROUND(100/H36*I36-100,1)>999,999,-999))) -> -27.9
A37: Forsikringsforpliktelser - Foreningskollektiv 4 | B37: =Fremtind!B37+'DNB Livsforsikring'!B37+'Frende Livsforsikring'!B37+'Frende Skadeforsikring'!B37+'Gjensidige Forsikring'!B37+'Gjensidige Pensjon'!B37+'If Skadeforsikring NUF'!B37+KLP!B37+'KLP Skadeforsikring AS'!B37+'Landkreditt Forsikring AS'!B37+'Nordea Liv '!B37+'Oslo Pensjonsforsikring'!B37+'Protector Forsikring'!B37+'Sparebank 1 Fors.'!B37+'Storebrand Livsforsikring'!B37+'Telenor Forsikring'!B37+'Tryg Forsikring'!B37+'WaterCircles F'!B37+'Euro Accident'!B37+'Ly Forsikring'!B37+'Youplus Livsforsikring'!B37+'Oslo Forsikring'!B37+'Knif Trygghet Forsikring'!B37 -> 2445944.3 | C37: =Fremtind!C37+'DNB Livsforsikring'!C37+'Frende Livsforsikring'!C37+'Frende Skadeforsikring'!C37+'Gjensidige Forsikring'!C37+'Gjensidige Pensjon'!C37+'If Skadeforsikring NUF'!C37+KLP!C37+'KLP Skadeforsikring AS'!C37+'Landkreditt Forsikring AS'!C37+'Nordea Liv '!C37+'Oslo Pensjonsforsikring'!C37+'Protector Forsikring'!C37+'Sparebank 1 Fors.'!C37+'Storebrand Livsforsikring'!C37+'Telenor Forsikring'!C37+'Tryg Forsikring'!C37+'WaterCircles F'!C37+'Euro Accident'!C37+'Ly Forsikring'!C37+'Youplus Livsforsikring'!C37+'Oslo Forsikring'!C37+'Knif Trygghet Forsikring'!C37 -> 2282179.8 | D37: =IF(B37=0, " ---- ", IF(ABS(ROUND(100/B37*C37-100,1))<999,ROUND(100/B37*C37-100,1),IF(ROUND(100/B37*C37-100,1)>999,999,-999))) -> -6.7 | H37: =SUM(B37,E37) -> 2445944.3 | I37: =SUM(C37,F37) -> 2282179.8 | J37: =IF(H37=0, " ---- ", IF(ABS(ROUND(100/H37*I37-100,1))<999,ROUND(100/H37*I37-100,1),IF(ROUND(100/H37*I37-100,1)>999,999,-999))) -> -6.7
A38: Overførte reserver fra andre - Foreningskollektiv 5
A39: Overførte reserver til andre - Foreningskollektiv 6 | B39: =Fremtind!B39+'DNB Livsforsikring'!B39+'Frende Livsforsikring'!B39+'Frende Skadeforsikring'!B39+'Gjensidige Forsikring'!B39+'Gjensidige Pensjon'!B39+'If Skadeforsikring NUF'!B39+KLP!B39+'KLP Skadeforsikring AS'!B39+'Landkreditt Forsikring AS'!B39+'Nordea Liv '!B39+'Oslo Pensjonsforsikring'!B39+'Protector Forsikring'!B39+'Sparebank 1 Fors.'!B39+'Storebrand Livsforsikring'!B39+'Telenor Forsikring'!B39+'Tryg Forsikring'!B39+'WaterCircles F'!B39+'Euro Accident'!B39+'Ly Forsikring'!B39+'Youplus Livsforsikring'!B39+'Oslo Forsikring'!B39+'Knif Trygghet Forsikring'!B39 -> 1 | C39: =Fremtind!C39+'DNB Livsforsikring'!C39+'Frende Livsforsikring'!C39+'Frende Skadeforsikring'!C39+'Gjensidige Forsikring'!C39+'Gjensidige Pensjon'!C39+'If Skadeforsikring NUF'!C39+KLP!C39+'KLP Skadeforsikring AS'!C39+'Landkreditt Forsikring AS'!C39+'Nordea Liv '!C39+'Oslo Pensjonsforsikring'!C39+'Protector Forsikring'!C39+'Sparebank 1 Fors.'!C39+'Storebrand Livsforsikring'!C39+'Telenor Forsikring'!C39+'Tryg Forsikring'!C39+'WaterCircles F'!C39+'Euro Accident'!C39+'Ly Forsikring'!C39+'Youplus Livsforsikring'!C39+'Oslo Forsikring'!C39+'Knif Trygghet Forsikring'!C39 -> 0.473 | D39: =IF(B39=0, " ---- ", IF(ABS(ROUND(100/B39*C39-100,1))<999,ROUND(100/B39*C39-100,1),IF(ROUND(100/B39*C39-100,1)>999,999,-999))) -> -52.7 | H39: =SUM(B39,E39) -> 1 | I39: =SUM(C39,F39) -> 0.473 | J39: =IF(H39=0, " ---- ", IF(ABS(ROUND(100/H39*I39-100,1))<999,ROUND(100/H39*I39-100,1),IF(ROUND(100/H39*I39-100,1)>999,999,-999))) -> -52.7
A42: Tabell 3: Gruppelivsforsikring
B44: Produkter uten investeringsvalg
B45: 31.3.2025 | C45: 31.3.2026 | D45: Endring
D46: i %
A47: Brutto forfalt premie 1 | B47: =Fremtind!B47+'DNB Livsforsikring'!B47+'Frende Livsforsikring'!B47+'Frende Skadeforsikring'!B47+'Gjensidige Forsikring'!B47+'Gjensidige Pensjon'!B47+'If Skadeforsikring NUF'!B47+KLP!B47+'KLP Skadeforsikring AS'!B47+'Landkreditt Forsikring AS'!B47+'Nordea Liv '!B47+'Oslo Pensjonsforsikring'!B47+'Protector Forsikring'!B47+'Sparebank 1 Fors.'!B47+'Storebrand Livsforsikring'!B47+'Telenor Forsikring'!B47+'Tryg Forsikring'!B47+'WaterCircles F'!B47+'Euro Accident'!B47+'Ly Forsikring'!B47+'Youplus Livsforsikring'!B47+'Oslo Forsikring'!B47+'Knif Trygghet Forsikring'!B47 -> 4431215.9 | C47: =Fremtind!C47+'DNB Livsforsikring'!C47+'Frende Livsforsikring'!C47+'Frende Skadeforsikring'!C47+'Gjensidige Forsikring'!C47+'Gjensidige Pensjon'!C47+'If Skadeforsikring NUF'!C47+KLP!C47+'KLP Skadeforsikring AS'!C47+'Landkreditt Forsikring AS'!C47+'Nordea Liv '!C47+'Oslo Pensjonsforsikring'!C47+'Protector Forsikring'!C47+'Sparebank 1 Fors.'!C47+'Storebrand Livsforsikring'!C47+'Telenor Forsikring'!C47+'Tryg Forsikring'!C47+'WaterCircles F'!C47+'Euro Accident'!C47+'Ly Forsikring'!C47+'Youplus Livsforsikring'!C47+'Oslo Forsikring'!C47+'Knif Trygghet Forsikring'!C47 -> 5034421.2 | D47: =IF(B47=0, " ---- ", IF(ABS(ROUND(100/B47*C47-100,1))<999,ROUND(100/B47*C47-100,1),IF(ROUND(100/B47*C47-100,1)>999,999,-999))) -> 13.6
A48: Bedrift 7 | B48: =Fremtind!B48+'DNB Livsforsikring'!B48+'Frende Livsforsikring'!B48+'Frende Skadeforsikring'!B48+'Gjensidige Forsikring'!B48+'Gjensidige Pensjon'!B48+'If Skadeforsikring NUF'!B48+KLP!B48+'KLP Skadeforsikring AS'!B48+'Landkreditt Forsikring AS'!B48+'Nordea Liv '!B48+'Oslo Pensjonsforsikring'!B48+'Protector Forsikring'!B48+'Sparebank 1 Fors.'!B48+'Storebrand Livsforsikring'!B48+'Telenor Forsikring'!B48+'Tryg Forsikring'!B48+'WaterCircles F'!B48+'Euro Accident'!B48+'Ly Forsikring'!B48+'Youplus Livsforsikring'!B48+'Oslo Forsikring'!B48+'Knif Trygghet Forsikring'!B48 -> 2405619.7 | C48: =Fremtind!C48+'DNB Livsforsikring'!C48+'Frende Livsforsikring'!C48+'Frende Skadeforsikring'!C48+'Gjensidige Forsikring'!C48+'Gjensidige Pensjon'!C48+'If Skadeforsikring NUF'!C48+KLP!C48+'KLP Skadeforsikring AS'!C48+'Landkreditt Forsikring AS'!C48+'Nordea Liv '!C48+'Oslo Pensjonsforsikring'!C48+'Protector Forsikring'!C48+'Sparebank 1 Fors.'!C48+'Storebrand Livsforsikring'!C48+'Telenor Forsikring'!C48+'Tryg Forsikring'!C48+'WaterCircles F'!C48+'Euro Accident'!C48+'Ly Forsikring'!C48+'Youplus Livsforsikring'!C48+'Oslo Forsikring'!C48+'Knif Trygghet Forsikring'!C48 -> 2486233.6 | D48: =IF(B48=0, " ---- ", IF(ABS(ROUND(100/B48*C48-100,1))<999,ROUND(100/B48*C48-100,1),IF(ROUND(100/B48*C48-100,1)>999,999,-999))) -> 3.4
A49: Privat 8 | B49: =Fremtind!B49+'DNB Livsforsikring'!B49+'Frende Livsforsikring'!B49+'Frende Skadeforsikring'!B49+'Gjensidige Forsikring'!B49+'Gjensidige Pensjon'!B49+'If Skadeforsikring NUF'!B49+KLP!B49+'KLP Skadeforsikring AS'!B49+'Landkreditt Forsikring AS'!B49+'Nordea Liv '!B49+'Oslo Pensjonsforsikring'!B49+'Protector Forsikring'!B49+'Sparebank 1 Fors.'!B49+'Storebrand Livsforsikring'!B49+'Telenor Forsikring'!B49+'Tryg Forsikring'!B49+'WaterCircles F'!B49+'Euro Accident'!B49+'Ly Forsikring'!B49+'Youplus Livsforsikring'!B49+'Oslo Forsikring'!B49+'Knif Trygghet Forsikring'!B49 -> 2025596.2 | C49: =Fremtind!C49+'DNB Livsforsikring'!C49+'Frende Livsforsikring'!C49+'Frende Skadeforsikring'!C49+'Gjensidige Forsikring'!C49+'Gjensidige Pensjon'!C49+'If Skadeforsikring NUF'!C49+KLP!C49+'KLP Skadeforsikring AS'!C49+'Landkreditt Forsikring AS'!C49+'Nordea Liv '!C49+'Oslo Pensjonsforsikring'!C49+'Protector Forsikring'!C49+'Sparebank 1 Fors.'!C49+'Storebrand Livsforsikring'!C49+'Telenor Forsikring'!C49+'Tryg Forsikring'!C49+'WaterCircles F'!C49+'Euro Accident'!C49+'Ly Forsikring'!C49+'Youplus Livsforsikring'!C49+'Oslo Forsikring'!C49+'Knif Trygghet Forsikring'!C49 -> 2548187.7 | D49: =IF(B49=0, " ---- ", IF(ABS(ROUND(100/B49*C49-100,1))<999,ROUND(100/B49*C49-100,1),IF(ROUND(100/B49*C49-100,1)>999,999,-999))) -> 25.8
A50: Gjeldsgruppeliv
A51: Foreningsgruppeliv
A52: Andre grupper
A53: Flytting fra andre 9 | B53: =Fremtind!B53+'DNB Livsforsikring'!B53+'Frende Livsforsikring'!B53+'Frende Skadeforsikring'!B53+'Gjensidige Forsikring'!B53+'Gjensidige Pensjon'!B53+'If Skadeforsikring NUF'!B53+KLP!B53+'KLP Skadeforsikring AS'!B53+'Landkreditt Forsikring AS'!B53+'Nordea Liv '!B53+'Oslo Pensjonsforsikring'!B53+'Protector Forsikring'!B53+'Sparebank 1 Fors.'!B53+'Storebrand Livsforsikring'!B53+'Telenor Forsikring'!B53+'Tryg Forsikring'!B53+'WaterCircles F'!B53+'Euro Accident'!B53+'Ly Forsikring'!B53+'Youplus Livsforsikring'!B53+'Oslo Forsikring'!B53+'Knif Trygghet Forsikring'!B53 -> 182062.96 | C53: =Fremtind!C53+'DNB Livsforsikring'!C53+'Frende Livsforsikring'!C53+'Frende Skadeforsikring'!C53+'Gjensidige Forsikring'!C53+'Gjensidige Pensjon'!C53+'If Skadeforsikring NUF'!C53+KLP!C53+'KLP Skadeforsikring AS'!C53+'Landkreditt Forsikring AS'!C53+'Nordea Liv '!C53+'Oslo Pensjonsforsikring'!C53+'Protector Forsikring'!C53+'Sparebank 1 Fors.'!C53+'Storebrand Livsforsikring'!C53+'Telenor Forsikring'!C53+'Tryg Forsikring'!C53+'WaterCircles F'!C53+'Euro Accident'!C53+'Ly Forsikring'!C53+'Youplus Livsforsikring'!C53+'Oslo Forsikring'!C53+'Knif Trygghet Forsikring'!C53 -> 118391.6 | D53: =IF(B53=0, " ---- ", IF(ABS(ROUND(100/B53*C53-100,1))<999,ROUND(100/B53*C53-100,1),IF(ROUND(100/B53*C53-100,1)>999,999,-999))) -> -35
A54: Bedrift 7 | B54: =Fremtind!B54+'DNB Livsforsikring'!B54+'Frende Livsforsikring'!B54+'Frende Skadeforsikring'!B54+'Gjensidige Forsikring'!B54+'Gjensidige Pensjon'!B54+'If Skadeforsikring NUF'!B54+KLP!B54+'KLP Skadeforsikring AS'!B54+'Landkreditt Forsikring AS'!B54+'Nordea Liv '!B54+'Oslo Pensjonsforsikring'!B54+'Protector Forsikring'!B54+'Sparebank 1 Fors.'!B54+'Storebrand Livsforsikring'!B54+'Telenor Forsikring'!B54+'Tryg Forsikring'!B54+'WaterCircles F'!B54+'Euro Accident'!B54+'Ly Forsikring'!B54+'Youplus Livsforsikring'!B54+'Oslo Forsikring'!B54+'Knif Trygghet Forsikring'!B54 -> 175907.9 | C54: =Fremtind!C54+'DNB Livsforsikring'!C54+'Frende Livsforsikring'!C54+'Frende Skadeforsikring'!C54+'Gjensidige Forsikring'!C54+'Gjensidige Pensjon'!C54+'If Skadeforsikring NUF'!C54+KLP!C54+'KLP Skadeforsikring AS'!C54+'Landkreditt Forsikring AS'!C54+'Nordea Liv '!C54+'Oslo Pensjonsforsikring'!C54+'Protector Forsikring'!C54+'Sparebank 1 Fors.'!C54+'Storebrand Livsforsikring'!C54+'Telenor Forsikring'!C54+'Tryg Forsikring'!C54+'WaterCircles F'!C54+'Euro Accident'!C54+'Ly Forsikring'!C54+'Youplus Livsforsikring'!C54+'Oslo Forsikring'!C54+'Knif Trygghet Forsikring'!C54 -> 118150.83 | D54: =IF(B54=0, " ---- ", IF(ABS(ROUND(100/B54*C54-100,1))<999,ROUND(100/B54*C54-100,1),IF(ROUND(100/B54*C54-100,1)>999,999,-999))) -> -32.8
A55: Privat 8 | B55: =Fremtind!B55+'DNB Livsforsikring'!B55+'Frende Livsforsikring'!B55+'Frende Skadeforsikring'!B55+'Gjensidige Forsikring'!B55+'Gjensidige Pensjon'!B55+'If Skadeforsikring NUF'!B55+KLP!B55+'KLP Skadeforsikring AS'!B55+'Landkreditt Forsikring AS'!B55+'Nordea Liv '!B55+'Oslo Pensjonsforsikring'!B55+'Protector Forsikring'!B55+'Sparebank 1 Fors.'!B55+'Storebrand Livsforsikring'!B55+'Telenor Forsikring'!B55+'Tryg Forsikring'!B55+'WaterCircles F'!B55+'Euro Accident'!B55+'Ly Forsikring'!B55+'Youplus Livsforsikring'!B55+'Oslo Forsikring'!B55+'Knif Trygghet Forsikring'!B55 -> 6155.065 | C55: =Fremtind!C55+'DNB Livsforsikring'!C55+'Frende Livsforsikring'!C55+'Frende Skadeforsikring'!C55+'Gjensidige Forsikring'!C55+'Gjensidige Pensjon'!C55+'If Skadeforsikring NUF'!C55+KLP!C55+'KLP Skadeforsikring AS'!C55+'Landkreditt Forsikring AS'!C55+'Nordea Liv '!C55+'Oslo Pensjonsforsikring'!C55+'Protector Forsikring'!C55+'Sparebank 1 Fors.'!C55+'Storebrand Livsforsikring'!C55+'Telenor Forsikring'!C55+'Tryg Forsikring'!C55+'WaterCircles F'!C55+'Euro Accident'!C55+'Ly Forsikring'!C55+'Youplus Livsforsikring'!C55+'Oslo Forsikring'!C55+'Knif Trygghet Forsikring'!C55 -> 240.775 | D55: =IF(B55=0, " ---- ", IF(ABS(ROUND(100/B55*C55-100,1))<999,ROUND(100/B55*C55-100,1),IF(ROUND(100/B55*C55-100,1)>999,999,-999))) -> -96.1
A56: Flytting til andre 9 | B56: =Fremtind!B56+'DNB Livsforsikring'!B56+'Frende Livsforsikring'!B56+'Frende Skadeforsikring'!B56+'Gjensidige Forsikring'!B56+'Gjensidige Pensjon'!B56+'If Skadeforsikring NUF'!B56+KLP!B56+'KLP Skadeforsikring AS'!B56+'Landkreditt Forsikring AS'!B56+'Nordea Liv '!B56+'Oslo Pensjonsforsikring'!B56+'Protector Forsikring'!B56+'Sparebank 1 Fors.'!B56+'Storebrand Livsforsikring'!B56+'Telenor Forsikring'!B56+'Tryg Forsikring'!B56+'WaterCircles F'!B56+'Euro Accident'!B56+'Ly Forsikring'!B56+'Youplus Livsforsikring'!B56+'Oslo Forsikring'!B56+'Knif Trygghet Forsikring'!B56 -> 103338.19 | C56: =Fremtind!C56+'DNB Livsforsikring'!C56+'Frende Livsforsikring'!C56+'Frende Skadeforsikring'!C56+'Gjensidige Forsikring'!C56+'Gjensidige Pensjon'!C56+'If Skadeforsikring NUF'!C56+KLP!C56+'KLP Skadeforsikring AS'!C56+'Landkreditt Forsikring AS'!C56+'Nordea Liv '!C56+'Oslo Pensjonsforsikring'!C56+'Protector Forsikring'!C56+'Sparebank 1 Fors.'!C56+'Storebrand Livsforsikring'!C56+'Telenor Forsikring'!C56+'Tryg Forsikring'!C56+'WaterCircles F'!C56+'Euro Accident'!C56+'Ly Forsikring'!C56+'Youplus Livsforsikring'!C56+'Oslo Forsikring'!C56+'Knif Trygghet Forsikring'!C56 -> 110194.01 | D56: =IF(B56=0, " ---- ", IF(ABS(ROUND(100/B56*C56-100,1))<999,ROUND(100/B56*C56-100,1),IF(ROUND(100/B56*C56-100,1)>999,999,-999))) -> 6.6
A57: Bedrift 7 | B57: =Fremtind!B57+'DNB Livsforsikring'!B57+'Frende Livsforsikring'!B57+'Frende Skadeforsikring'!B57+'Gjensidige Forsikring'!B57+'Gjensidige Pensjon'!B57+'If Skadeforsikring NUF'!B57+KLP!B57+'KLP Skadeforsikring AS'!B57+'Landkreditt Forsikring AS'!B57+'Nordea Liv '!B57+'Oslo Pensjonsforsikring'!B57+'Protector Forsikring'!B57+'Sparebank 1 Fors.'!B57+'Storebrand Livsforsikring'!B57+'Telenor Forsikring'!B57+'Tryg Forsikring'!B57+'WaterCircles F'!B57+'Euro Accident'!B57+'Ly Forsikring'!B57+'Youplus Livsforsikring'!B57+'Oslo Forsikring'!B57+'Knif Trygghet Forsikring'!B57 -> 45411.186 | C57: =Fremtind!C57+'DNB Livsforsikring'!C57+'Frende Livsforsikring'!C57+'Frende Skadeforsikring'!C57+'Gjensidige Forsikring'!C57+'Gjensidige Pensjon'!C57+'If Skadeforsikring NUF'!C57+KLP!C57+'KLP Skadeforsikring AS'!C57+'Landkreditt Forsikring AS'!C57+'Nordea Liv '!C57+'Oslo Pensjonsforsikring'!C57+'Protector Forsikring'!C57+'Sparebank 1 Fors.'!C57+'Storebrand Livsforsikring'!C57+'Telenor Forsikring'!C57+'Tryg Forsikring'!C57+'WaterCircles F'!C57+'Euro Accident'!C57+'Ly Forsikring'!C57+'Youplus Livsforsikring'!C57+'Oslo Forsikring'!C57+'Knif Trygghet Forsikring'!C57 -> 101608.01 | D57: =IF(B57=0, " ---- ", IF(ABS(ROUND(100/B57*C57-100,1))<999,ROUND(100/B57*C57-100,1),IF(ROUND(100/B57*C57-100,1)>999,999,-999))) -> 123.8
A58: Privat 8 | B58: =Fremtind!B58+'DNB Livsforsikring'!B58+'Frende Livsforsikring'!B58+'Frende Skadeforsikring'!B58+'Gjensidige Forsikring'!B58+'Gjensidige Pensjon'!B58+'If Skadeforsikring NUF'!B58+KLP!B58+'KLP Skadeforsikring AS'!B58+'Landkreditt Forsikring AS'!B58+'Nordea Liv '!B58+'Oslo Pensjonsforsikring'!B58+'Protector Forsikring'!B58+'Sparebank 1 Fors.'!B58+'Storebrand Livsforsikring'!B58+'Telenor Forsikring'!B58+'Tryg Forsikring'!B58+'WaterCircles F'!B58+'Euro Accident'!B58+'Ly Forsikring'!B58+'Youplus Livsforsikring'!B58+'Oslo Forsikring'!B58+'Knif Trygghet Forsikring'!B58 -> 57927 | C58: =Fremtind!C58+'DNB Livsforsikring'!C58+'Frende Livsforsikring'!C58+'Frende Skadeforsikring'!C58+'Gjensidige Forsikring'!C58+'Gjensidige Pensjon'!C58+'If Skadeforsikring NUF'!C58+KLP!C58+'KLP Skadeforsikring AS'!C58+'Landkreditt Forsikring AS'!C58+'Nordea Liv '!C58+'Oslo Pensjonsforsikring'!C58+'Protector Forsikring'!C58+'Sparebank 1 Fors.'!C58+'Storebrand Livsforsikring'!C58+'Telenor Forsikring'!C58+'Tryg Forsikring'!C58+'WaterCircles F'!C58+'Euro Accident'!C58+'Ly Forsikring'!C58+'Youplus Livsforsikring'!C58+'Oslo Forsikring'!C58+'Knif Trygghet Forsikring'!C58 -> 8586 | D58: =IF(B58=0, " ---- ", IF(ABS(ROUND(100/B58*C58-100,1))<999,ROUND(100/B58*C58-100,1),IF(ROUND(100/B58*C58-100,1)>999,999,-999))) -> -85.2
A61: Tabell 4: Privat kollektiv pensjonsforsikring, herunder fripoliser, pensjonskapitalbevis og pensjonsbevis
B63: Produkter uten investeringsvalg | E63: Produkter med investeringsvalg | H63: Totalt
B64: 31.3.2025 | C64: 31.3.2026 | D64: Endring | E64: 31.3.2025 | F64: 31.3.2026 | G64: Endring | H64: 31.3.2025 | I64: 31.3.2026 | J64: Endring
D65: i % | G65: i % | J65: i %
A66: Brutto forfalt premie 1 | B66: =Fremtind!B66+'DNB Livsforsikring'!B66+'Frende Livsforsikring'!B66+'Frende Skadeforsikring'!B66+'Gjensidige Forsikring'!B66+'Gjensidige Pensjon'!B66+'If Skadeforsikring NUF'!B66+KLP!B66+'KLP Skadeforsikring AS'!B66+'Landkreditt Forsikring AS'!B66+'Nordea Liv '!B66+'Oslo Pensjonsforsikring'!B66+'Protector Forsikring'!B66+'Sparebank 1 Fors.'!B66+'Storebrand Livsforsikring'!B66+'Telenor Forsikring'!B66+'Tryg Forsikring'!B66+'WaterCircles F'!B66+'Euro Accident'!B66+'Ly Forsikring'!B66+'Youplus Livsforsikring'!B66+'Oslo Forsikring'!B66+'Knif Trygghet Forsikring'!B66 -> 2945251.8 | C66: =Fremtind!C66+'DNB Livsforsikring'!C66+'Frende Livsforsikring'!C66+'Frende Skadeforsikring'!C66+'Gjensidige Forsikring'!C66+'Gjensidige Pensjon'!C66+'If Skadeforsikring NUF'!C66+KLP!C66+'KLP Skadeforsikring AS'!C66+'Landkreditt Forsikring AS'!C66+'Nordea Liv '!C66+'Oslo Pensjonsforsikring'!C66+'Protector Forsikring'!C66+'Sparebank 1 Fors.'!C66+'Storebrand Livsforsikring'!C66+'Telenor Forsikring'!C66+'Tryg Forsikring'!C66+'WaterCircles F'!C66+'Euro Accident'!C66+'Ly Forsikring'!C66+'Youplus Livsforsikring'!C66+'Oslo Forsikring'!C66+'Knif Trygghet Forsikring'!C66 -> 3039821.6 | D66: =IF(B66=0, " ---- ", IF(ABS(ROUND(100/B66*C66-100,1))<999,ROUND(100/B66*C66-100,1),IF(ROUND(100/B66*C66-100,1)>999,999,-999))) -> 3.2 | E66: =Fremtind!F66+'DNB Livsforsikring'!F66+'Frende Livsforsikring'!F66+'Frende Skadeforsikring'!F66+'Gjensidige Forsikring'!F66+'Gjensidige Pensjon'!F66+'If Skadeforsikring NUF'!F66+KLP!F66+'KLP Skadeforsikring AS'!F66+'Landkreditt Forsikring AS'!F66+'Nordea Liv '!F66+'Oslo Pensjonsforsikring'!F66+'Protector Forsikring'!F66+'Sparebank 1 Fors.'!F66+'Storebrand Livsforsikring'!F66+'Telenor Forsikring'!F66+'Tryg Forsikring'!F66+'WaterCircles F'!F66+'Euro Accident'!F66+'Ly Forsikring'!F66+'Youplus Livsforsikring'!F66+'Oslo Forsikring'!F66+'Knif Trygghet Forsikring'!F66 -> 14574700 | F66: =Fremtind!G66+'DNB Livsforsikring'!G66+'Frende Livsforsikring'!G66+'Frende Skadeforsikring'!G66+'Gjensidige Forsikring'!G66+'Gjensidige Pensjon'!G66+'If Skadeforsikring NUF'!G66+KLP!G66+'KLP Skadeforsikring AS'!G66+'Landkreditt Forsikring AS'!G66+'Nordea Liv '!G66+'Oslo Pensjonsforsikring'!G66+'Protector Forsikring'!G66+'Sparebank 1 Fors.'!G66+'Storebrand Livsforsikring'!G66+'Telenor Forsikring'!G66+'Tryg Forsikring'!G66+'WaterCircles F'!G66+'Euro Accident'!G66+'Ly Forsikring'!G66+'Youplus Livsforsikring'!G66+'Oslo Forsikring'!G66+'Knif Trygghet Forsikring'!G66 -> 15220600 | G66: =IF(E66=0, " ---- ", IF(ABS(ROUND(100/E66*F66-100,1))<999,ROUND(100/E66*F66-100,1),IF(ROUND(100/E66*F66-100,1)>999,999,-999))) -> 4.4 | H66: =SUM(B66,E66) -> 17519952 | I66: =SUM(C66,F66) -> 18260421 | J66: =IF(H66=0, " ---- ", IF(ABS(ROUND(100/H66*I66-100,1))<999,ROUND(100/H66*I66-100,1),IF(ROUND(100/H66*I66-100,1)>999,999,-999))) -> 4.2
A67: Ytelsesbasert | B67: =Fremtind!B67+'DNB Livsforsikring'!B67+'Frende Livsforsikring'!B67+'Frende Skadeforsikring'!B67+'Gjensidige Forsikring'!B67+'Gjensidige Pensjon'!B67+'If Skadeforsikring NUF'!B67+KLP!B67+'KLP Skadeforsikring AS'!B67+'Landkreditt Forsikring AS'!B67+'Nordea Liv '!B67+'Oslo Pensjonsforsikring'!B67+'Protector Forsikring'!B67+'Sparebank 1 Fors.'!B67+'Storebrand Livsforsikring'!B67+'Telenor Forsikring'!B67+'Tryg Forsikring'!B67+'WaterCircles F'!B67+'Euro Accident'!B67+'Ly Forsikring'!B67+'Youplus Livsforsikring'!B67+'Oslo Forsikring'!B67+'Knif Trygghet Forsikring'!B67 -> 1830606.8 | C67: =Fremtind!C67+'DNB Livsforsikring'!C67+'Frende Livsforsikring'!C67+'Frende Skadeforsikring'!C67+'Gjensidige Forsikring'!C67+'Gjensidige Pensjon'!C67+'If Skadeforsikring NUF'!C67+KLP!C67+'KLP Skadeforsikring AS'!C67+'Landkreditt Forsikring AS'!C67+'Nordea Liv '!C67+'Oslo Pensjonsforsikring'!C67+'Protector Forsikring'!C67+'Sparebank 1 Fors.'!C67+'Storebrand Livsforsikring'!C67+'Telenor Forsikring'!C67+'Tryg Forsikring'!C67+'WaterCircles F'!C67+'Euro Accident'!C67+'Ly Forsikring'!C67+'Youplus Livsforsikring'!C67+'Oslo Forsikring'!C67+'Knif Trygghet Forsikring'!C67 -> 1706246.1 | D67: =IF(B67=0, " ---- ", IF(ABS(ROUND(100/B67*C67-100,1))<999,ROUND(100/B67*C67-100,1),IF(ROUND(100/B67*C67-100,1)>999,999,-999))) -> -6.8 | H67: =SUM(B67,E67) -> 1830606.8 | I67: =SUM(C67,F67) -> 1706246.1 | J67: =IF(H67=0, " ---- ", IF(ABS(ROUND(100/H67*I67-100,1))<999,ROUND(100/H67*I67-100,1),IF(ROUND(100/H67*I67-100,1)>999,999,-999))) -> -6.8
A68: Innskuddsbasert | B68: =Fremtind!B68+'DNB Livsforsikring'!B68+'Frende Livsforsikring'!B68+'Frende Skadeforsikring'!B68+'Gjensidige Forsikring'!B68+'Gjensidige Pensjon'!B68+'If Skadeforsikring NUF'!B68+KLP!B68+'KLP Skadeforsikring AS'!B68+'Landkreditt Forsikring AS'!B68+'Nordea Liv '!B68+'Oslo Pensjonsforsikring'!B68+'Protector Forsikring'!B68+'Sparebank 1 Fors.'!B68+'Storebrand Livsforsikring'!B68+'Telenor Forsikring'!B68+'Tryg Forsikring'!B68+'WaterCircles F'!B68+'Euro Accident'!B68+'Ly Forsikring'!B68+'Youplus Livsforsikring'!B68+'Oslo Forsikring'!B68+'Knif Trygghet Forsikring'!B68 -> 8248.0025 | C68: =Fremtind!C68+'DNB Livsforsikring'!C68+'Frende Livsforsikring'!C68+'Frende Skadeforsikring'!C68+'Gjensidige Forsikring'!C68+'Gjensidige Pensjon'!C68+'If Skadeforsikring NUF'!C68+KLP!C68+'KLP Skadeforsikring AS'!C68+'Landkreditt Forsikring AS'!C68+'Nordea Liv '!C68+'Oslo Pensjonsforsikring'!C68+'Protector Forsikring'!C68+'Sparebank 1 Fors.'!C68+'Storebrand Livsforsikring'!C68+'Telenor Forsikring'!C68+'Tryg Forsikring'!C68+'WaterCircles F'!C68+'Euro Accident'!C68+'Ly Forsikring'!C68+'Youplus Livsforsikring'!C68+'Oslo Forsikring'!C68+'Knif Trygghet Forsikring'!C68 -> 4535.4735 | D68: =IF(B68=0, " ---- ", IF(ABS(ROUND(100/B68*C68-100,1))<999,ROUND(100/B68*C68-100,1),IF(ROUND(100/B68*C68-100,1)>999,999,-999))) -> -45 | E68: =Fremtind!F68+'DNB Livsforsikring'!F68+'Frende Livsforsikring'!F68+'Frende Skadeforsikring'!F68+'Gjensidige Forsikring'!F68+'Gjensidige Pensjon'!F68+'If Skadeforsikring NUF'!F68+KLP!F68+'KLP Skadeforsikring AS'!F68+'Landkreditt Forsikring AS'!F68+'Nordea Liv '!F68+'Oslo Pensjonsforsikring'!F68+'Protector Forsikring'!F68+'Sparebank 1 Fors.'!F68+'Storebrand Livsforsikring'!F68+'Telenor Forsikring'!F68+'Tryg Forsikring'!F68+'WaterCircles F'!F68+'Euro Accident'!F68+'Ly Forsikring'!F68+'Youplus Livsforsikring'!F68+'Oslo Forsikring'!F68+'Knif Trygghet Forsikring'!F68 -> 14040757 | F68: =Fremtind!G68+'DNB Livsforsikring'!G68+'Frende Livsforsikring'!G68+'Frende Skadeforsikring'!G68+'Gjensidige Forsikring'!G68+'Gjensidige Pensjon'!G68+'If Skadeforsikring NUF'!G68+KLP!G68+'KLP Skadeforsikring AS'!G68+'Landkreditt Forsikring AS'!G68+'Nordea Liv '!G68+'Oslo Pensjonsforsikring'!G68+'Protector Forsikring'!G68+'Sparebank 1 Fors.'!G68+'Storebrand Livsforsikring'!G68+'Telenor Forsikring'!G68+'Tryg Forsikring'!G68+'WaterCircles F'!G68+'Euro Accident'!G68+'Ly Forsikring'!G68+'Youplus Livsforsikring'!G68+'Oslo Forsikring'!G68+'Knif Trygghet Forsikring'!G68 -> 14665715 | G68: =IF(E68=0, " ---- ", IF(ABS(ROUND(100/E68*F68-100,1))<999,ROUND(100/E68*F68-100,1),IF(ROUND(100/E68*F68-100,1)>999,999,-999))) -> 4.5 | H68: =SUM(B68,E68) -> 14049005 | I68: =SUM(C68,F68) -> 14670251 | J68: =IF(H68=0, " ---- ", IF(ABS(ROUND(100/H68*I68-100,1))<999,ROUND(100/H68*I68-100,1),IF(ROUND(100/H68*I68-100,1)>999,999,-999))) -> 4.4
A69: Engangsbetalt 11
A70: Inv.valg foretak
A71: Inv.valg kontohaver
A72: Innskuddspensjon 12
A73: Inv.valg foretak
A74: Inv.valg kontohaver
A75: Etter tjenestepensjonsloven - Alderspensjon | B75: =Fremtind!B75+'DNB Livsforsikring'!B75+'Frende Livsforsikring'!B75+'Frende Skadeforsikring'!B75+'Gjensidige Forsikring'!B75+'Gjensidige Pensjon'!B75+'If Skadeforsikring NUF'!B75+KLP!B75+'KLP Skadeforsikring AS'!B75+'Landkreditt Forsikring AS'!B75+'Nordea Liv '!B75+'Oslo Pensjonsforsikring'!B75+'Protector Forsikring'!B75+'Sparebank 1 Fors.'!B75+'Storebrand Livsforsikring'!B75+'Telenor Forsikring'!B75+'Tryg Forsikring'!B75+'WaterCircles F'!B75+'Euro Accident'!B75+'Ly Forsikring'!B75+'Youplus Livsforsikring'!B75+'Oslo Forsikring'!B75+'Knif Trygghet Forsikring'!B75 -> 200046.06 | C75: =Fremtind!C75+'DNB Livsforsikring'!C75+'Frende Livsforsikring'!C75+'Frende Skadeforsikring'!C75+'Gjensidige Forsikring'!C75+'Gjensidige Pensjon'!C75+'If Skadeforsikring NUF'!C75+KLP!C75+'KLP Skadeforsikring AS'!C75+'Landkreditt Forsikring AS'!C75+'Nordea Liv '!C75+'Oslo Pensjonsforsikring'!C75+'Protector Forsikring'!C75+'Sparebank 1 Fors.'!C75+'Storebrand Livsforsikring'!C75+'Telenor Forsikring'!C75+'Tryg Forsikring'!C75+'WaterCircles F'!C75+'Euro Accident'!C75+'Ly Forsikring'!C75+'Youplus Livsforsikring'!C75+'Oslo Forsikring'!C75+'Knif Trygghet Forsikring'!C75 -> 202288.74 | D75: =IF(B75=0, " ---- ", IF(ABS(ROUND(100/B75*C75-100,1))<999,ROUND(100/B75*C75-100,1),IF(ROUND(100/B75*C75-100,1)>999,999,-999))) -> 1.1 | E75: =Fremtind!F75+'DNB Livsforsikring'!F75+'Frende Livsforsikring'!F75+'Frende Skadeforsikring'!F75+'Gjensidige Forsikring'!F75+'Gjensidige Pensjon'!F75+'If Skadeforsikring NUF'!F75+KLP!F75+'KLP Skadeforsikring AS'!F75+'Landkreditt Forsikring AS'!F75+'Nordea Liv '!F75+'Oslo Pensjonsforsikring'!F75+'Protector Forsikring'!F75+'Sparebank 1 Fors.'!F75+'Storebrand Livsforsikring'!F75+'Telenor Forsikring'!F75+'Tryg Forsikring'!F75+'WaterCircles F'!F75+'Euro Accident'!F75+'Ly Forsikring'!F75+'Youplus Livsforsikring'!F75+'Oslo Forsikring'!F75+'Knif Trygghet Forsikring'!F75 -> 533942.62 | F75: =Fremtind!G75+'DNB Livsforsikring'!G75+'Frende Livsforsikring'!G75+'Frende Skadeforsikring'!G75+'Gjensidige Forsikring'!G75+'Gjensidige Pensjon'!G75+'If Skadeforsikring NUF'!G75+KLP!G75+'KLP Skadeforsikring AS'!G75+'Landkreditt Forsikring AS'!G75+'Nordea Liv '!G75+'Oslo Pensjonsforsikring'!G75+'Protector Forsikring'!G75+'Sparebank 1 Fors.'!G75+'Storebrand Livsforsikring'!G75+'Telenor Forsikring'!G75+'Tryg Forsikring'!G75+'WaterCircles F'!G75+'Euro Accident'!G75+'Ly Forsikring'!G75+'Youplus Livsforsikring'!G75+'Oslo Forsikring'!G75+'Knif Trygghet Forsikring'!G75 -> 554884.32 | G75: =IF(E75=0, " ---- ", IF(ABS(ROUND(100/E75*F75-100,1))<999,ROUND(100/E75*F75-100,1),IF(ROUND(100/E75*F75-100,1)>999,999,-999))) -> 3.9 | H75: =SUM(B75,E75) -> 733988.68 | I75: =SUM(C75,F75) -> 757173.06 | J75: =IF(H75=0, " ---- ", IF(ABS(ROUND(100/H75*I75-100,1))<999,ROUND(100/H75*I75-100,1),IF(ROUND(100/H75*I75-100,1)>999,999,-999))) -> 3.2
A76: Etter tjenestepensjonsloven - Uførepensjon (inkl. Innskuddsfritak)20) | B76: =Fremtind!B76+'DNB Livsforsikring'!B76+'Frende Livsforsikring'!B76+'Frende Skadeforsikring'!B76+'Gjensidige Forsikring'!B76+'Gjensidige Pensjon'!B76+'If Skadeforsikring NUF'!B76+KLP!B76+'KLP Skadeforsikring AS'!B76+'Landkreditt Forsikring AS'!B76+'Nordea Liv '!B76+'Oslo Pensjonsforsikring'!B76+'Protector Forsikring'!B76+'Sparebank 1 Fors.'!B76+'Storebrand Livsforsikring'!B76+'Telenor Forsikring'!B76+'Tryg Forsikring'!B76+'WaterCircles F'!B76+'Euro Accident'!B76+'Ly Forsikring'!B76+'Youplus Livsforsikring'!B76+'Oslo Forsikring'!B76+'Knif Trygghet Forsikring'!B76 -> 906350.96 | C76: =Fremtind!C76+'DNB Livsforsikring'!C76+'Frende Livsforsikring'!C76+'Frende Skadeforsikring'!C76+'Gjensidige Forsikring'!C76+'Gjensidige Pensjon'!C76+'If Skadeforsikring NUF'!C76+KLP!C76+'KLP Skadeforsikring AS'!C76+'Landkreditt Forsikring AS'!C76+'Nordea Liv '!C76+'Oslo Pensjonsforsikring'!C76+'Protector Forsikring'!C76+'Sparebank 1 Fors.'!C76+'Storebrand Livsforsikring'!C76+'Telenor Forsikring'!C76+'Tryg Forsikring'!C76+'WaterCircles F'!C76+'Euro Accident'!C76+'Ly Forsikring'!C76+'Youplus Livsforsikring'!C76+'Oslo Forsikring'!C76+'Knif Trygghet Forsikring'!C76 -> 1126751.3 | D76: =IF(B76=0, " ---- ", IF(ABS(ROUND(100/B76*C76-100,1))<999,ROUND(100/B76*C76-100,1),IF(ROUND(100/B76*C76-100,1)>999,999,-999))) -> 24.3 | H76: =SUM(B76,E76) -> 906350.96 | I76: =SUM(C76,F76) -> 1126751.3 | J76: =IF(H76=0, " ---- ", IF(ABS(ROUND(100/H76*I76-100,1))<999,ROUND(100/H76*I76-100,1),IF(ROUND(100/H76*I76-100,1)>999,999,-999))) -> 24.3
A77: Innenfor LOF/LOI 13 | B77: =Fremtind!B77+'DNB Livsforsikring'!B77+'Frende Livsforsikring'!B77+'Frende Skadeforsikring'!B77+'Gjensidige Forsikring'!B77+'Gjensidige Pensjon'!B77+'If Skadeforsikring NUF'!B77+KLP!B77+'KLP Skadeforsikring AS'!B77+'Landkreditt Forsikring AS'!B77+'Nordea Liv '!B77+'Oslo Pensjonsforsikring'!B77+'Protector Forsikring'!B77+'Sparebank 1 Fors.'!B77+'Storebrand Livsforsikring'!B77+'Telenor Forsikring'!B77+'Tryg Forsikring'!B77+'WaterCircles F'!B77+'Euro Accident'!B77+'Ly Forsikring'!B77+'Youplus Livsforsikring'!B77+'Oslo Forsikring'!B77+'Knif Trygghet Forsikring'!B77 -> 1764702.2 | C77: =Fremtind!C77+'DNB Livsforsikring'!C77+'Frende Livsforsikring'!C77+'Frende Skadeforsikring'!C77+'Gjensidige Forsikring'!C77+'Gjensidige Pensjon'!C77+'If Skadeforsikring NUF'!C77+KLP!C77+'KLP Skadeforsikring AS'!C77+'Landkreditt Forsikring AS'!C77+'Nordea Liv '!C77+'Oslo Pensjonsforsikring'!C77+'Protector Forsikring'!C77+'Sparebank 1 Fors.'!C77+'Storebrand Livsforsikring'!C77+'Telenor Forsikring'!C77+'Tryg Forsikring'!C77+'WaterCircles F'!C77+'Euro Accident'!C77+'Ly Forsikring'!C77+'Youplus Livsforsikring'!C77+'Oslo Forsikring'!C77+'Knif Trygghet Forsikring'!C77 -> 1635663.9 | D77: =IF(B77=0, " ---- ", IF(ABS(ROUND(100/B77*C77-100,1))<999,ROUND(100/B77*C77-100,1),IF(ROUND(100/B77*C77-100,1)>999,999,-999))) -> -7.3 | E77: =Fremtind!F77+'DNB Livsforsikring'!F77+'Frende Livsforsikring'!F77+'Frende Skadeforsikring'!F77+'Gjensidige Forsikring'!F77+'Gjensidige Pensjon'!F77+'If Skadeforsikring NUF'!F77+KLP!F77+'KLP Skadeforsikring AS'!F77+'Landkreditt Forsikring AS'!F77+'Nordea Liv '!F77+'Oslo Pensjonsforsikring'!F77+'Protector Forsikring'!F77+'Sparebank 1 Fors.'!F77+'Storebrand Livsforsikring'!F77+'Telenor Forsikring'!F77+'Tryg Forsikring'!F77+'WaterCircles F'!F77+'Euro Accident'!F77+'Ly Forsikring'!F77+'Youplus Livsforsikring'!F77+'Oslo Forsikring'!F77+'Knif Trygghet Forsikring'!F77 -> 14037163 | F77: =Fremtind!G77+'DNB Livsforsikring'!G77+'Frende Livsforsikring'!G77+'Frende Skadeforsikring'!G77+'Gjensidige Forsikring'!G77+'Gjensidige Pensjon'!G77+'If Skadeforsikring NUF'!G77+KLP!G77+'KLP Skadeforsikring AS'!G77+'Landkreditt Forsikring AS'!G77+'Nordea Liv '!G77+'Oslo Pensjonsforsikring'!G77+'Protector Forsikring'!G77+'Sparebank 1 Fors.'!G77+'Storebrand Livsforsikring'!G77+'Telenor Forsikring'!G77+'Tryg Forsikring'!G77+'WaterCircles F'!G77+'Euro Accident'!G77+'Ly Forsikring'!G77+'Youplus Livsforsikring'!G77+'Oslo Forsikring'!G77+'Knif Trygghet Forsikring'!G77 -> 14661195 | G77: =IF(E77=0, " ---- ", IF(ABS(ROUND(100/E77*F77-100,1))<999,ROUND(100/E77*F77-100,1),IF(ROUND(100/E77*F77-100,1)>999,999,-999))) -> 4.4 | H77: =SUM(B77,E77) -> 15801865 | I77: =SUM(C77,F77) -> 16296858 | J77: =IF(H77=0, " ---- ", IF(ABS(ROUND(100/H77*I77-100,1))<999,ROUND(100/H77*I77-100,1),IF(ROUND(100/H77*I77-100,1)>999,999,-999))) -> 3.1
A78: Ytelsesbasert | B78: =Fremtind!B78+'DNB Livsforsikring'!B78+'Frende Livsforsikring'!B78+'Frende Skadeforsikring'!B78+'Gjensidige Forsikring'!B78+'Gjensidige Pensjon'!B78+'If Skadeforsikring NUF'!B78+KLP!B78+'KLP Skadeforsikring AS'!B78+'Landkreditt Forsikring AS'!B78+'Nordea Liv '!B78+'Oslo Pensjonsforsikring'!B78+'Protector Forsikring'!B78+'Sparebank 1 Fors.'!B78+'Storebrand Livsforsikring'!B78+'Telenor Forsikring'!B78+'Tryg Forsikring'!B78+'WaterCircles F'!B78+'Euro Accident'!B78+'Ly Forsikring'!B78+'Youplus Livsforsikring'!B78+'Oslo Forsikring'!B78+'Knif Trygghet Forsikring'!B78 -> 1756454.2 | C78: =Fremtind!C78+'DNB Livsforsikring'!C78+'Frende Livsforsikring'!C78+'Frende Skadeforsikring'!C78+'Gjensidige Forsikring'!C78+'Gjensidige Pensjon'!C78+'If Skadeforsikring NUF'!C78+KLP!C78+'KLP Skadeforsikring AS'!C78+'Landkreditt Forsikring AS'!C78+'Nordea Liv '!C78+'Oslo Pensjonsforsikring'!C78+'Protector Forsikring'!C78+'Sparebank 1 Fors.'!C78+'Storebrand Livsforsikring'!C78+'Telenor Forsikring'!C78+'Tryg Forsikring'!C78+'WaterCircles F'!C78+'Euro Accident'!C78+'Ly Forsikring'!C78+'Youplus Livsforsikring'!C78+'Oslo Forsikring'!C78+'Knif Trygghet Forsikring'!C78 -> 1631128.4 | D78: =IF(B78=0, " ---- ", IF(ABS(ROUND(100/B78*C78-100,1))<999,ROUND(100/B78*C78-100,1),IF(ROUND(100/B78*C78-100,1)>999,999,-999))) -> -7.1 | H78: =SUM(B78,E78) -> 1756454.2 | I78: =SUM(C78,F78) -> 1631128.4 | J78: =IF(H78=0, " ---- ", IF(ABS(ROUND(100/H78*I78-100,1))<999,ROUND(100/H78*I78-100,1),IF(ROUND(100/H78*I78-100,1)>999,999,-999))) -> -7.1
A79: Innskuddsbasert (inkl. EPK) | B79: =Fremtind!B79+'DNB Livsforsikring'!B79+'Frende Livsforsikring'!B79+'Frende Skadeforsikring'!B79+'Gjensidige Forsikring'!B79+'Gjensidige Pensjon'!B79+'If Skadeforsikring NUF'!B79+KLP!B79+'KLP Skadeforsikring AS'!B79+'Landkreditt Forsikring AS'!B79+'Nordea Liv '!B79+'Oslo Pensjonsforsikring'!B79+'Protector Forsikring'!B79+'Sparebank 1 Fors.'!B79+'Storebrand Livsforsikring'!B79+'Telenor Forsikring'!B79+'Tryg Forsikring'!B79+'WaterCircles F'!B79+'Euro Accident'!B79+'Ly Forsikring'!B79+'Youplus Livsforsikring'!B79+'Oslo Forsikring'!B79+'Knif Trygghet Forsikring'!B79 -> 8248.0025 | C79: =Fremtind!C79+'DNB Livsforsikring'!C79+'Frende Livsforsikring'!C79+'Frende Skadeforsikring'!C79+'Gjensidige Forsikring'!C79+'Gjensidige Pensjon'!C79+'If Skadeforsikring NUF'!C79+KLP!C79+'KLP Skadeforsikring AS'!C79+'Landkreditt Forsikring AS'!C79+'Nordea Liv '!C79+'Oslo Pensjonsforsikring'!C79+'Protector Forsikring'!C79+'Sparebank 1 Fors.'!C79+'Storebrand Livsforsikring'!C79+'Telenor Forsikring'!C79+'Tryg Forsikring'!C79+'WaterCircles F'!C79+'Euro Accident'!C79+'Ly Forsikring'!C79+'Youplus Livsforsikring'!C79+'Oslo Forsikring'!C79+'Knif Trygghet Forsikring'!C79 -> 4535.4735 | D79: =IF(B79=0, " ---- ", IF(ABS(ROUND(100/B79*C79-100,1))<999,ROUND(100/B79*C79-100,1),IF(ROUND(100/B79*C79-100,1)>999,999,-999))) -> -45 | E79: =Fremtind!F79+'DNB Livsforsikring'!F79+'Frende Livsforsikring'!F79+'Frende Skadeforsikring'!F79+'Gjensidige Forsikring'!F79+'Gjensidige Pensjon'!F79+'If Skadeforsikring NUF'!F79+KLP!F79+'KLP Skadeforsikring AS'!F79+'Landkreditt Forsikring AS'!F79+'Nordea Liv '!F79+'Oslo Pensjonsforsikring'!F79+'Protector Forsikring'!F79+'Sparebank 1 Fors.'!F79+'Storebrand Livsforsikring'!F79+'Telenor Forsikring'!F79+'Tryg Forsikring'!F79+'WaterCircles F'!F79+'Euro Accident'!F79+'Ly Forsikring'!F79+'Youplus Livsforsikring'!F79+'Oslo Forsikring'!F79+'Knif Trygghet Forsikring'!F79 -> 14037163 | F79: =Fremtind!G79+'DNB Livsforsikring'!G79+'Frende Livsforsikring'!G79+'Frende Skadeforsikring'!G79+'Gjensidige Forsikring'!G79+'Gjensidige Pensjon'!G79+'If Skadeforsikring NUF'!G79+KLP!G79+'KLP Skadeforsikring AS'!G79+'Landkreditt Forsikring AS'!G79+'Nordea Liv '!G79+'Oslo Pensjonsforsikring'!G79+'Protector Forsikring'!G79+'Sparebank 1 Fors.'!G79+'Storebrand Livsforsikring'!G79+'Telenor Forsikring'!G79+'Tryg Forsikring'!G79+'WaterCircles F'!G79+'Euro Accident'!G79+'Ly Forsikring'!G79+'Youplus Livsforsikring'!G79+'Oslo Forsikring'!G79+'Knif Trygghet Forsikring'!G79 -> 14661195 | G79: =IF(E79=0, " ---- ", IF(ABS(ROUND(100/E79*F79-100,1))<999,ROUND(100/E79*F79-100,1),IF(ROUND(100/E79*F79-100,1)>999,999,-999))) -> 4.4 | H79: =SUM(B79,E79) -> 14045411 | I79: =SUM(C79,F79) -> 14665730 | J79: =IF(H79=0, " ---- ", IF(ABS(ROUND(100/H79*I79-100,1))<999,ROUND(100/H79*I79-100,1),IF(ROUND(100/H79*I79-100,1)>999,999,-999))) -> 4.4
A80: Engangsbetalt 11
A81: Inv.valg foretak
A82: Inv.valg kontohaver
A83: Innskuddspensjon 12
A84: Inv.valg foretak
A85: Inv.valg kontohaver
A86: Utenfor LOF/LOI - Livrenter 13,17 | B86: =Fremtind!B86+'DNB Livsforsikring'!B86+'Frende Livsforsikring'!B86+'Frende Skadeforsikring'!B86+'Gjensidige Forsikring'!B86+'Gjensidige Pensjon'!B86+'If Skadeforsikring NUF'!B86+KLP!B86+'KLP Skadeforsikring AS'!B86+'Landkreditt Forsikring AS'!B86+'Nordea Liv '!B86+'Oslo Pensjonsforsikring'!B86+'Protector Forsikring'!B86+'Sparebank 1 Fors.'!B86+'Storebrand Livsforsikring'!B86+'Telenor Forsikring'!B86+'Tryg Forsikring'!B86+'WaterCircles F'!B86+'Euro Accident'!B86+'Ly Forsikring'!B86+'Youplus Livsforsikring'!B86+'Oslo Forsikring'!B86+'Knif Trygghet Forsikring'!B86 -> 74152.604 | C86: =Fremtind!C86+'DNB Livsforsikring'!C86+'Frende Livsforsikring'!C86+'Frende Skadeforsikring'!C86+'Gjensidige Forsikring'!C86+'Gjensidige Pensjon'!C86+'If Skadeforsikring NUF'!C86+KLP!C86+'KLP Skadeforsikring AS'!C86+'Landkreditt Forsikring AS'!C86+'Nordea Liv '!C86+'Oslo Pensjonsforsikring'!C86+'Protector Forsikring'!C86+'Sparebank 1 Fors.'!C86+'Storebrand Livsforsikring'!C86+'Telenor Forsikring'!C86+'Tryg Forsikring'!C86+'WaterCircles F'!C86+'Euro Accident'!C86+'Ly Forsikring'!C86+'Youplus Livsforsikring'!C86+'Oslo Forsikring'!C86+'Knif Trygghet Forsikring'!C86 -> 75117.174 | D86: =IF(B86=0, " ---- ", IF(ABS(ROUND(100/B86*C86-100,1))<999,ROUND(100/B86*C86-100,1),IF(ROUND(100/B86*C86-100,1)>999,999,-999))) -> 1.3 | E86: =Fremtind!F86+'DNB Livsforsikring'!F86+'Frende Livsforsikring'!F86+'Frende Skadeforsikring'!F86+'Gjensidige Forsikring'!F86+'Gjensidige Pensjon'!F86+'If Skadeforsikring NUF'!F86+KLP!F86+'KLP Skadeforsikring AS'!F86+'Landkreditt Forsikring AS'!F86+'Nordea Liv '!F86+'Oslo Pensjonsforsikring'!F86+'Protector Forsikring'!F86+'Sparebank 1 Fors.'!F86+'Storebrand Livsforsikring'!F86+'Telenor Forsikring'!F86+'Tryg Forsikring'!F86+'WaterCircles F'!F86+'Euro Accident'!F86+'Ly Forsikring'!F86+'Youplus Livsforsikring'!F86+'Oslo Forsikring'!F86+'Knif Trygghet Forsikring'!F86 -> 3594.73 | F86: =Fremtind!G86+'DNB Livsforsikring'!G86+'Frende Livsforsikring'!G86+'Frende Skadeforsikring'!G86+'Gjensidige Forsikring'!G86+'Gjensidige Pensjon'!G86+'If Skadeforsikring NUF'!G86+KLP!G86+'KLP Skadeforsikring AS'!G86+'Landkreditt Forsikring AS'!G86+'Nordea Liv '!G86+'Oslo Pensjonsforsikring'!G86+'Protector Forsikring'!G86+'Sparebank 1 Fors.'!G86+'Storebrand Livsforsikring'!G86+'Telenor Forsikring'!G86+'Tryg Forsikring'!G86+'WaterCircles F'!G86+'Euro Accident'!G86+'Ly Forsikring'!G86+'Youplus Livsforsikring'!G86+'Oslo Forsikring'!G86+'Knif Trygghet Forsikring'!G86 -> 4520.644 | G86: =IF(E86=0, " ---- ", IF(ABS(ROUND(100/E86*F86-100,1))<999,ROUND(100/E86*F86-100,1),IF(ROUND(100/E86*F86-100,1)>999,999,-999))) -> 25.8 | H86: =SUM(B86,E86) -> 77747.334 | I86: =SUM(C86,F86) -> 79637.818 | J86: =IF(H86=0, " ---- ", IF(ABS(ROUND(100/H86*I86-100,1))<999,ROUND(100/H86*I86-100,1),IF(ROUND(100/H86*I86-100,1)>999,999,-999))) -> 2.4
A87: Forsikringsforpliktelser 4 | B87: =Fremtind!B87+'DNB Livsforsikring'!B87+'Frende Livsforsikring'!B87+'Frende Skadeforsikring'!B87+'Gjensidige Forsikring'!B87+'Gjensidige Pensjon'!B87+'If Skadeforsikring NUF'!B87+KLP!B87+'KLP Skadeforsikring AS'!B87+'Landkreditt Forsikring AS'!B87+'Nordea Liv '!B87+'Oslo Pensjonsforsikring'!B87+'Protector Forsikring'!B87+'Sparebank 1 Fors.'!B87+'Storebrand Livsforsikring'!B87+'Telenor Forsikring'!B87+'Tryg Forsikring'!B87+'WaterCircles F'!B87+'Euro Accident'!B87+'Ly Forsikring'!B87+'Youplus Livsforsikring'!B87+'Oslo Forsikring'!B87+'Knif Trygghet Forsikring'!B87 -> 4.0658731e+08 | C87: =Fremtind!C87+'DNB Livsforsikring'!C87+'Frende Livsforsikring'!C87+'Frende Skadeforsikring'!C87+'Gjensidige Forsikring'!C87+'Gjensidige Pensjon'!C87+'If Skadeforsikring NUF'!C87+KLP!C87+'KLP Skadeforsikring AS'!C87+'Landkreditt Forsikring AS'!C87+'Nordea Liv '!C87+'Oslo Pensjonsforsikring'!C87+'Protector Forsikring'!C87+'Sparebank 1 Fors.'!C87+'Storebrand Livsforsikring'!C87+'Telenor Forsikring'!C87+'Tryg Forsikring'!C87+'WaterCircles F'!C87+'Euro Accident'!C87+'Ly Forsikring'!C87+'Youplus Livsforsikring'!C87+'Oslo Forsikring'!C87+'Knif Trygghet Forsikring'!C87 -> 4.1459995e+08 | D87: =IF(B87=0, " ---- ", IF(ABS(ROUND(100/B87*C87-100,1))<999,ROUND(100/B87*C87-100,1),IF(ROUND(100/B87*C87-100,1)>999,999,-999))) -> 2 | E87: =Fremtind!F87+'DNB Livsforsikring'!F87+'Frende Livsforsikring'!F87+'Frende Skadeforsikring'!F87+'Gjensidige Forsikring'!F87+'Gjensidige Pensjon'!F87+'If Skadeforsikring NUF'!F87+KLP!F87+'KLP Skadeforsikring AS'!F87+'Landkreditt Forsikring AS'!F87+'Nordea Liv '!F87+'Oslo Pensjonsforsikring'!F87+'Protector Forsikring'!F87+'Sparebank 1 Fors.'!F87+'Storebrand Livsforsikring'!F87+'Telenor Forsikring'!F87+'Tryg Forsikring'!F87+'WaterCircles F'!F87+'Euro Accident'!F87+'Ly Forsikring'!F87+'Youplus Livsforsikring'!F87+'Oslo Forsikring'!F87+'Knif Trygghet Forsikring'!F87 -> 6.6534057e+08 | F87: =Fremtind!G87+'DNB Livsforsikring'!G87+'Frende Livsforsikring'!G87+'Frende Skadeforsikring'!G87+'Gjensidige Forsikring'!G87+'Gjensidige Pensjon'!G87+'If Skadeforsikring NUF'!G87+KLP!G87+'KLP Skadeforsikring AS'!G87+'Landkreditt Forsikring AS'!G87+'Nordea Liv '!G87+'Oslo Pensjonsforsikring'!G87+'Protector Forsikring'!G87+'Sparebank 1 Fors.'!G87+'Storebrand Livsforsikring'!G87+'Telenor Forsikring'!G87+'Tryg Forsikring'!G87+'WaterCircles F'!G87+'Euro Accident'!G87+'Ly Forsikring'!G87+'Youplus Livsforsikring'!G87+'Oslo Forsikring'!G87+'Knif Trygghet Forsikring'!G87 -> 7.9475537e+08 | G87: =IF(E87=0, " ---- ", IF(ABS(ROUND(100/E87*F87-100,1))<999,ROUND(100/E87*F87-100,1),IF(ROUND(100/E87*F87-100,1)>999,999,-999))) -> 19.5 | H87: =SUM(B87,E87) -> 1.0719279e+09 | I87: =SUM(C87,F87) -> 1.2093553e+09 | J87: =IF(H87=0, " ---- ", IF(ABS(ROUND(100/H87*I87-100,1))<999,ROUND(100/H87*I87-100,1),IF(ROUND(100/H87*I87-100,1)>999,999,-999))) -> 12.8
A88: Ytelsesbasert | B88: =Fremtind!B88+'DNB Livsforsikring'!B88+'Frende Livsforsikring'!B88+'Frende Skadeforsikring'!B88+'Gjensidige Forsikring'!B88+'Gjensidige Pensjon'!B88+'If Skadeforsikring NUF'!B88+KLP!B88+'KLP Skadeforsikring AS'!B88+'Landkreditt Forsikring AS'!B88+'Nordea Liv '!B88+'Oslo Pensjonsforsikring'!B88+'Protector Forsikring'!B88+'Sparebank 1 Fors.'!B88+'Storebrand Livsforsikring'!B88+'Telenor Forsikring'!B88+'Tryg Forsikring'!B88+'WaterCircles F'!B88+'Euro Accident'!B88+'Ly Forsikring'!B88+'Youplus Livsforsikring'!B88+'Oslo Forsikring'!B88+'Knif Trygghet Forsikring'!B88 -> 3.8424724e+08 | C88: =Fremtind!C88+'DNB Livsforsikring'!C88+'Frende Livsforsikring'!C88+'Frende Skadeforsikring'!C88+'Gjensidige Forsikring'!C88+'Gjensidige Pensjon'!C88+'If Skadeforsikring NUF'!C88+KLP!C88+'KLP Skadeforsikring AS'!C88+'Landkreditt Forsikring AS'!C88+'Nordea Liv '!C88+'Oslo Pensjonsforsikring'!C88+'Protector Forsikring'!C88+'Sparebank 1 Fors.'!C88+'Storebrand Livsforsikring'!C88+'Telenor Forsikring'!C88+'Tryg Forsikring'!C88+'WaterCircles F'!C88+'Euro Accident'!C88+'Ly Forsikring'!C88+'Youplus Livsforsikring'!C88+'Oslo Forsikring'!C88+'Knif Trygghet Forsikring'!C88 -> 3.8673917e+08 | D88: =IF(B88=0, " ---- ", IF(ABS(ROUND(100/B88*C88-100,1))<999,ROUND(100/B88*C88-100,1),IF(ROUND(100/B88*C88-100,1)>999,999,-999))) -> 0.6 | H88: =SUM(B88,E88) -> 3.8424724e+08 | I88: =SUM(C88,F88) -> 3.8673917e+08 | J88: =IF(H88=0, " ---- ", IF(ABS(ROUND(100/H88*I88-100,1))<999,ROUND(100/H88*I88-100,1),IF(ROUND(100/H88*I88-100,1)>999,999,-999))) -> 0.6
A89: Innskuddsbasert | B89: =Fremtind!B89+'DNB Livsforsikring'!B89+'Frende Livsforsikring'!B89+'Frende Skadeforsikring'!B89+'Gjensidige Forsikring'!B89+'Gjensidige Pensjon'!B89+'If Skadeforsikring NUF'!B89+KLP!B89+'KLP Skadeforsikring AS'!B89+'Landkreditt Forsikring AS'!B89+'Nordea Liv '!B89+'Oslo Pensjonsforsikring'!B89+'Protector Forsikring'!B89+'Sparebank 1 Fors.'!B89+'Storebrand Livsforsikring'!B89+'Telenor Forsikring'!B89+'Tryg Forsikring'!B89+'WaterCircles F'!B89+'Euro Accident'!B89+'Ly Forsikring'!B89+'Youplus Livsforsikring'!B89+'Oslo Forsikring'!B89+'Knif Trygghet Forsikring'!B89 -> 2369244.5 | C89: =Fremtind!C89+'DNB Livsforsikring'!C89+'Frende Livsforsikring'!C89+'Frende Skadeforsikring'!C89+'Gjensidige Forsikring'!C89+'Gjensidige Pensjon'!C89+'If Skadeforsikring NUF'!C89+KLP!C89+'KLP Skadeforsikring AS'!C89+'Landkreditt Forsikring AS'!C89+'Nordea Liv '!C89+'Oslo Pensjonsforsikring'!C89+'Protector Forsikring'!C89+'Sparebank 1 Fors.'!C89+'Storebrand Livsforsikring'!C89+'Telenor Forsikring'!C89+'Tryg Forsikring'!C89+'WaterCircles F'!C89+'Euro Accident'!C89+'Ly Forsikring'!C89+'Youplus Livsforsikring'!C89+'Oslo Forsikring'!C89+'Knif Trygghet Forsikring'!C89 -> 4235867.1 | D89: =IF(B89=0, " ---- ", IF(ABS(ROUND(100/B89*C89-100,1))<999,ROUND(100/B89*C89-100,1),IF(ROUND(100/B89*C89-100,1)>999,999,-999))) -> 78.8 | E89: =Fremtind!F89+'DNB Livsforsikring'!F89+'Frende Livsforsikring'!F89+'Frende Skadeforsikring'!F89+'Gjensidige Forsikring'!F89+'Gjensidige Pensjon'!F89+'If Skadeforsikring NUF'!F89+KLP!F89+'KLP Skadeforsikring AS'!F89+'Landkreditt Forsikring AS'!F89+'Nordea Liv '!F89+'Oslo Pensjonsforsikring'!F89+'Protector Forsikring'!F89+'Sparebank 1 Fors.'!F89+'Storebrand Livsforsikring'!F89+'Telenor Forsikring'!F89+'Tryg Forsikring'!F89+'WaterCircles F'!F89+'Euro Accident'!F89+'Ly Forsikring'!F89+'Youplus Livsforsikring'!F89+'Oslo Forsikring'!F89+'Knif Trygghet Forsikring'!F89 -> 6.5510817e+08 | F89: =Fremtind!G89+'DNB Livsforsikring'!G89+'Frende Livsforsikring'!G89+'Frende Skadeforsikring'!G89+'Gjensidige Forsikring'!G89+'Gjensidige Pensjon'!G89+'If Skadeforsikring NUF'!G89+KLP!G89+'KLP Skadeforsikring AS'!G89+'Landkreditt Forsikring AS'!G89+'Nordea Liv '!G89+'Oslo Pensjonsforsikring'!G89+'Protector Forsikring'!G89+'Sparebank 1 Fors.'!G89+'Storebrand Livsforsikring'!G89+'Telenor Forsikring'!G89+'Tryg Forsikring'!G89+'WaterCircles F'!G89+'Euro Accident'!G89+'Ly Forsikring'!G89+'Youplus Livsforsikring'!G89+'Oslo Forsikring'!G89+'Knif Trygghet Forsikring'!G89 -> 7.8190027e+08 | G89: =IF(E89=0, " ---- ", IF(ABS(ROUND(100/E89*F89-100,1))<999,ROUND(100/E89*F89-100,1),IF(ROUND(100/E89*F89-100,1)>999,999,-999))) -> 19.4 | H89: =SUM(B89,E89) -> 6.5747741e+08 | I89: =SUM(C89,F89) -> 7.8613614e+08 | J89: =IF(H89=0, " ---- ", IF(ABS(ROUND(100/H89*I89-100,1))<999,ROUND(100/H89*I89-100,1),IF(ROUND(100/H89*I89-100,1)>999,999,-999))) -> 19.6
A90: Engangsbetalt 11
A91: Inv.valg foretak
A92: Inv.valg kontohaver
A93: Innskuddspensjon 12
A94: Inv.valg foretak
A95: Inv.valg kontohaver
A96: Etter tjenestepensjonsloven - Alderspensjon | B96: =Fremtind!B96+'DNB Livsforsikring'!B96+'Frende Livsforsikring'!B96+'Frende Skadeforsikring'!B96+'Gjensidige Forsikring'!B96+'Gjensidige Pensjon'!B96+'If Skadeforsikring NUF'!B96+KLP!B96+'KLP Skadeforsikring AS'!B96+'Landkreditt Forsikring AS'!B96+'Nordea Liv '!B96+'Oslo Pensjonsforsikring'!B96+'Protector Forsikring'!B96+'Sparebank 1 Fors.'!B96+'Storebrand Livsforsikring'!B96+'Telenor Forsikring'!B96+'Tryg Forsikring'!B96+'WaterCircles F'!B96+'Euro Accident'!B96+'Ly Forsikring'!B96+'Youplus Livsforsikring'!B96+'Oslo Forsikring'!B96+'Knif Trygghet Forsikring'!B96 -> 7409666.7 | C96: =Fremtind!C96+'DNB Livsforsikring'!C96+'Frende Livsforsikring'!C96+'Frende Skadeforsikring'!C96+'Gjensidige Forsikring'!C96+'Gjensidige Pensjon'!C96+'If Skadeforsikring NUF'!C96+KLP!C96+'KLP Skadeforsikring AS'!C96+'Landkreditt Forsikring AS'!C96+'Nordea Liv '!C96+'Oslo Pensjonsforsikring'!C96+'Protector Forsikring'!C96+'Sparebank 1 Fors.'!C96+'Storebrand Livsforsikring'!C96+'Telenor Forsikring'!C96+'Tryg Forsikring'!C96+'WaterCircles F'!C96+'Euro Accident'!C96+'Ly Forsikring'!C96+'Youplus Livsforsikring'!C96+'Oslo Forsikring'!C96+'Knif Trygghet Forsikring'!C96 -> 9572857.2 | D96: =IF(B96=0, " ---- ", IF(ABS(ROUND(100/B96*C96-100,1))<999,ROUND(100/B96*C96-100,1),IF(ROUND(100/B96*C96-100,1)>999,999,-999))) -> 29.2 | E96: =Fremtind!F96+'DNB Livsforsikring'!F96+'Frende Livsforsikring'!F96+'Frende Skadeforsikring'!F96+'Gjensidige Forsikring'!F96+'Gjensidige Pensjon'!F96+'If Skadeforsikring NUF'!F96+KLP!F96+'KLP Skadeforsikring AS'!F96+'Landkreditt Forsikring AS'!F96+'Nordea Liv '!F96+'Oslo Pensjonsforsikring'!F96+'Protector Forsikring'!F96+'Sparebank 1 Fors.'!F96+'Storebrand Livsforsikring'!F96+'Telenor Forsikring'!F96+'Tryg Forsikring'!F96+'WaterCircles F'!F96+'Euro Accident'!F96+'Ly Forsikring'!F96+'Youplus Livsforsikring'!F96+'Oslo Forsikring'!F96+'Knif Trygghet Forsikring'!F96 -> 10232397 | F96: =Fremtind!G96+'DNB Livsforsikring'!G96+'Frende Livsforsikring'!G96+'Frende Skadeforsikring'!G96+'Gjensidige Forsikring'!G96+'Gjensidige Pensjon'!G96+'If Skadeforsikring NUF'!G96+KLP!G96+'KLP Skadeforsikring AS'!G96+'Landkreditt Forsikring AS'!G96+'Nordea Liv '!G96+'Oslo Pensjonsforsikring'!G96+'Protector Forsikring'!G96+'Sparebank 1 Fors.'!G96+'Storebrand Livsforsikring'!G96+'Telenor Forsikring'!G96+'Tryg Forsikring'!G96+'WaterCircles F'!G96+'Euro Accident'!G96+'Ly Forsikring'!G96+'Youplus Livsforsikring'!G96+'Oslo Forsikring'!G96+'Knif Trygghet Forsikring'!G96 -> 12855095 | G96: =IF(E96=0, " ---- ", IF(ABS(ROUND(100/E96*F96-100,1))<999,ROUND(100/E96*F96-100,1),IF(ROUND(100/E96*F96-100,1)>999,999,-999))) -> 25.6 | H96: =SUM(B96,E96) -> 17642064 | I96: =SUM(C96,F96) -> 22427953 | J96: =IF(H96=0, " ---- ", IF(ABS(ROUND(100/H96*I96-100,1))<999,ROUND(100/H96*I96-100,1),IF(ROUND(100/H96*I96-100,1)>999,999,-999))) -> 27.1
A97: Etter tjenestepensjonsloven - Uførepensjon | B97: =Fremtind!B97+'DNB Livsforsikring'!B97+'Frende Livsforsikring'!B97+'Frende Skadeforsikring'!B97+'Gjensidige Forsikring'!B97+'Gjensidige Pensjon'!B97+'If Skadeforsikring NUF'!B97+KLP!B97+'KLP Skadeforsikring AS'!B97+'Landkreditt Forsikring AS'!B97+'Nordea Liv '!B97+'Oslo Pensjonsforsikring'!B97+'Protector Forsikring'!B97+'Sparebank 1 Fors.'!B97+'Storebrand Livsforsikring'!B97+'Telenor Forsikring'!B97+'Tryg Forsikring'!B97+'WaterCircles F'!B97+'Euro Accident'!B97+'Ly Forsikring'!B97+'Youplus Livsforsikring'!B97+'Oslo Forsikring'!B97+'Knif Trygghet Forsikring'!B97 -> 12561159 | C97: =Fremtind!C97+'DNB Livsforsikring'!C97+'Frende Livsforsikring'!C97+'Frende Skadeforsikring'!C97+'Gjensidige Forsikring'!C97+'Gjensidige Pensjon'!C97+'If Skadeforsikring NUF'!C97+KLP!C97+'KLP Skadeforsikring AS'!C97+'Landkreditt Forsikring AS'!C97+'Nordea Liv '!C97+'Oslo Pensjonsforsikring'!C97+'Protector Forsikring'!C97+'Sparebank 1 Fors.'!C97+'Storebrand Livsforsikring'!C97+'Telenor Forsikring'!C97+'Tryg Forsikring'!C97+'WaterCircles F'!C97+'Euro Accident'!C97+'Ly Forsikring'!C97+'Youplus Livsforsikring'!C97+'Oslo Forsikring'!C97+'Knif Trygghet Forsikring'!C97 -> 14052057 | D97: =IF(B97=0, " ---- ", IF(ABS(ROUND(100/B97*C97-100,1))<999,ROUND(100/B97*C97-100,1),IF(ROUND(100/B97*C97-100,1)>999,999,-999))) -> 11.9 | H97: =SUM(B97,E97) -> 12561159 | I97: =SUM(C97,F97) -> 14052057 | J97: =IF(H97=0, " ---- ", IF(ABS(ROUND(100/H97*I97-100,1))<999,ROUND(100/H97*I97-100,1),IF(ROUND(100/H97*I97-100,1)>999,999,-999))) -> 11.9
A98: Innenfor LOF/LOI 13 | B98: =Fremtind!B98+'DNB Livsforsikring'!B98+'Frende Livsforsikring'!B98+'Frende Skadeforsikring'!B98+'Gjensidige Forsikring'!B98+'Gjensidige Pensjon'!B98+'If Skadeforsikring NUF'!B98+KLP!B98+'KLP Skadeforsikring AS'!B98+'Landkreditt Forsikring AS'!B98+'Nordea Liv '!B98+'Oslo Pensjonsforsikring'!B98+'Protector Forsikring'!B98+'Sparebank 1 Fors.'!B98+'Storebrand Livsforsikring'!B98+'Telenor Forsikring'!B98+'Tryg Forsikring'!B98+'WaterCircles F'!B98+'Euro Accident'!B98+'Ly Forsikring'!B98+'Youplus Livsforsikring'!B98+'Oslo Forsikring'!B98+'Knif Trygghet Forsikring'!B98 -> 3.8245192e+08 | C98: =Fremtind!C98+'DNB Livsforsikring'!C98+'Frende Livsforsikring'!C98+'Frende Skadeforsikring'!C98+'Gjensidige Forsikring'!C98+'Gjensidige Pensjon'!C98+'If Skadeforsikring NUF'!C98+KLP!C98+'KLP Skadeforsikring AS'!C98+'Landkreditt Forsikring AS'!C98+'Nordea Liv '!C98+'Oslo Pensjonsforsikring'!C98+'Protector Forsikring'!C98+'Sparebank 1 Fors.'!C98+'Storebrand Livsforsikring'!C98+'Telenor Forsikring'!C98+'Tryg Forsikring'!C98+'WaterCircles F'!C98+'Euro Accident'!C98+'Ly Forsikring'!C98+'Youplus Livsforsikring'!C98+'Oslo Forsikring'!C98+'Knif Trygghet Forsikring'!C98 -> 3.8664545e+08 | D98: =IF(B98=0, " ---- ", IF(ABS(ROUND(100/B98*C98-100,1))<999,ROUND(100/B98*C98-100,1),IF(ROUND(100/B98*C98-100,1)>999,999,-999))) -> 1.1 | E98: =Fremtind!F98+'DNB Livsforsikring'!F98+'Frende Livsforsikring'!F98+'Frende Skadeforsikring'!F98+'Gjensidige Forsikring'!F98+'Gjensidige Pensjon'!F98+'If Skadeforsikring NUF'!F98+KLP!F98+'KLP Skadeforsikring AS'!F98+'Landkreditt Forsikring AS'!F98+'Nordea Liv '!F98+'Oslo Pensjonsforsikring'!F98+'Protector Forsikring'!F98+'Sparebank 1 Fors.'!F98+'Storebrand Livsforsikring'!F98+'Telenor Forsikring'!F98+'Tryg Forsikring'!F98+'WaterCircles F'!F98+'Euro Accident'!F98+'Ly Forsikring'!F98+'Youplus Livsforsikring'!F98+'Oslo Forsikring'!F98+'Knif Trygghet Forsikring'!F98 -> 6.5471322e+08 | F98: =Fremtind!G98+'DNB Livsforsikring'!G98+'Frende Livsforsikring'!G98+'Frende Skadeforsikring'!G98+'Gjensidige Forsikring'!G98+'Gjensidige Pensjon'!G98+'If Skadeforsikring NUF'!G98+KLP!G98+'KLP Skadeforsikring AS'!G98+'Landkreditt Forsikring AS'!G98+'Nordea Liv '!G98+'Oslo Pensjonsforsikring'!G98+'Protector Forsikring'!G98+'Sparebank 1 Fors.'!G98+'Storebrand Livsforsikring'!G98+'Telenor Forsikring'!G98+'Tryg Forsikring'!G98+'WaterCircles F'!G98+'Euro Accident'!G98+'Ly Forsikring'!G98+'Youplus Livsforsikring'!G98+'Oslo Forsikring'!G98+'Knif Trygghet Forsikring'!G98 -> 7.8149128e+08 | G98: =IF(E98=0, " ---- ", IF(ABS(ROUND(100/E98*F98-100,1))<999,ROUND(100/E98*F98-100,1),IF(ROUND(100/E98*F98-100,1)>999,999,-999))) -> 19.4 | H98: =SUM(B98,E98) -> 1.0371651e+09 | I98: =SUM(C98,F98) -> 1.1681367e+09 | J98: =IF(H98=0, " ---- ", IF(ABS(ROUND(100/H98*I98-100,1))<999,ROUND(100/H98*I98-100,1),IF(ROUND(100/H98*I98-100,1)>999,999,-999))) -> 12.6
A99: Ytelsesbasert | B99: =Fremtind!B99+'DNB Livsforsikring'!B99+'Frende Livsforsikring'!B99+'Frende Skadeforsikring'!B99+'Gjensidige Forsikring'!B99+'Gjensidige Pensjon'!B99+'If Skadeforsikring NUF'!B99+KLP!B99+'KLP Skadeforsikring AS'!B99+'Landkreditt Forsikring AS'!B99+'Nordea Liv '!B99+'Oslo Pensjonsforsikring'!B99+'Protector Forsikring'!B99+'Sparebank 1 Fors.'!B99+'Storebrand Livsforsikring'!B99+'Telenor Forsikring'!B99+'Tryg Forsikring'!B99+'WaterCircles F'!B99+'Euro Accident'!B99+'Ly Forsikring'!B99+'Youplus Livsforsikring'!B99+'Oslo Forsikring'!B99+'Knif Trygghet Forsikring'!B99 -> 3.8008268e+08 | C99: =Fremtind!C99+'DNB Livsforsikring'!C99+'Frende Livsforsikring'!C99+'Frende Skadeforsikring'!C99+'Gjensidige Forsikring'!C99+'Gjensidige Pensjon'!C99+'If Skadeforsikring NUF'!C99+KLP!C99+'KLP Skadeforsikring AS'!C99+'Landkreditt Forsikring AS'!C99+'Nordea Liv '!C99+'Oslo Pensjonsforsikring'!C99+'Protector Forsikring'!C99+'Sparebank 1 Fors.'!C99+'Storebrand Livsforsikring'!C99+'Telenor Forsikring'!C99+'Tryg Forsikring'!C99+'WaterCircles F'!C99+'Euro Accident'!C99+'Ly Forsikring'!C99+'Youplus Livsforsikring'!C99+'Oslo Forsikring'!C99+'Knif Trygghet Forsikring'!C99 -> 3.8240958e+08 | D99: =IF(B99=0, " ---- ", IF(ABS(ROUND(100/B99*C99-100,1))<999,ROUND(100/B99*C99-100,1),IF(ROUND(100/B99*C99-100,1)>999,999,-999))) -> 0.6 | H99: =SUM(B99,E99) -> 3.8008268e+08 | I99: =SUM(C99,F99) -> 3.8240958e+08 | J99: =IF(H99=0, " ---- ", IF(ABS(ROUND(100/H99*I99-100,1))<999,ROUND(100/H99*I99-100,1),IF(ROUND(100/H99*I99-100,1)>999,999,-999))) -> 0.6
A100: Innskuddsbasert (inkl. EPK) | B100: =Fremtind!B100+'DNB Livsforsikring'!B100+'Frende Livsforsikring'!B100+'Frende Skadeforsikring'!B100+'Gjensidige Forsikring'!B100+'Gjensidige Pensjon'!B100+'If Skadeforsikring NUF'!B100+KLP!B100+'KLP Skadeforsikring AS'!B100+'Landkreditt Forsikring AS'!B100+'Nordea Liv '!B100+'Oslo Pensjonsforsikring'!B100+'Protector Forsikring'!B100+'Sparebank 1 Fors.'!B100+'Storebrand Livsforsikring'!B100+'Telenor Forsikring'!B100+'Tryg Forsikring'!B100+'WaterCircles F'!B100+'Euro Accident'!B100+'Ly Forsikring'!B100+'Youplus Livsforsikring'!B100+'Oslo Forsikring'!B100+'Knif Trygghet Forsikring'!B100 -> 2369244.5 | C100: =Fremtind!C100+'DNB Livsforsikring'!C100+'Frende Livsforsikring'!C100+'Frende Skadeforsikring'!C100+'Gjensidige Forsikring'!C100+'Gjensidige Pensjon'!C100+'If Skadeforsikring NUF'!C100+KLP!C100+'KLP Skadeforsikring AS'!C100+'Landkreditt Forsikring AS'!C100+'Nordea Liv '!C100+'Oslo Pensjonsforsikring'!C100+'Protector Forsikring'!C100+'Sparebank 1 Fors.'!C100+'Storebrand Livsforsikring'!C100+'Telenor Forsikring'!C100+'Tryg Forsikring'!C100+'WaterCircles F'!C100+'Euro Accident'!C100+'Ly Forsikring'!C100+'Youplus Livsforsikring'!C100+'Oslo Forsikring'!C100+'Knif Trygghet Forsikring'!C100 -> 4235867.1 | D100: =IF(B100=0, " ---- ", IF(ABS(ROUND(100/B100*C100-100,1))<999,ROUND(100/B100*C100-100,1),IF(ROUND(100/B100*C100-100,1)>999,999,-999))) -> 78.8 | E100: =Fremtind!F100+'DNB Livsforsikring'!F100+'Frende Livsforsikring'!F100+'Frende Skadeforsikring'!F100+'Gjensidige Forsikring'!F100+'Gjensidige Pensjon'!F100+'If Skadeforsikring NUF'!F100+KLP!F100+'KLP Skadeforsikring AS'!F100+'Landkreditt Forsikring AS'!F100+'Nordea Liv '!F100+'Oslo Pensjonsforsikring'!F100+'Protector Forsikring'!F100+'Sparebank 1 Fors.'!F100+'Storebrand Livsforsikring'!F100+'Telenor Forsikring'!F100+'Tryg Forsikring'!F100+'WaterCircles F'!F100+'Euro Accident'!F100+'Ly Forsikring'!F100+'Youplus Livsforsikring'!F100+'Oslo Forsikring'!F100+'Knif Trygghet Forsikring'!F100 -> 6.5471322e+08 | F100: =Fremtind!G100+'DNB Livsforsikring'!G100+'Frende Livsforsikring'!G100+'Frende Skadeforsikring'!G100+'Gjensidige Forsikring'!G100+'Gjensidige Pensjon'!G100+'If Skadeforsikring NUF'!G100+KLP!G100+'KLP Skadeforsikring AS'!G100+'Landkreditt Forsikring AS'!G100+'Nordea Liv '!G100+'Oslo Pensjonsforsikring'!G100+'Protector Forsikring'!G100+'Sparebank 1 Fors.'!G100+'Storebrand Livsforsikring'!G100+'Telenor Forsikring'!G100+'Tryg Forsikring'!G100+'WaterCircles F'!G100+'Euro Accident'!G100+'Ly Forsikring'!G100+'Youplus Livsforsikring'!G100+'Oslo Forsikring'!G100+'Knif Trygghet Forsikring'!G100 -> 7.8149128e+08 | G100: =IF(E100=0, " ---- ", IF(ABS(ROUND(100/E100*F100-100,1))<999,ROUND(100/E100*F100-100,1),IF(ROUND(100/E100*F100-100,1)>999,999,-999))) -> 19.4 | H100: =SUM(B100,E100) -> 6.5708247e+08 | I100: =SUM(C100,F100) -> 7.8572715e+08 | J100: =IF(H100=0, " ---- ", IF(ABS(ROUND(100/H100*I100-100,1))<999,ROUND(100/H100*I100-100,1),IF(ROUND(100/H100*I100-100,1)>999,999,-999))) -> 19.6
A101: Engangsbetalt 11
A102: Inv.valg foretak
A103: Inv.valg kontohaver
A104: Innskuddspensjon 12
A105: Inv.valg foretak
A106: Inv.valg kontohaver
